{"text_format":"1","workbook":"xlsx","n_sheets":8,"sheets":["作成要領","第１面","別紙（共同住宅のみ）","別紙解説","ZEH等チェック（戸建てのみ）","更新履歴","master","別紙mast"],"not_rendered":{"charts":0,"images":5,"macros":1,"external_links":1,"defined_names":18,"comments":2,"pivot_tables":0},"unopened":[],"bounds":{"document_bytes":16777216,"sheet_cells":100000,"rows_first":2000,"rows_last":500,"rows_between":2000,"halvings":0,"cell_chars":16384,"cell_head_chars":4096},"cells_cut":0,"cells_raw":0,"read":"whole","date_system":"1900"}

{"sheet":"作成要領","index":0,"n_rows":26,"n_cols":5,"rows_kept":26,"cut":false,"hidden":false,"merged":[[25,2,25,10],[12,4,13,10],[3,8,3,11],[23,2,23,10],[24,2,24,10]]}
[]
[]
[]
[null,"　　－「設計内容説明書」作成ツールについて－　　　"]
[]
[null,null,"１．設計内容説明書"]
[null,null,"１）一戸建ての住宅、共同住宅等 及び 複合建築物の住宅部分 を対象にした設計内容説明書です。"]
[]
[null,null,"２．入力について"]
[null,null,"　★共通事項"]
[null,null,"●","黄色ｾﾙ","　は、文字や数値を直接入力します。"]
[null,null,"●","青色ｾﾙ","　は、原則として、プルダウンメニューから選択します。直接入力も可能です｡"]
[null,null,"●","黄緑セル","　は、住戸の「一次エネルギー消費量計算結果(住宅版)」（PDF) または、\n　　共用部の「エネルギー消費性能計算プログラム(非住宅版)標準入力法」（PDF)の結果を貼付けるセルです。\n　　※貼付け方法については、「別紙解説」を参照ください。"]
[]
[null,null,"●","プルダウンメニューに適当な文字や数値がない場合は、セルに直接入力してください。"]
[null,null,"●","灰色のセルは入力不要です"]
[null,null,"●","設計の内容を示す数値や仕様の他、それらが示されている「記載図書」も必ず入力してください。"]
[]
[null,null,"３．提出について"]
[null,null,null,"申請対象の用途に応じて必要な資料を提出してください。"]
[]
[]
[null,null,"４．その他"]
[null,null,"※　本ツールの使用に起因する一切の不利益に関して、ハウスプラス住宅保証(株)はその責任を負いません。\n　　使用者の責任においてご活用ください。　　　"]
[null,null,"※　本ツールは、ハウスプラス住宅保証(株)にBELLSの申請することを目的に作成しています。\n　　上記の目的以外に当社の許可なく、本ツールを複写または加工し、一般に公開または配布することを禁じます。"]
[null,null,"※　本シート(別紙）の集計結果と評価書に相違が生じる場合がございます。\n　　本シートの集計結果と評価書に相違が生じる場合は、評価書の内容は優先されます。"]

{"sheet":"第１面","index":1,"n_rows":63,"n_cols":40,"rows_kept":63,"cut":false,"hidden":false,"merged":[[60,4,62,10],[42,4,43,10],[45,4,46,10],[48,4,49,10],[51,4,52,10],[54,4,55,10],[57,4,59,10],[28,4,28,34],[29,4,30,10],[31,4,33,10],[32,12,33,14],[34,1,40,3],[38,16,38,27],[39,4,39,34],[40,4,41,10],[24,4,27,10],[6,29,6,32],[6,36,6,39],[7,1,13,3],[7,4,8,10],[7,12,7,16],[9,4,11,10],[12,4,13,10],[12,12,12,17],[12,19,12,24],[13,17,13,27],[14,1,21,3],[18,16,18,27],[19,4,19,34],[20,4,20,10],[22,4,23,10],[2,1,2,5],[2,6,2,34],[3,1,3,5],[3,6,3,34],[5,1,6,3],[5,4,6,6],[5,7,5,32],[5,33,6,34],[6,7,6,10],[6,11,6,28]]}
[]
[null,"設計内容説明書",null,null,null,null,null,null,null,null,null,null,null,null,null,null,null,null,null,null,null,null,null,null,null,null,null,null,null,null,null,null,null,null,"※欄は設計者等が確認･記載する欄です"]
[null,"住宅の名称※"]
[null,"設計者の氏名※"]
[]
[null,"確認事項",null,null,"確認\n項目※",null,null,"設計内容説明欄※",null,null,null,null,null,null,null,null,null,null,null,null,null,null,null,null,null,null,null,null,null,null,null,null,null,"確認欄"]
[null,null,null,null,null,null,null,"項目",null,null,null,null,null,null,null,null,null,null,null,null,null,null,null,null,null,null,null,null,null,"記載図書",null,null,null,null,null,null,"地域の区分"]
[null,"建物等の概要",null,null,"地域の区分",null,null,null,null,null,null,null,null,null,null,null,null,null,null,null,null,null,null,null,null,null,null,null,null,"□","案内図",null,null,null,null,null,{"$f":"IF(M8=\"■\",1,0)","v":0},{"$f":"IF(P8=\"■\",2,0)","v":0},{"$f":"IF(T8=\"■\",3,0)","v":0},{"$f":"IF(X8=\"■\",4,0)","v":0}]
[null,null,null,null,null,null,null,null,null,null,null,null,null,null,null,null,null,null,null,null,null,null,null,null,null,null,null,null,null,"□","仕様書・仕上表",null,null,null,null,null,{"$f":"IF(L9=\"■\",5,0)","v":0},{"$f":"IF(P9=\"■\",6,0)","v":0},{"$f":"IF(T9=\"■\",7,0)","v":0},{"$f":"IF(X9=\"■\",8,0)","v":0}]
[null,null,null,null,"共用部\n※共同住宅で共用部が存する場合のみ選択",null,null,null,null,null,null,"□","計算対象外",null,null,null,null,null,null,null,null,null,null,null,null,null,null,null,null,"□"]
[null,null,null,null,null,null,null,null,null,null,null,"□","計算対象",null,null,null,null,null,null,null,null,null,null,null,null,null,null,null,null,"□"]
[null,null,null,null,null,null,null,null,null,null,null,null,null,null,null,null,null,null,null,null,null,null,null,null,null,null,null,null,null,"□"]
[null,null,null,null,"構造",null,null,null,null,null,null,null,null,null,null,null,null,null,null,null,null,null,null,null,null,null,null,null,null,"□"]
[null,null,null,null,null,null,null,null,null,null,null,null,"その他の場合",null,null,null,"（",null,null,null,null,null,null,null,null,null,null,null,"）","□"]
[null,"外皮の概要",null,null,"評価手法等",null,null,null,null,null,null,"□","性能基準（計算）",null,null,null,null,null,null,null,null,null,null,null,null,null,null,null,null,"□","仕様書"]
[null,null,null,null,null,null,null,null,null,null,null,"□","仕様基準",null,null,null,null,null,null,null,null,null,null,null,null,null,null,null,null,"□"]
[null,null,null,null,null,null,null,null,null,null,null,"□","誘導仕様基準",null,null,null,null,null,null,null,null,null,null,null,null,null,null,null,null,"□"]
[null,null,null,null,null,null,null,null,null,null,null,"□","その他（共同住宅等の場合）",null,null,null,null,null,null,null,null,null,null,null,null,null,null,null,null,"□"]
[null,null,null,null,null,null,null,null,null,null,null,null,"その他の場合（",null,null,null,null,null,null,null,null,null,null,null,null,null,null,null,"）","□"]
[null,null,null,null,"外皮性能基準（計算）"]
[null,null,null,null,"外皮平均熱貫流率",null,null,null,null,null,null,"・","外皮平均熱貫流率（UA値）",null,null,null,null,null,null,null,null,null,null,null,null,null,null,null,null,"□","外皮計算書"]
[null,null,null,null,null,null,null,null,null,null,null,null,null,"設計値",null,{"$f":"IF(L15=\"■\",\"■\",\"□\")","v":"□"},"UA値計算書による",null,null,null,null,null,null,null,null,null,null,null,null,"□","仕様書・仕上表"]
[null,null,null,null,"平均日射熱取得率\n（冷房期）",null,null,null,null,null,null,"・","冷房期の平均日射熱取得率（ηAC値）",null,null,null,null,null,null,null,null,null,null,null,null,null,null,null,null,"□","平面図"]
[null,null,null,null,null,null,null,null,null,null,null,null,null,"設計値",null,{"$f":"IF(L15=\"■\",\"■\",\"□\")","v":"□"},"ηAC値計算書による",null,null,null,null,null,null,null,null,null,null,null,null,"□","矩計図"]
[null,null,null,null,"住戸間の温度差係数\n※共同住宅等の場合のみ",null,null,null,null,null,null,"・住戸間の温度差係数",null,null,null,null,null,null,null,null,null,null,null,null,null,null,null,null,null,"□","部位詳細図"]
[null,null,null,null,null,null,null,null,null,null,null,null,"□","「0.05 または 0.15」を適用する",null,null,null,null,null,null,null,null,null,null,null,null,null,null,null,"□"]
[null,null,null,null,null,null,null,null,null,null,null,null,"□","「0.0」を適用する",null,null,null,null,null,null,null,null,null,null,null,null,null,null,null,"□"]
[]
[null,null,null,null,"仕様基準 または 誘導仕様基準"]
[null,null,null,null,"躯体の断熱性能等",null,null,null,null,null,null,"□","熱貫流率の基準に適合",null,null,null,null,null,null,null,null,null,null,null,null,null,null,null,null,"□","仕様書"]
[null,null,null,null,null,null,null,null,null,null,null,"□","断熱材の熱抵抗値の基準に適合",null,null,null,null,null,null,null,null,null,null,null,null,null,null,null,null,"□","平面図"]
[null,null,null,null,"開口部の断熱性能等",null,null,null,null,null,null,"□","開口部の断熱性能等の基準に適合",null,null,null,null,null,null,null,null,null,null,null,null,null,null,null,null,"□","矩計図"]
[null,null,null,null,null,null,null,null,null,null,null,null,"緩和措置",null,null,"□","２％緩和適用（窓のみ対象）",null,null,null,null,null,null,null,null,null,null,null,null,"□","部位詳細図"]
[null,null,null,null,null,null,null,null,null,null,null,null,null,null,null,"□","４％緩和適用（天窓以外の窓のみ対象）",null,null,null,null,null,null,null,null,null,null,null,null,"□"]
[null,"設備の概要",null,null,"評価手法等",null,null,null,null,null,null,"□","性能基準（計算）",null,null,null,null,null,null,null,null,null,null,null,null,null,null,null,null,"□","計算書"]
[null,null,null,null,null,null,null,null,null,null,null,"□","仕様基準",null,null,null,null,null,null,null,null,null,null,null,null,null,null,null,null,"□"]
[null,null,null,null,null,null,null,null,null,null,null,"□","誘導仕様基準",null,null,null,null,null,null,null,null,null,null,null,null,null,null,null,null,"□"]
[null,null,null,null,null,null,null,null,null,null,null,"□","その他（共同住宅等の場合）",null,null,null,null,null,null,null,null,null,null,null,null,null,null,null,null,"□"]
[null,null,null,null,null,null,null,null,null,null,null,null,"その他の場合（",null,null,null,null,null,null,null,null,null,null,null,null,null,null,null,"）","□"]
[null,null,null,null,"一次エネルギー消費量性能基準（計算）"]
[null,null,null,null,"床面積",null,null,null,null,null,null,{"$f":"IF(L35=\"■\",\"■\",\"□\")","v":"□"},"一次エネルギー消費量計算結果表による",null,null,null,null,null,null,null,null,null,null,null,null,null,null,null,null,"□","床面積算定表"]
[null,null,null,null,null,null,null,null,null,null,null,null,null,null,null,null,null,null,null,null,null,null,null,null,null,null,null,null,null,"□","各階平面図"]
[null,null,null,null,"外皮の性能値",null,null,null,null,null,null,{"$f":"IF(L35=\"■\",\"■\",\"□\")","v":"□"},"一次エネルギー消費量計算結果表による",null,null,null,null,null,null,null,null,null,null,null,null,null,null,null,null,"□","計算書"]
[null,null,null,null,null,null,null,null,null,null,null,null,null,null,null,null,null,null,null,null,null,null,null,null,null,null,null,null,null,"□","仕様書"]
[null,null,null,null,null,null,null,null,null,null,null,null,null,null,null,null,null,null,null,null,null,null,null,null,null,null,null,null,null,"□"]
[null,null,null,null,"空気調和設備",null,null,null,null,null,null,{"$f":"IF(L35=\"■\",\"■\",\"□\")","v":"□"},"一次エネルギー消費量計算結果表による",null,null,null,null,null,null,null,null,null,null,null,null,null,null,null,null,"□","計算書"]
[null,null,null,null,null,null,null,null,null,null,null,null,null,null,null,null,null,null,null,null,null,null,null,null,null,null,null,null,null,"□","仕様書"]
[null,null,null,null,null,null,null,null,null,null,null,null,null,null,null,null,null,null,null,null,null,null,null,null,null,null,null,null,null,"□"]
[null,null,null,null,"空気調和設備以外の機械換気設備",null,null,null,null,null,null,{"$f":"IF(L35=\"■\",\"■\",\"□\")","v":"□"},"一次エネルギー消費量計算結果表による",null,null,null,null,null,null,null,null,null,null,null,null,null,null,null,null,"□","計算書"]
[null,null,null,null,null,null,null,null,null,null,null,null,null,null,null,null,null,null,null,null,null,null,null,null,null,null,null,null,null,"□","仕様書"]
[null,null,null,null,null,null,null,null,null,null,null,null,null,null,null,null,null,null,null,null,null,null,null,null,null,null,null,null,null,"□"]
[null,null,null,null,"換気設備",null,null,null,null,null,null,{"$f":"IF(L35=\"■\",\"■\",\"□\")","v":"□"},"一次エネルギー消費量計算結果表による",null,null,null,null,null,null,null,null,null,null,null,null,null,null,null,null,"□","計算書"]
[null,null,null,null,null,null,null,null,null,null,null,null,null,null,null,null,null,null,null,null,null,null,null,null,null,null,null,null,null,"□","仕様書"]
[null,null,null,null,null,null,null,null,null,null,null,null,null,null,null,null,null,null,null,null,null,null,null,null,null,null,null,null,null,"□"]
[null,null,null,null,"給湯設備",null,null,null,null,null,null,{"$f":"IF(L35=\"■\",\"■\",\"□\")","v":"□"},"一次エネルギー消費量計算結果表による",null,null,null,null,null,null,null,null,null,null,null,null,null,null,null,null,"□","計算書"]
[null,null,null,null,null,null,null,null,null,null,null,null,null,null,null,null,null,null,null,null,null,null,null,null,null,null,null,null,null,"□","仕様書"]
[null,null,null,null,null,null,null,null,null,null,null,null,null,null,null,null,null,null,null,null,null,null,null,null,null,null,null,null,null,"□"]
[null,null,null,null,"照明設備",null,null,null,null,null,null,{"$f":"IF(L35=\"■\",\"■\",\"□\")","v":"□"},"一次エネルギー消費量計算結果表による",null,null,null,null,null,null,null,null,null,null,null,null,null,null,null,null,"□","計算書"]
[null,null,null,null,null,null,null,null,null,null,null,null,null,null,null,null,null,null,null,null,null,null,null,null,null,null,null,null,null,"□","仕様書"]
[null,null,null,null,null,null,null,null,null,null,null,null,null,null,null,null,null,null,null,null,null,null,null,null,null,null,null,null,null,"□"]
[null,null,null,null,"空気調和設備以外のエネルギー消費性能の確保に資する建築設備",null,null,null,null,null,null,{"$f":"IF(L35=\"■\",\"■\",\"□\")","v":"□"},"一次エネルギー消費量計算結果表による",null,null,null,null,null,null,null,null,null,null,null,null,null,null,null,null,"□","計算書"]
[null,null,null,null,null,null,null,null,null,null,null,null,null,null,null,null,null,null,null,null,null,null,null,null,null,null,null,null,null,"□","各階平面図"]
[null,null,null,null,null,null,null,null,null,null,null,null,null,null,null,null,null,null,null,null,null,null,null,null,null,null,null,null,null,"□","仕様書・仕上表"]

{"sheet":"別紙（共同住宅のみ）","index":2,"n_rows":232,"n_cols":125,"rows_kept":232,"cut":false,"hidden":false,"merged":[[0,111,0,112],[7,20,7,28],[8,20,8,28],[9,21,9,28],[10,21,10,28],[6,29,6,33],[7,29,7,33],[8,29,8,33],[9,29,9,33],[10,29,10,33],[9,20,12,20],[2,29,2,33],[2,20,2,28],[3,20,3,28],[5,20,5,28],[5,29,5,33],[1,20,1,33],[2,34,2,41],[3,34,4,36],[3,90,3,91],[6,108,6,109],[5,71,6,71],[5,108,5,109],[9,56,9,63],[9,64,10,65],[9,67,9,68],[10,62,10,63],[8,64,8,66],[8,67,8,68],[8,108,8,109],[3,52,3,53],[11,46,11,47],[16,108,16,109],[0,106,0,107],[0,108,0,110],[1,1,2,5],[1,108,4,108],[4,1,4,5],[4,9,4,10],[4,38,4,41],[4,46,4,51],[4,52,4,53],[4,62,4,63],[3,54,4,55],[3,56,4,60],[3,62,3,63],[3,64,4,65],[3,66,3,68],[4,66,4,68],[2,42,2,55],[2,56,2,63],[3,1,3,5],[3,9,3,10],[3,38,3,41],[3,42,4,45],[3,46,3,51],[1,72,15,74],[8,42,8,47],[8,48,8,51],[8,52,8,53],[9,42,10,45],[9,46,9,47],[9,48,9,51],[11,42,12,45],[11,48,11,51],[11,52,11,53],[12,34,12,41],[4,20,4,33],[17,3,29,3],[17,2,29,2],[21,76,28,76],[21,77,28,77],[21,78,28,78],[6,1,6,5],[6,6,6,8],[6,10,6,19],[6,38,6,41],[6,46,6,51],[5,52,5,53],[5,54,6,55],[5,56,6,60],[5,62,5,63],[5,64,6,65],[5,66,5,68],[6,52,6,53],[6,62,6,63],[6,66,6,68],[5,1,5,5],[5,6,5,19],[5,38,5,41],[5,42,6,45],[5,46,5,51],[6,20,6,28],[7,56,8,60],[7,62,7,63],[10,54,10,55],[7,108,7,109],[9,108,9,109],[10,38,10,41],[10,46,10,47],[10,48,10,51],[9,52,9,53],[7,64,7,71],[7,38,7,41],[7,42,7,55],[9,54,9,55],[8,38,8,41],[11,108,12,108],[12,1,15,5],[12,46,12,47],[12,48,12,51],[12,52,12,53],[12,54,12,55],[12,56,12,63],[11,54,11,55],[11,56,11,61],[11,62,11,63],[11,64,12,65],[11,67,11,68],[12,67,12,68],[10,108,10,109],[11,1,11,5],[11,6,11,12],[11,13,11,19],[11,38,11,41],[13,20,15,33],[15,69,15,71],[10,52,10,53],[10,56,10,61],[15,108,15,109],[7,1,10,5],[10,67,10,68],[8,54,8,55],[8,62,8,63],[16,145,16,150],[16,151,17,152],[17,6,29,8],[17,9,29,10],[17,15,18,28],[17,29,18,39],[17,40,23,44],[17,45,18,51],[17,52,18,60],[16,120,16,129],[16,130,16,134],[16,135,17,138],[16,139,16,144],[17,139,17,144],[14,64,14,68],[15,7,15,19],[15,38,15,41],[15,42,15,51],[15,52,15,55],[15,56,15,61],[15,62,15,63],[15,64,15,68],[8,69,8,70],[14,7,14,19],[14,38,14,41],[14,42,14,51],[14,52,14,55],[14,56,14,61],[14,62,14,63],[13,38,13,41],[17,145,17,150],[17,120,17,129],[17,130,17,134],[19,67,29,67],[19,68,29,68],[19,71,29,71],[19,72,29,72],[21,108,22,108],[23,90,29,90],[23,91,29,91],[23,92,29,92],[23,93,29,93],[21,29,23,37],[19,108,19,109],[20,61,29,61],[20,62,29,62],[20,63,29,63],[20,64,29,64],[20,65,29,65],[20,66,29,66],[23,88,29,88],[24,89,29,89],[19,82,19,89],[20,86,22,89],[14,69,14,71],[20,108,20,109],[19,90,22,95],[23,108,24,108],[23,104,29,104],[23,101,29,101],[18,12,20,12],[19,15,23,21],[19,22,23,28],[19,29,20,37],[19,38,23,39],[19,45,23,47],[19,48,23,51],[19,52,29,52],[19,53,29,53],[17,61,18,66],[17,67,18,72],[17,73,29,73],[17,74,29,74],[25,34,29,34],[25,35,29,35],[25,37,29,37],[24,24,26,24],[24,25,29,25],[19,54,29,54],[19,55,29,55],[19,56,29,56],[19,57,29,57],[24,17,26,17],[24,18,29,18],[24,19,29,21],[24,22,26,22],[24,23,26,23],[23,97,29,97],[23,99,29,99],[23,100,29,100],[23,103,29,103],[23,94,29,94],[23,95,29,95],[23,98,29,98],[24,38,26,38],[24,39,26,39],[20,82,22,85],[24,44,29,44],[24,45,26,45],[24,41,26,41],[23,82,29,82],[32,58,32,59],[23,83,29,83],[23,84,29,84],[23,85,29,85],[23,86,29,86],[23,87,29,87],[30,58,30,59],[25,51,29,51],[19,58,29,59],[19,60,29,60],[23,102,29,102],[20,98,22,102],[25,50,29,50],[23,96,29,96],[21,79,28,79],[21,80,28,80],[31,6,31,8],[31,9,31,10],[31,11,31,14],[31,19,31,21],[31,26,31,28],[31,40,31,43],[30,6,30,8],[30,9,30,10],[30,11,30,14],[30,19,30,21],[30,26,30,28],[30,40,30,43],[23,11,29,14],[24,47,26,47],[24,48,26,48],[24,49,26,49],[25,31,29,31],[25,32,29,32],[25,33,29,33],[24,46,26,46],[29,40,29,43],[24,16,26,16],[34,58,34,59],[35,6,35,8],[35,9,35,10],[35,11,35,14],[35,19,35,21],[35,26,35,28],[35,40,35,43],[24,26,29,28],[24,29,26,29],[24,30,26,30],[24,36,29,36],[24,15,26,15],[33,40,33,43],[33,58,33,59],[34,6,34,8],[34,9,34,10],[34,11,34,14],[34,19,34,21],[34,26,34,28],[34,40,34,43],[33,6,33,8],[33,9,33,10],[33,11,33,14],[33,19,33,21],[33,26,33,28],[31,58,31,59],[32,6,32,8],[32,9,32,10],[32,11,32,14],[32,19,32,21],[32,26,32,28],[32,40,32,43],[37,40,37,43],[37,58,37,59],[38,6,38,8],[38,9,38,10],[38,11,38,14],[38,19,38,21],[38,26,38,28],[38,40,38,43],[37,6,37,8],[37,9,37,10],[37,11,37,14],[37,19,37,21],[37,26,37,28],[35,58,35,59],[36,6,36,8],[36,9,36,10],[36,11,36,14],[36,19,36,21],[36,26,36,28],[36,40,36,43],[36,58,36,59],[39,58,39,59],[40,6,40,8],[40,9,40,10],[40,11,40,14],[40,19,40,21],[40,26,40,28],[40,40,40,43],[40,58,40,59],[38,58,38,59],[39,6,39,8],[39,9,39,10],[39,11,39,14],[39,19,39,21],[39,26,39,28],[39,40,39,43],[42,58,42,59],[43,6,43,8],[43,9,43,10],[43,11,43,14],[43,19,43,21],[43,26,43,28],[43,40,43,43],[41,40,41,43],[41,58,41,59],[42,6,42,8],[42,9,42,10],[42,11,42,14],[42,19,42,21],[42,26,42,28],[42,40,42,43],[41,6,41,8],[41,9,41,10],[41,11,41,14],[41,19,41,21],[41,26,41,28],[45,40,45,43],[45,58,45,59],[46,6,46,8],[46,9,46,10],[46,11,46,14],[46,19,46,21],[46,26,46,28],[46,40,46,43],[45,6,45,8],[45,9,45,10],[45,11,45,14],[45,19,45,21],[45,26,45,28],[43,58,43,59],[44,6,44,8],[44,9,44,10],[44,11,44,14],[44,19,44,21],[44,26,44,28],[44,40,44,43],[44,58,44,59],[47,58,47,59],[48,6,48,8],[48,9,48,10],[48,11,48,14],[48,19,48,21],[48,26,48,28],[48,40,48,43],[48,58,48,59],[46,58,46,59],[47,6,47,8],[47,9,47,10],[47,11,47,14],[47,19,47,21],[47,26,47,28],[47,40,47,43],[50,58,50,59],[51,6,51,8],[51,9,51,10],[51,11,51,14],[51,19,51,21],[51,26,51,28],[51,40,51,43],[49,40,49,43],[49,58,49,59],[50,6,50,8],[50,9,50,10],[50,11,50,14],[50,19,50,21],[50,26,50,28],[50,40,50,43],[49,6,49,8],[49,9,49,10],[49,11,49,14],[49,19,49,21],[49,26,49,28],[53,40,53,43],[53,58,53,59],[54,6,54,8],[54,9,54,10],[54,11,54,14],[54,19,54,21],[54,26,54,28],[54,40,54,43],[53,6,53,8],[53,9,53,10],[53,11,53,14],[53,19,53,21],[53,26,53,28],[51,58,51,59],[52,6,52,8],[52,9,52,10],[52,11,52,14],[52,19,52,21],[52,26,52,28],[52,40,52,43],[52,58,52,59],[55,58,55,59],[56,6,56,8],[56,9,56,10],[56,11,56,14],[56,19,56,21],[56,26,56,28],[56,40,56,43],[56,58,56,59],[54,58,54,59],[55,6,55,8],[55,9,55,10],[55,11,55,14],[55,19,55,21],[55,26,55,28],[55,40,55,43],[58,58,58,59],[59,6,59,8],[59,9,59,10],[59,11,59,14],[59,19,59,21],[59,26,59,28],[59,40,59,43],[57,40,57,43],[57,58,57,59],[58,6,58,8],[58,9,58,10],[58,11,58,14],[58,19,58,21],[58,26,58,28],[58,40,58,43],[57,6,57,8],[57,9,57,10],[57,11,57,14],[57,19,57,21],[57,26,57,28],[61,40,61,43],[61,58,61,59],[62,6,62,8],[62,9,62,10],[62,11,62,14],[62,19,62,21],[62,26,62,28],[62,40,62,43],[61,6,61,8],[61,9,61,10],[61,11,61,14],[61,19,61,21],[61,26,61,28],[59,58,59,59],[60,6,60,8],[60,9,60,10],[60,11,60,14],[60,19,60,21],[60,26,60,28],[60,40,60,43],[60,58,60,59],[63,58,63,59],[64,6,64,8],[64,9,64,10],[64,11,64,14],[64,19,64,21],[64,26,64,28],[64,40,64,43],[64,58,64,59],[62,58,62,59],[63,6,63,8],[63,9,63,10],[63,11,63,14],[63,19,63,21],[63,26,63,28],[63,40,63,43],[66,58,66,59],[67,6,67,8],[67,9,67,10],[67,11,67,14],[67,19,67,21],[67,26,67,28],[67,40,67,43],[65,40,65,43],[65,58,65,59],[66,6,66,8],[66,9,66,10],[66,11,66,14],[66,19,66,21],[66,26,66,28],[66,40,66,43],[65,6,65,8],[65,9,65,10],[65,11,65,14],[65,19,65,21],[65,26,65,28],[69,40,69,43],[69,58,69,59],[70,6,70,8],[70,9,70,10],[70,11,70,14],[70,19,70,21],[70,26,70,28],[70,40,70,43],[69,6,69,8],[69,9,69,10],[69,11,69,14],[69,19,69,21],[69,26,69,28],[67,58,67,59],[68,6,68,8],[68,9,68,10],[68,11,68,14],[68,19,68,21],[68,26,68,28],[68,40,68,43],[68,58,68,59],[71,58,71,59],[72,6,72,8],[72,9,72,10],[72,11,72,14],[72,19,72,21],[72,26,72,28],[72,40,72,43],[72,58,72,59],[70,58,70,59],[71,6,71,8],[71,9,71,10],[71,11,71,14],[71,19,71,21],[71,26,71,28],[71,40,71,43],[74,58,74,59],[75,6,75,8],[75,9,75,10],[75,11,75,14],[75,19,75,21],[75,26,75,28],[75,40,75,43],[73,40,73,43],[73,58,73,59],[74,6,74,8],[74,9,74,10],[74,11,74,14],[74,19,74,21],[74,26,74,28],[74,40,74,43],[73,6,73,8],[73,9,73,10],[73,11,73,14],[73,19,73,21],[73,26,73,28],[77,40,77,43],[77,58,77,59],[78,6,78,8],[78,9,78,10],[78,11,78,14],[78,19,78,21],[78,26,78,28],[78,40,78,43],[77,6,77,8],[77,9,77,10],[77,11,77,14],[77,19,77,21],[77,26,77,28],[75,58,75,59],[76,6,76,8],[76,9,76,10],[76,11,76,14],[76,19,76,21],[76,26,76,28],[76,40,76,43],[76,58,76,59],[79,58,79,59],[80,6,80,8],[80,9,80,10],[80,11,80,14],[80,19,80,21],[80,26,80,28],[80,40,80,43],[80,58,80,59],[78,58,78,59],[79,6,79,8],[79,9,79,10],[79,11,79,14],[79,19,79,21],[79,26,79,28],[79,40,79,43],[82,58,82,59],[83,6,83,8],[83,9,83,10],[83,11,83,14],[83,19,83,21],[83,26,83,28],[83,40,83,43],[81,40,81,43],[81,58,81,59],[82,6,82,8],[82,9,82,10],[82,11,82,14],[82,19,82,21],[82,26,82,28],[82,40,82,43],[81,6,81,8],[81,9,81,10],[81,11,81,14],[81,19,81,21],[81,26,81,28],[85,40,85,43],[85,58,85,59],[86,6,86,8],[86,9,86,10],[86,11,86,14],[86,19,86,21],[86,26,86,28],[86,40,86,43],[85,6,85,8],[85,9,85,10],[85,11,85,14],[85,19,85,21],[85,26,85,28],[83,58,83,59],[84,6,84,8],[84,9,84,10],[84,11,84,14],[84,19,84,21],[84,26,84,28],[84,40,84,43],[84,58,84,59],[87,58,87,59],[88,6,88,8],[88,9,88,10],[88,11,88,14],[88,19,88,21],[88,26,88,28],[88,40,88,43],[88,58,88,59],[86,58,86,59],[87,6,87,8],[87,9,87,10],[87,11,87,14],[87,19,87,21],[87,26,87,28],[87,40,87,43],[90,58,90,59],[91,6,91,8],[91,9,91,10],[91,11,91,14],[91,19,91,21],[91,26,91,28],[91,40,91,43],[89,40,89,43],[89,58,89,59],[90,6,90,8],[90,9,90,10],[90,11,90,14],[90,19,90,21],[90,26,90,28],[90,40,90,43],[89,6,89,8],[89,9,89,10],[89,11,89,14],[89,19,89,21],[89,26,89,28],[93,40,93,43],[93,58,93,59],[94,6,94,8],[94,9,94,10],[94,11,94,14],[94,19,94,21],[94,26,94,28],[94,40,94,43],[93,6,93,8],[93,9,93,10],[93,11,93,14],[93,19,93,21],[93,26,93,28],[91,58,91,59],[92,6,92,8],[92,9,92,10],[92,11,92,14],[92,19,92,21],[92,26,92,28],[92,40,92,43],[92,58,92,59],[95,58,95,59],[96,6,96,8],[96,9,96,10],[96,11,96,14],[96,19,96,21],[96,26,96,28],[96,40,96,43],[96,58,96,59],[94,58,94,59],[95,6,95,8],[95,9,95,10],[95,11,95,14],[95,19,95,21],[95,26,95,28],[95,40,95,43],[98,58,98,59],[99,6,99,8],[99,9,99,10],[99,11,99,14],[99,19,99,21],[99,26,99,28],[99,40,99,43],[97,40,97,43],[97,58,97,59],[98,6,98,8],[98,9,98,10],[98,11,98,14],[98,19,98,21],[98,26,98,28],[98,40,98,43],[97,6,97,8],[97,9,97,10],[97,11,97,14],[97,19,97,21],[97,26,97,28],[101,40,101,43],[101,58,101,59],[102,6,102,8],[102,9,102,10],[102,11,102,14],[102,19,102,21],[102,26,102,28],[102,40,102,43],[101,6,101,8],[101,9,101,10],[101,11,101,14],[101,19,101,21],[101,26,101,28],[99,58,99,59],[100,6,100,8],[100,9,100,10],[100,11,100,14],[100,19,100,21],[100,26,100,28],[100,40,100,43],[100,58,100,59],[103,58,103,59],[104,6,104,8],[104,9,104,10],[104,11,104,14],[104,19,104,21],[104,26,104,28],[104,40,104,43],[104,58,104,59],[102,58,102,59],[103,6,103,8],[103,9,103,10],[103,11,103,14],[103,19,103,21],[103,26,103,28],[103,40,103,43],[106,58,106,59],[107,6,107,8],[107,9,107,10],[107,11,107,14],[107,19,107,21],[107,26,107,28],[107,40,107,43],[105,40,105,43],[105,58,105,59],[106,6,106,8],[106,9,106,10],[106,11,106,14],[106,19,106,21],[106,26,106,28],[106,40,106,43],[105,6,105,8],[105,9,105,10],[105,11,105,14],[105,19,105,21],[105,26,105,28],[109,40,109,43],[109,58,109,59],[110,6,110,8],[110,9,110,10],[110,11,110,14],[110,19,110,21],[110,26,110,28],[110,40,110,43],[109,6,109,8],[109,9,109,10],[109,11,109,14],[109,19,109,21],[109,26,109,28],[107,58,107,59],[108,6,108,8],[108,9,108,10],[108,11,108,14],[108,19,108,21],[108,26,108,28],[108,40,108,43],[108,58,108,59],[111,58,111,59],[112,6,112,8],[112,9,112,10],[112,11,112,14],[112,19,112,21],[112,26,112,28],[112,40,112,43],[112,58,112,59],[110,58,110,59],[111,6,111,8],[111,9,111,10],[111,11,111,14],[111,19,111,21],[111,26,111,28],[111,40,111,43],[114,58,114,59],[115,6,115,8],[115,9,115,10],[115,11,115,14],[115,19,115,21],[115,26,115,28],[115,40,115,43],[113,40,113,43],[113,58,113,59],[114,6,114,8],[114,9,114,10],[114,11,114,14],[114,19,114,21],[114,26,114,28],[114,40,114,43],[113,6,113,8],[113,9,113,10],[113,11,113,14],[113,19,113,21],[113,26,113,28],[117,40,117,43],[117,58,117,59],[118,6,118,8],[118,9,118,10],[118,11,118,14],[118,19,118,21],[118,26,118,28],[118,40,118,43],[117,6,117,8],[117,9,117,10],[117,11,117,14],[117,19,117,21],[117,26,117,28],[115,58,115,59],[116,6,116,8],[116,9,116,10],[116,11,116,14],[116,19,116,21],[116,26,116,28],[116,40,116,43],[116,58,116,59],[119,58,119,59],[120,6,120,8],[120,9,120,10],[120,11,120,14],[120,19,120,21],[120,26,120,28],[120,40,120,43],[120,58,120,59],[118,58,118,59],[119,6,119,8],[119,9,119,10],[119,11,119,14],[119,19,119,21],[119,26,119,28],[119,40,119,43],[122,58,122,59],[123,6,123,8],[123,9,123,10],[123,11,123,14],[123,19,123,21],[123,26,123,28],[123,40,123,43],[121,40,121,43],[121,58,121,59],[122,6,122,8],[122,9,122,10],[122,11,122,14],[122,19,122,21],[122,26,122,28],[122,40,122,43],[121,6,121,8],[121,9,121,10],[121,11,121,14],[121,19,121,21],[121,26,121,28],[125,40,125,43],[125,58,125,59],[126,6,126,8],[126,9,126,10],[126,11,126,14],[126,19,126,21],[126,26,126,28],[126,40,126,43],[125,6,125,8],[125,9,125,10],[125,11,125,14],[125,19,125,21],[125,26,125,28],[123,58,123,59],[124,6,124,8],[124,9,124,10],[124,11,124,14],[124,19,124,21],[124,26,124,28],[124,40,124,43],[124,58,124,59],[127,58,127,59],[128,6,128,8],[128,9,128,10],[128,11,128,14],[128,19,128,21],[128,26,128,28],[128,40,128,43],[128,58,128,59],[126,58,126,59],[127,6,127,8],[127,9,127,10],[127,11,127,14],[127,19,127,21],[127,26,127,28],[127,40,127,43],[130,58,130,59],[131,6,131,8],[131,9,131,10],[131,11,131,14],[131,19,131,21],[131,26,131,28],[131,40,131,43],[129,40,129,43],[129,58,129,59],[130,6,130,8],[130,9,130,10],[130,11,130,14],[130,19,130,21],[130,26,130,28],[130,40,130,43],[129,6,129,8],[129,9,129,10],[129,11,129,14],[129,19,129,21],[129,26,129,28],[133,40,133,43],[133,58,133,59],[134,6,134,8],[134,9,134,10],[134,11,134,14],[134,19,134,21],[134,26,134,28],[134,40,134,43],[133,6,133,8],[133,9,133,10],[133,11,133,14],[133,19,133,21],[133,26,133,28],[131,58,131,59],[132,6,132,8],[132,9,132,10],[132,11,132,14],[132,19,132,21],[132,26,132,28],[132,40,132,43],[132,58,132,59],[135,58,135,59],[136,6,136,8]],"merged_total":1699,"flags":["merged_cut"]}
[null,"BELS　申請書第五面　兼　設計内容（現況）説明書　＜住棟及び住戸評価用＞　（※は必須入力項目です）",null,null,null,null,null,null,null,null,null,null,null,null,null,null,null,null,null,null,null,null,null,null,null,null,null,null,null,null,null,null,null,null,null,null,null,null,null,null,null,null,null,null,null,null,null,null,null,null,null,null,null,null,null,null,null,null,null,null,null,null,null,null,null,null,null,null,null,null,null,null,null,null,null,null,null,null,null,null,null,null,null,null,null,null,null,null,null,null,null,null,null,null,null,null,null,null,null,null,null,null,null,null,null,null,"住宅部分全体の計算式",null,"共用部計算式",null,null,"廊下の形状による判定"]
[null,"住宅の種類 ※",null,null,null,null,"□","共同住宅等の住棟 または 複合建築物の住宅部分全体",null,null,null,null,null,null,null,null,null,null,null,null,"共用部",null,null,null,null,null,null,null,null,null,null,null,null,null,"住宅部分全体",null,null,null,null,null,null,null,null,null,null,null,null,null,null,null,null,null,null,null,null,null,"住棟（住戸部分全体+共用部）",null,null,null,null,null,null,null,null,null,null,null,null,null,null,null,null,null,null,null,null,null,null,null,null,null,null,null,null,null,null,null,null,null,null,null,null,null,null,null,null,null,null,null,null,null,null,null,null,null,"その他の設備　[MJ/年]",{"$f":"IF($CM$31=\"\",\"\",SUM($CM$31:$CM$230))","v":""},"その他除くGJ","(その他除く）設計一次エネ（PV+CGS） [GJ/年]",{"$f":"IF($AD$10=\"\",\"\",$AD$10)","v":""},"共用部再エネ（MJ)",{"$f":"AD6*1000","v":0},null,null,"BELSに関して記載する数値は以下のとおりとします。"]
[null,null,null,null,null,null,"□","共同住宅等 または 複合建築物の住戸",null,null,null,null,null,null,null,null,null,null,null,null,"太陽光発電設備の共有に関して",null,null,null,null,null,null,null,null,null,null,null,null,null,"エネルギー消費性能",null,null,null,null,null,null,null,"一次エネルギー消費性能",null,null,null,null,null,null,null,null,null,null,null,null,null,"エネルギー消費性能",null,null,null,null,null,null,null,"一次エネルギー消費性能",null,null,null,null,null,null,null,null,null,null,null,null,null,null,null,null,null,null,null,null,null,null,null,null,null,null,null,null,null,null,null,null,null,null,null,null,null,null,null,null,null,"設計一次エネ（PV+CGS） [MJ/年]",{"$f":"IF($CN31=\"\",\"\",SUM(CN31:CN230))","v":""},null,"(その他除く）基準一次エネ（PV+CGS） [GJ/年]",{"$f":"IF($AD$11=\"\",\"\",$AD$11)","v":""},"共用部設計一次エネ（MJ)",{"$f":"AD8*1000","v":0},null,null,"ＵＡ　",null,null,null,null,null,null,null,null,"小数第二位未満を切り上げた数値を記載してください。"]
[null,"共用部※",null,null,null,null,"□","対象",null,"□",null,"対象外",null,null,null,null,null,null,null,null,"主たる廊下の形状",null,null,null,null,null,null,null,null,null,null,null,null,null,"再エネなし",null,null,"削減率",{"$f":"IF(C31=\"\",\"\",TRUNC(((1-$AM$5)*100),2))","v":""},null,null,null,"省エネ基準",null,null,null,"設計一次エネ消費量",null,null,null,null,null,{"$f":"IF(C31=\"\",\"\",($DD$14))","v":""},null,{"$f":"IF($BA$4=\"\",\"\",IF($BA$4<=$BA$5,\"達成\",\"非達成\"))","v":""},null,"再エネなし",null,null,null,null,"削減率",{"$f":"IF(C31=\"\",\"\",IF($BK$5=\"\",\"\",TRUNC(((1-$BK$5)*100),2)))","v":""},null,"省エネ基準",null,"設計一次エネ消費量",null,null,{"$f":"IF($G$4=\"□\",\"\",(($DD$14+DG8)))","v":""},null,{"$f":"IF($BR$4=\"\",\"\",IF($BR$4<=$BR$5,\"達成\",\"非達成\"))","v":""},null,null,null,null,null,null,null,null,null,null,null,null,null,null,null,null,null,null,null,null,null,null,null,null,null,null,null,null,null,null,null,null,null,null,"設計一次エネ（CGS） [MJ/年]",{"$f":"IF($CO$31=\"\",\"\",SUM($CO$31:$CO$230))","v":""},null,"(その他除く）設計一次エネ（CGS） [GJ/年]",{"$f":"IF($AD$12=\"\",\"\",$AD$12)","v":""},"共用部判定",{"$f":"IF(AND(AD4=\"大部分が屋内\",AD3=\"共有あり\",$K$32*0.3<=DD11),AD8*0.3,IF(AND(AD4=\"大部分が屋内\",AD3=\"共有あり\",AD8*0.3>DD11),DD11,IF(AND(AD4=\"大部分が屋内\",AD3=\"共有なし\",AD8*0.3<=AD6),AD8*0.3,IF(AND(AD4=\"大部分が屋内\",AD3=\"共有なし\",AD8*0.3>AD6),AD6,0))))","v":0},null,null,"ηＡＣ　",null,null,null,null,null,null,null,null,"小数第一位未満を切り上げた数値を記載してください。"]
[null,"太陽光の有無※",null,null,null,null,"□","有",null,"□",null,"無",null,"(","□","全住戸に設置なし）",null,null,null,null,null,null,null,null,null,null,null,null,null,null,null,null,null,null,null,null,null,"BEI値",{"$f":"IF(G12=\"\",\"\",IF($BJ$31=\"\",\"\",ROUNDUP(($DD$7/$DD$8),2)))","v":""},null,null,null,null,null,null,null,"基準一次エネ消費量",null,null,null,null,null,{"$f":"IF(C31=\"\",\"\",($DD$15))","v":""},null,null,null,null,null,null,null,null,"BEI値",{"$f":"IF($G$4=\"□\",\"\",ROUNDUP((($DD$7+$AD$12)/($DD$8+$AD$11)),2))","v":""},null,null,null,"基準一次エネ消費量",null,null,{"$f":"IF($G$4=\"□\",\"\",(($DD$15+$AD$9)))","v":""},null,null,null,null,null,null,null,null,null,null,null,null,null,null,null,null,null,null,null,null,null,null,null,null,null,null,null,null,null,null,null,null,null,null,null,null,"基準一次エネ [MJ/年]",{"$f":"IF($CP$31=\"\",\"\",SUM($CP$31:$CP$230))","v":""},null,"(その他除く）基準一次エネ（CGS） [GJ/年]",{"$f":"IF(AD13=\"\",\"\",ROUNDUP(AD13,1))","v":""},null,null,null,null,"ＢＥＩ　",null,null,null,null,null,null,null,null,"小数第二位未満を切り上げた数値を記載してください。"]
[null,"住宅の名称 ※",null,null,null,null,{"$f":"IF(第１面!G3=\"\",\"\",第１面!G3)","v":""},null,null,null,null,null,null,null,null,null,null,null,null,null,"太陽光発電(PV)［GJ/年］",null,null,null,null,null,null,null,null,null,null,null,null,null,"再エネあり\n（自家消費分）",null,null,"削減率",{"$f":"IF(C31=\"\",\"\",IF($J$5=\"■\",\"ー\",SUM(1-$AM$7)))","v":""},null,null,null,"誘導基準\n※参考値",null,null,null,"設計一次エネ消費量",null,null,null,null,null,{"$f":"IF(C31=\"\",\"\",($DD$16))","v":""},null,{"$f":"IF($BA$6=\"\",\"\",IF($BA$6<=$BA$7,\"達成\",\"非達成\"))","v":""},null,"再エネあり\n（自家消費分）",null,null,null,null,"削減率",{"$f":"IF($G$4=\"□\",\"\",IF($G$12=\"\",\"\",IF($J$5=\"■\",\"ー\",(1-$BK$7))))","v":""},null,"誘導基準\n※参考値",null,"設計一次エネ消費量",null,null,{"$f":"IF($G$4=\"□\",\"\",(($DD$16+$AD$8)))","v":""},null,{"$f":"IF($BR$6=\"\",\"\",IF($BR$6<=$BR$7,\"達成\",\"非達成\"))","v":""},null,null,null,null,null,null,null,null,null,null,null,null,null,null,null,null,null,null,null,null,null,null,null,null,null,null,null,null,null,null,null,null,null,null,"設計一次エネ（PV +CGS） [GJ/年]　（その他除き）",{"$f":"IF(DD2=\"\",\"\",ROUNDUP(($DD$3-$DD$2)/1000,2))","v":""},"削減量（再エネ除き）",null,{"$f":"SUM(($DG$3+$DD$8)-($DG$4+$DD$7))","v":{"$error":"#VALUE!"}},null,null,null,null,"設計・基準一次エネルギー消費量",null,null,null,null,null,null,null,null,"小数以下一位未満を切り上げた数値を記載してください。 "]
[null,"合計住戸数※",null,null,null,null,{"$f":"IF(J31=\"\",\"\",SUM(J31:K230))","v":""},null,null,"戸",{"$f":"IF(G7=\"\",\"エラー：1.住戸番号の右横の住戸数を入力してください\",\"\")","v":"エラー：1.住戸番号の右横の住戸数を入力してください"},null,null,null,null,null,null,null,null,null,"設計一次エネ（PV+CGS）[GJ/年]",null,null,null,null,null,null,null,null,null,null,null,null,null,null,null,null,"BEI値",{"$f":"IF(C31=\"\",\"\",IF(J5=\"■\",\"ー\",(ROUNDUP($DD$6/$DD$8,2))))","v":""},null,null,null,null,null,null,null,"基準一次エネ消費量",null,null,null,null,null,{"$f":"IF(C31=\"\",\"\",($DD$17))","v":""},null,null,null,null,null,null,null,null,"BEI値",{"$f":"IF(G4=\"□\",\"\",IF(J5=\"■\",\"ー\",(ROUNDUP(($DD$6+DG8)/($DD$8+$AD$11),2))))","v":""},null,null,null,"基準一次エネ消費量",null,null,{"$f":"IF($G$4=\"□\",\"\",($DD$17+$DG$17))","v":""},null,null,null,null,null,null,null,null,null,null,null,null,null,null,null,null,null,null,null,null,null,null,null,null,null,null,null,null,null,null,null,null,null,null,null,null,"設計一次エネ（CGS） [GJ/年]　（その他除き）",{"$f":"IF(DD2=\"\",\"\",ROUNDUP(($DD$4-$DD$2)/1000,2))","v":""},"削減量（再エネ含む）",null,{"$f":"SUM(($DG$3+$DD$8)-($DG$2+$DD$9))","v":{"$error":"#VALUE!"}},null,null,null,null,"削減率",null,null,null,null,null,null,null,null,"1未満の端数があるときは、これを切り捨てた数値を記載してください。"]
[null,"ZEH-M",null,null,null,null,"□","『ZEH-M』",null,null,null,null,null,null,null,null,null,null,null,null,"設計一次エネ（CGS）[GJ/年]",null,null,null,null,null,null,null,null,null,null,null,null,null,"再エネあり\n（自家消費分\n+売電分）",null,null,"削減率",{"$f":"IF(C31=\"\",\"\",IF($J$5=\"■\",\"ー\",TRUNC(($DD$13/$DD$8)*100)))","v":""},null,null,null,"断熱性能",null,null,null,null,null,null,null,null,null,null,null,null,null,"再エネあり\n（自家消費分\n+売電分）",null,null,null,null,"削減率",{"$f":"IF(C31=\"\",\"\",IF($BK$5=\"\",\"\",IF($J$5=\"■\",\"ー\",TRUNC(($DG$7/($DG$3+$DD$8))*100))))","v":""},null,"断熱性能",null,null,null,null,null,null,null,null,null,null,null,null,null,null,null,null,null,null,null,null,null,null,null,null,null,null,null,null,null,null,null,null,null,null,null,null,null,null,null,null,null,"基準一次エネ [GJ/年]　（その他除き）",{"$f":"IF($DD$5=\"\",\"\",ROUNDUP((($DD$5-$DD$2)/1000),2))","v":""},"設計一次エネ（自家消費のみ）",null,{"$f":"AD8+DI4","v":0}]
[null,null,null,null,null,null,"□","ZEH-M　Ready",null,null,null,null,null,null,null,null,null,null,null,null,"基準一次エネ[GJ/年]",null,null,null,null,null,null,null,null,null,null,null,null,null,null,null,null,"BEI値",{"$f":"IF(C31=\"\",\"\",IF($J$5=\"■\",\"ー\",SUM((100-$AM$8)/100)))","v":""},null,null,null,null,null,null,null,null,null,"設計",null,null,null,"基準",null,"判定",null,null,null,null,null,null,"BEI値",{"$f":"IF(G4=\"□\",\"\",IF(C31=\"\",\"\",IF($J$5=\"■\",\"ー\",SUM((100-$BK$8)/100))))","v":""},null,null,null,null,"設計",null,"基準",null,"判定",null,null,null,null,null,null,null,null,null,null,null,null,null,null,null,null,null,null,null,null,null,null,null,null,null,null,null,null,null,null,null,null,null,null,"設計一次エネ（自家消費+売電） [GJ/年]　換算",{"$f":"IF($DD$3=\"\",\"\",ROUNDUP((($DD$3-$DD$2-DD11)/1000),2))","v":""},"省エネ基準｜設計一次［GJ/年］",null,{"$f":"IF(AD7=\"\",\"\",AD7)","v":""}]
[null,null,null,null,null,null,"□","Nearly　ZEH-M",null,null,null,null,null,null,null,null,null,null,null,null,"その他除き","設計一次エネ（省エネ基準）[GJ/年]",null,null,null,null,null,null,null,null,null,null,null,null,"断熱性能",null,null,null,null,null,null,null,"省エネ基準",null,null,null,"UA値",null,{"$f":"IF(C31=\"\",\"\",MAX($BA$31:$BA$230))","v":""},null,null,null,{"$f":"IF(C31=\"\",\"\",HLOOKUP($G$12,別紙mast!$D$4:$K$7,3,FALSE))","v":""},null,{"$f":"IF(OR($BA$10=\"\",$AW$10=\"\"),\"\",IF($AW$10<=$BA$10,\"達成\",\"非達成\"))","v":""},null,"断熱性能",null,null,null,null,null,null,null,"省エネ基準",null,"UA値",{"$f":"IF($G$4=\"□\",\"\",IF($G$13=\"□\",\"\",MAX($BA$31:$BA$230)))","v":""},null,{"$f":"IF($G$4=\"\",\"\",IF(G4=\"■\",HLOOKUP($G$12,別紙mast!$D$4:$K$7,3,FALSE),\"\"))","v":""},null,{"$f":"IF(OR($BR$10=\"\",$BP$10=\"\"),\"\",IF($BP$10=\"\",\"\",IF($BP$10<=$BR$10,\"達成\",\"非達成\")))","v":""},null,null,null,null,null,null,null,null,null,null,null,null,null,null,null,null,null,null,null,null,null,null,null,null,null,null,null,null,null,null,null,null,null,null,"太陽光発電設備（発電量）［MJ］",{"$f":"IF($CQ$31=\"\",\"\",SUM($CQ$31:$CQ$230))","v":""},"誘導基準｜設計一次［GJ/年］",null,{"$f":"IF(AD8=\"\",\"\",AD8)","v":""}]
[null,null,null,null,null,null,"□","ZEH-M　Oriented",null,null,null,null,null,null,null,null,null,null,null,null,null,"基準一次エネ（省エネ基準）[GJ/年]",null,null,null,null,null,null,null,null,null,null,null,null,"　UA値（最低値）",null,null,null,{"$f":"IF(C31=\"\",\"\",MAX($BA$31:$BA$230))","v":""},null,null,null,null,null,null,null,"ηAC値",null,{"$f":"IF(C31=\"\",\"\",MAX($BF$31:$BF$230))","v":""},null,null,null,{"$f":"IF(C31=\"\",\"\",IF($G$13=\"■\",HLOOKUP($G$12,別紙mast!$D$4:$K$7,4,FALSE),\"\"))","v":""},null,{"$f":"IF(OR($BA$11=\"\",$AW$11=\"\"),\"\",IF($AW$11<=$BA$11,\"達成\",\"非達成\"))","v":""},null,"　UA値（最低値）",null,null,null,null,null,{"$f":"IF($G$4=\"□\",\"\",IF($G$13=\"□\",\"\",MAX($BA$31:$BA$230)))","v":""},null,null,null,"ηAC値",{"$f":"IF($G$4=\"□\",\"\",IF($G$13=\"□\",\"\",MAX($BF$31:$BF$230)))","v":""},null,{"$f":"IF($G$12=\"\",\"\",IF(G4=\"■\",HLOOKUP($G$12,別紙mast!$D$4:$K$7,4,FALSE),\"\"))","v":""},null,{"$f":"IF(OR($BR$11=\"\",$BP$11=\"\"),\"\",IF($BP$11=\"\",\"\",IF($BP$11<=$BR$11,\"達成\",\"非達成\")))","v":""},null,null,null,null,null,null,null,null,null,null,null,null,null,null,null,null,null,null,null,null,null,null,null,null,null,null,null,null,null,null,null,null,null,null,"太陽光発電設備（売電量）［MJ］",{"$f":"IF($CR$31=\"\",\"\",SUM($CR$31:$CR$230))","v":""},"基準一次エネ［GJ/年］",null,{"$f":"IF(AD9=\"\",\"\",AD9)","v":""}]
[null,"地域の区分※",null,null,null,null,{"$f":"IF(第１面!M8=\"\",\"\",第１面!M8)","v":""},null,null,null,null,null,null,"※第1面の選択を反映します。",null,null,null,null,null,null,null,"設計一次エネ（誘導基準）[GJ/年]",null,null,null,null,null,null,null,null,null,null,null,null,"　ηAC値（最低値）",null,null,null,{"$f":"IF(C31=\"\",\"\",MAX($BF$31:$BF$230))","v":""},null,null,null,"誘導基準",null,null,null,"UA値",null,{"$f":"IF(C31=\"\",\"\",MAX($BA$31:$BA$230))","v":""},null,null,null,{"$f":"IF(C31=\"\",\"\",IF($G$13=\"■\",HLOOKUP($G$12,別紙mast!$D$9:$K$11,3,FALSE),\"\"))","v":""},null,{"$f":"IF(OR($BA$12=\"\",$AW$12=\"\"),\"\",IF($AW$12<=$BA$12,\"達成\",\"非達成\"))","v":""},null,"　ηAC値（最低値）",null,null,null,null,null,{"$f":"IF($G$4=\"□\",\"\",IF($G$13=\"□\",\"\",MAX($BF$31:$BF$230)))","v":""},null,"誘導基準",null,"UA値",{"$f":"IF($G$4=\"□\",\"\",IF($G$13=\"□\",\"\",MAX($BA$31:$BA$230)))","v":""},null,{"$f":"IF($G$12=\"\",\"\",IF(G4=\"■\",HLOOKUP($G$12,別紙mast!$D$9:$K$11,3,FALSE),\"\"))","v":""},null,{"$f":"IF(OR($BR$12=\"\",$BP$12=\"\"),\"\",IF($BP$12=\"\",\"\",IF($BP$12<=$BR$12,\"達成\",\"非達成\")))","v":""},null,null,null,null,null,null,null,null,null,null,null,null,null,null,null,null,null,null,null,null,null,null,null,null,null,null,null,null,null,null,null,null,null,null,"削減量（再エネ除き）",{"$f":"IF($DD$7=\"\",\"\",($DD$8-$DD$7))","v":""},"省エネ基準","設計一次エネ消費量（その他含み）［GJ/年］",{"$f":"AD7","v":0}]
[null,"記載図書",null,null,null,null,"■","外皮性能計算書",null,null,null,null,null,null,null,null,null,null,null,null,null,"基準一次エネ（誘導基準）[GJ/年]",null,null,null,null,null,null,null,null,null,null,null,null,"特記項目",null,null,null,null,null,null,null,null,null,null,null,"ηAC値",null,{"$f":"IF(C31=\"\",\"\",MAX($BF$31:$BF$230))","v":""},null,null,null,{"$f":"IF(C31=\"\",\"\",IF($G$13=\"■\",HLOOKUP($G$12,別紙mast!$D$4:$K$7,4,FALSE),\"\"))","v":""},null,{"$f":"IF(OR($BA$13=\"\",$AW$13=\"\"),\"\",IF($AW$13<=$BA$13,\"達成\",\"非達成\"))","v":""},null,"特記事項",null,null,null,null,null,null,null,null,null,"ηAC値",{"$f":"IF($G$4=\"□\",\"\",IF($G$13=\"□\",\"\",MAX($BF$31:$BF$230)))","v":""},null,{"$f":"IF($G$12=\"\",\"\",IF(G4=\"■\",HLOOKUP($G$12,別紙mast!$D$4:$K$7,4,FALSE),\"\"))","v":""},null,{"$f":"IF(OR($BR$13=\"\",$BP$13=\"\"),\"\",IF($BP$13=\"\",\"\",IF($BP$13<=$BR$13,\"達成\",\"非達成\")))","v":""},null,null,null,null,null,null,null,null,null,null,null,null,null,null,null,null,null,null,null,null,null,null,null,null,null,null,null,null,null,null,null,null,null,null,"削減量（再エネ含み）",{"$f":"IF($DD$8=\"\",\"\",SUM($DD$8-$DD$9))","v":""},null,"基準一次エネ消費量（その他含み）［GJ/年］",{"$f":"AD9","v":0}]
[null,null,null,null,null,null,"■","一次エネルギー消費量計算書",null,null,null,null,null,null,null,null,null,null,null,null,null,null,null,null,null,null,null,null,null,null,null,null,null,null,"　再エネ除く 削減率",null,null,null,{"$f":"IF(C31=\"\",\"\",TRUNC(($DD$12/$DD$8)*100))","v":""},null,null,null,"総合判定",null,null,null,null,null,null,null,null,null,null,null,null,null,"　再エネ除く 削減率",null,null,null,null,null,{"$f":"IF($G$4=\"□\",\"\",TRUNC(($DG$6/($DG$3+$DD$8))*100))","v":""},null,"総合判定",null,null,null,null,null,null,null,null,null,null,null,null,null,null,null,null,null,null,null,null,null,null,null,null,null,null,null,null,null,null,null,null,null,null,null,null,null,null,null,null,null,"設計一次エネ（省エネ基準）[GJ/(戸・年)]",{"$f":"IF(C31=\"\",\"\",SUM(CI31:CI230))","v":""},"誘導基準","設計一次エネ消費量（その他含み）［GJ/年］",{"$f":"AD8","v":0}]
[null,null,null,null,null,null,"□",null,null,null,null,null,null,null,null,null,null,null,null,null,null,null,null,null,null,null,null,null,null,null,null,null,null,null,"　再エネ含む 削減率",null,null,null,{"$f":"IF(C31=\"\",\"\",TRUNC(($DD$13/$DD$8)*100))","v":""},null,null,null,"省エネ基準",null,null,null,null,null,null,null,null,null,{"$f":"IF($AW$10=\"\",\"\",IF(AND($BC$4=\"達成\",$BC$10=\"達成\",$BC$11=\"達成\"),\"達成\",\"非達成\"))","v":""},null,null,null,"　再エネ含む 削減率",null,null,null,null,null,{"$f":"IF($G$4=\"□\",\"\",TRUNC(($DG$7/($DG$3+$DD$8))*100))","v":""},null,"省エネ基準",null,null,null,null,{"$f":"IF($BP$10=\"\",\"\",IF(AND($BT$4=\"達成\",$BT$10=\"達成\",$BT$11=\"達成\"),\"達成\",\"非達成\"))","v":""},null,null,null,null,null,null,null,null,null,null,null,null,null,null,null,null,null,null,null,null,null,null,null,null,null,null,null,null,null,null,null,null,null,null,null,null,"基準一次エネ（省エネ基準）[GJ/(戸・年)]",{"$f":"IF(C31=\"\",\"\",SUM(CJ31:CJ230))","v":""}]
[null,null,null,null,null,null,"□",null,null,null,null,null,null,null,null,null,null,null,null,null,null,null,null,null,null,null,null,null,null,null,null,null,null,null,"　ZEH　強化外皮 判定",null,null,null,{"$f":"IF(G12=\"\",\"\",IF(OR($BA$31=\"\",G11=\"\"),\"\",IF(COUNTIF(BE31:BE230,\"×\")>0,\"NG\",\"適合\")))","v":""},null,null,null,"誘導基準",null,null,null,null,null,null,null,null,null,{"$f":"IF($AW$10=\"\",\"\",IF(AND($BC$6=\"達成\",$BC$12=\"達成\",$BC$13=\"達成\"),\"達成\",\"非達成\"))","v":""},null,null,null,"　ZEH　強化外皮 判定",null,null,null,null,null,{"$f":"IF(OR($BA$31=\"\",$G$4=\"□\"),\"\",IF(COUNTIF(BE31:BE230,\"×\")>0,\"NG\",\"適合\"))","v":""},null,"誘導基準",null,null,null,null,{"$f":"IF(BP10=\"\",\"\",IF(AND(BT6=\"達成\",BT12=\"達成\",BT13=\"達成\"),\"達成\",\"非達成\"))","v":""},null,null,null,null,null,null,null,null,null,null,null,null,null,null,null,null,null,null,null,null,null,null,null,null,null,null,null,null,null,null,null,null,null,null,null,null,"設計一次エネ（誘導基準）[GJ/(戸・年)]",{"$f":"IF(C31=\"\",\"\",SUM(CK31:CK230))","v":""}]
[null,"（注意）一次エネルギー消費量計算書のパターンごとに入力し、住戸数を入力することで消費量等に自動で住戸数を乗じて計算します。（住戸数が１の場合は、１を入力します。）",null,null,null,null,null,null,null,null,null,null,null,null,null,null,null,null,null,null,null,null,null,null,null,null,null,null,null,null,null,null,null,null,null,null,null,null,null,null,null,null,null,null,null,null,null,null,null,null,null,null,null,null,null,null,null,null,null,null,null,null,null,null,null,null,null,null,null,null,null,null,null,null,null,null,null,null,null,null,null,null,null,null,null,null,null,null,null,null,null,null,null,null,null,null,null,null,null,null,null,null,null,null,null,null,"基準一次エネ（誘導基準）[GJ/(戸・年)]",{"$f":"IF(C31=\"\",\"\",SUM(CL31:CL230))","v":""},"基準一次［GJ/年］｜誘導基準(その他含み）",null,{"$f":"AD13","v":0}]
[null,null,"テキストデータの貼付\n_一次エネルギー消費量計算結果※","部屋タイプ※",null,null," 1.住戸の番号※",null,null,"　住戸数※",null,null,null,null,null,"３.評価手法に関する事項※",null,null,null,null,null,null,null,null,null,null,null,null,null," ４.一次エネルギー消費量に関する事項※",null,null,null,null,null,null,null,null,null,null," ５．「ZEH」に関する\n　　　事項※",null,null,null,null,"６.参考情報に関する事項※",null,null,null,null,null,null,"断熱性能（外皮性能）※",null,null,null,null,null,null,null,null,"エネルギー消費性能※",null,null,null,null,null,"削減率及びBEI",null,null,null,null,null,"部屋タイプ"," 1.住戸の番号"]
[null,null,null,null,null,null,null,null,null,null,null,null,"全住戸)"]
[null,null,null,null,null,null,null,null,null,null,null,null,null,null,null,"評価手法\n断熱性能（外皮性能）",null,null,null,null,null,null,"評価手法\n一次エネルギー消費量",null,null,null,null,null,null,"再エネ設備に関すること",null,null,null,null,null,null,null,null,"エネルギー消費\n性能の多段階表示",null,null,null,null,null,null,"二次エネルギー消費量等に関する項目以外の情報",null,null,"目安高熱費に\n関すること",null,null,null," UA値　設計値　[ｗ/㎡･K]"," UA値　基準値（省エネ基準）　\n[ｗ/㎡･K]"," UA値　基準値（省エネ基準）　判定"," UA値　基準値（誘導基準・ZEH外皮）\n　[ｗ/㎡･K]"," UA値　基準値（誘導基準・ZEH外皮）　判定"," ηAC値　設計値"," ηAC値　基準値",null," ηAC値　基準値　判定",1,2,3,4,5,6,"　再エネなし 削減率","　再エネなし BEI","　再エネあり 削減率　(自家消費分）","　再エネあり　 BEI　　(自家消費分）","　再エネあり 削減率　(自家消費分+売電分）","　再エネあり　 BEI　　(自家消費分+売電分）",null,null,null,null,null,null,null,null,null,"一次エネ消費量[GJ/年]",null,null,null,null,null,null,null,"MJ×住戸数",null,null,null,null,null,"ZEH判定"]
[null,null,null,null,null,null,null,null,null,null,null,null,null,null,null,null,null,null,null,null,null,null,null,null,null,null,null,null,null,null,null,null,null,null,null,null,null,null,null,null,null,null,null,null,null,null,null,null,null,null,null,null,null,null,null,null,null,null,null,null,null,"　その他の設備\n　[MJ/年]","　設計一次エネルギー消費量\n（PV および CGS 対象） 　[MJ/年]","　設計一次エネルギー消費量\n（CGS 対象） 　[MJ/年]","　基準一エネルギー消費量\n　[MJ/年]","　 太陽光発電設備（発電量）［MJ］"," 　太陽光発電設備（売電量）［MJ］",null,null,null,null,null,null,null,null,null,null,null,null,null,null,null,"一次エネ計算書から自動転記（2.判定）",null,null,null,"×住戸数",null,null,null,null,null,null,null,null,null,null,null,"一次エネ計算書から自動転記（3.BEI）"]
[null,null,null,null,null,null,null,null,null,null,null,null,"□",null,null,null,null,null,null,null,null,null,null,null,null,null,null,null,null,"再エネ設備の種類"]
[null,null,null,null,null,null,null,null,null,null,null,null,"("]
[null,null,null,null,null,null,null,null,null,null,null," 2.申請対象となる住戸の存する\n　　建築物の用途建築基準法施行規則\n　（昭和25年建設省令第40号）\n　　別紙の表の用途の区分※",null,null,null,null,null,null,null,null,null,null,null,null,null,null,null,null,null,null,null,null,null,null,null,null,null,null,null,null,null,null,null,null,null,null,null,null,null,null,null,null,null,null,null,null,null,null,null,null,null,null,null,null,null,null,null,null,null,null,null,null,null,null,null,null,null,null,null,null,null,null,"　設計一次エネルギー消費量\n（省エネ基準） 　[GJ/年]","　基準一次エネルギー消費量\n（省エネ基準） 　[GJ/年]","　設計一次エネルギー消費量\n（誘導基準） 　[GJ/年]","　基準一次エネルギー消費量\n（誘導基準） 　[GJ/年]","　設計一次エネルギー消費量\n（省エネ基準） 　[GJ/年]","　基準一次エネルギー消費量\n（省エネ基準） 　[GJ/年]","　設計一次エネルギー消費量\n（誘導基準） 　[GJ/年]",null,"　その他の設備\n[MJ/年]","　設計一次エネルギー消費量\n（PV および CGS 対象） 　[MJ/年]","　設計一次エネルギー消費量\n（CGS 対象） 　[MJ/年]","　基準一エネルギー消費量\n　[MJ/年]"," 太陽光発電設備（発電量）［MJ］"," 太陽光発電設備（売電量）［MJ］","削減量（再エネ除き）","削減量（再エネ含み）","設計一次エネ（その他除く） [GJ/(戸・年)]\n＿省エネ基準","設計一次エネ（その他除く） [GJ/(戸・年)]　\n_誘導基準","基準一次エネ [GJ/(戸・年)]　","BEI","誘導BEI","設計一次エネ（自家消費+売電） [GJ/年]　換算_再エネありの場合","設計一次エネ（自家消費+売電） [GJ/年]　換算＿再エネなしの場合"]
[null,null,null,null,null,null,null,null,null,null,null,null,null,null,null,"全住戸)","全住戸)","全住戸)"," 大臣認定方法"," 大臣認定方法\n（評価方法の名称）",null,null,"全住戸)","全住戸)","全住戸)"," 大臣認定方法"," 大臣認定方法\n（評価方法の名称）",null,null,"全住戸)","全住戸)",null,null,null,null,null,"再エネ設備の容量の表示",null,"全住戸)","全住戸)",null,"全住戸)",null,null,"判定","全住戸)","全住戸)","全住戸)","全住戸)","全住戸)",null,null,null,null,null,null,null,null,null,null,null,null,null,null,null,null,null,null,null,null,null,null,null,null,null,null,null,null,null,null,null,null,null,null,null,null,null,null,null,"　基準一次エネルギー消費量\n（誘導基準） 　[GJ/年]"]
[null,null,null,null,null,null,null,null,null,null,null,null,null,null,null,null,null,null,null,null,null,null,null,null,null,null,null,null,null,null,null,"太陽光発電設備","太陽熱利用設備","木質燃料ストーブ（ペレットストーブ）","その他","その他の設備の種類",null,"再エネ設備の容量\n（任意）",null,null,null,null,null,null,null,null,null,null,null,null,"都市ガス 又は オール電化","液化石油ガス（LPガス）"]
[]
[null,null,null,null,null,null,null,null,null,null,null,null,null,null,null,"□","□","□",null,null,null,null,"□","□","□",null,null,null,null,{"$f":"IF(O5=\"■\",\"■\",\"□\")","v":"□"},"□",null,null,null,null,null,null,null,"□","□",null,"□",null,null,null,"□","□","□","□","□"]
[null,null,null,null,null,null,null,null,null,null,null,null,null,null,null,"(","(","(",null,null,null,null,"(","(","(",null,null,null,null,"(","(",null,null,null,null,null,null,null,"(","(",null,"(",null,null,null,"(","(","(","(","("]
[null,null,null,null,null,null,null,null,null,null,null,null,null,null,null,"性能基準"," 仕様基準"," 誘導仕様基準",null,null,null,null,"性能基準"," 仕様基準"," 誘導仕様基準",null,null,null,null,"再エネ設備 なし","再エネ設備 あり",null,null,null,null,null,null,null,"４段階表示(再エネ考慮なし)","６段階表示(再エネ考慮あり)","表示を希望する\n評価項目",null,null,null,null," 記載しない"," 別紙による"," 第五面 参考情報と同じ","希望しない","希望する",null,null,null,null,null,null,null,null,null,null,null,null,null,null,null,null,null,null,null,null,null,null,null,null,null,null,"『ZEH』","NearlｙZEH","ZEH Oriented","ZEH Ready","記載しない"]
[null,1,null,"",null,null,null,null,null,null,null,null,null,null,null,"□","□","□","□",null,null,null,"□","□","□","□",null,null,null,"□","□","□","□","□","□",null,"□",null,"□","□",null,null,null,null,{"$f":"IF(AND($AP$28=\"■\",$AO$31<>\"\"),HLOOKUP($AO$31,$BY$30:$CC$230,ROW()-29,1),IF($AO31<>\"\",HLOOKUP($AO31,$BY$30:$CC$230,ROW()-29,1),\"\"))","v":""},"□","□","□","□","□","□","□",null,{"$f":"IF($G$12=\"\",\"\",IF($BA31=\"\",\"\",HLOOKUP($G$12,別紙mast!$D$4:$K$7,3,FALSE)))","v":""},{"$f":"IF(OR(AND($C31<>\"\",$Q$28=\"■\"),AND($C31<>\"\",$R$28=\"■\")),\"○\",IF(AND($BA31=\"\"),\"\",IF($BA31<=$BB31,\"○\",\"×\")))","v":""},{"$f":"IF($G$12=\"\",\"\",IF($BA31=\"\",\"\",HLOOKUP($G$12,別紙mast!$D$9:$K$11,3,FALSE)))","v":""},{"$f":"IF(AND($C31<>\"\",$R$28=\"■\"),\"○\",IF(AND($BD31=\"\"),\"\",IF($BA31<=$BD31,\"○\",\"×\")))","v":""},null,{"$f":"IF($C31=\"\",\"\",IF($G$12=\"\",\"\",HLOOKUP($G$12,別紙mast!$D$4:$K$7,4,FALSE)))","v":""},null,{"$f":"IF(OR(AND($C31<>\"\",$Q$28=\"■\"),AND($C31<>\"\",$R$28=\"■\")),\"○\",IF(AND(BG31=\"\"),\"\",IF(BF31<=BG31,\"○\",\"×\")))","v":""},null,null,null,null,null,null,{"$f":"IF($C31=\"\",\"\",TRUNC(($CS31/$CW31)*100))","v":""},{"$f":"IF($C31=\"\",\"\",$CY31)","v":""},{"$f":"IF($C31=\"\",\"\",IF(OR($O$5=\"■\",$AD$28=\"■\",$AD31=\"■\"),\"ー\",SUM(1-$BS31)))","v":""},{"$f":"IF($C31=\"\",\"\",IF(OR($O$5=\"■\",$AD$28=\"■\",$AD31=\"■\"),\"ー\",CX31))","v":""},{"$f":"IF($C31=\"\",\"\",TRUNC(($CT31/$CW31)*100))","v":""},{"$f":"IF($C31=\"\",\"\",IF(OR($O$5=\"■\",$AD$28=\"■\",$AD31=\"■\"),\"ー\",SUM((100-$BT31)/100)))","v":""},{"$f":"IF($D31=\"\",\"\",$D31)","v":""},{"$f":"IF($G31=\"\",\"\",$G31)","v":""},null,{"$f":"IF(OR(BP31=\"\",BT31=\"\"),\"\",IF(AND($BP31>=20,$BT31>=100,$BC31=\"○\",$BE31=\"○\"),\"○\",\"×\"))","v":""},{"$f":"IF(OR(BP31=\"\",BT31=\"\"),\"\",IF(AND($BP31>=20,$BT31>=100,$BC31=\"適\"),\"×\",IF(AND($BP31>=20,$BT31>=75,$BT31<100,$BC31=\"○\",$BE31=\"○\"),\"○\",\"×\")))","v":""},{"$f":"IF(OR(BP31=\"\",BT31=\"\"),\"\",IF(AND($BP31>=20,$BC31=\"○\",$BE31=\"○\"),\"○\",\"×\"))","v":""},{"$f":"IF(OR(BP31=\"\",BT31=\"\"),\"\",IF(AND($BP31>=20,$BT31>=50,$BT31<75,$BC31=\"○\",$BE31=\"○\"),\"○\",\"×\"))","v":""},"―",null,null,null,null,null,{"$f":"IF(OR($CE31=\"\",$BJ31=\"\"),\"\",$CE31*$J31)","v":""},{"$f":"IF(OR($CF31=\"\",$BJ31=\"\"),\"\",$CF31*$J31)","v":""},{"$f":"IF(OR($CG31=\"\",$BJ31=\"\"),\"\",$CG31*$J31)","v":""},{"$f":"IF(OR($CH31=\"\",$BJ31=\"\"),\"\",$CH31*$J31)","v":""},{"$f":"IF($C31=\"\",\"\",SUM($BJ31*$J31))","v":""},{"$f":"IF($C31=\"\",\"\",SUM($BK31*$J31))","v":""},{"$f":"IF($C31=\"\",\"\",IF($O$5=\"■\",SUM($BK31*$J31),SUM($BL31*$J31)))","v":""},{"$f":"IF($C31=\"\",\"\",SUM($BM31*$J31))","v":""},{"$f":"IF($BJ31=\"\",\"\",IF($O$5=\"■\",0,SUM($BN31*$J31)))","v":""},{"$f":"IF($BJ31=\"\",\"\",IF($O$5=\"■\",0,SUM($BO31*$J31)))","v":""},{"$f":"IF($CV31=\"\",\"\",($CW31-$CV31))","v":""},{"$f":"IF($CW31=\"\",\"\",IF($O$5=\"■\",SUM($CW31-$DA31),SUM($CW31-$CZ31)))","v":""},null,null,null,null,null,{"$f":"IF($BJ31=\"\",\"\",IF(($BL31-$BJ31-$BN31)*0.001>=0,ROUNDUP(($BL31-$BJ31-$BN31)*0.001,1),ROUNDDOWN(($BL31-$BJ31-$BN31)*0.001,1)))&\"\"","v":""},{"$f":"IF($BJ31=\"\",\"\",IF(($BK31-$BJ31-$BN31)*0.001>=0,ROUNDUP(($BK31-$BJ31-$BN31)*0.001,1),ROUNDDOWN(($BK31-$BJ31-$BN31)*0.001,1)))&\"\"","v":""}]
[null,2,null,"",null,null,null,null,null,null,null,null,null,null,null,"□","□","□","□",null,null,null,"□","□","□","□",null,null,null,"□","□","□","□","□","□",null,"□",null,"□","□",null,null,null,null,{"$f":"IF(AND($AP$28=\"■\",$AO$31<>\"\"),HLOOKUP($AO$31,$BY$30:$CC$230,ROW()-29,1),IF($AO32<>\"\",HLOOKUP($AO32,$BY$30:$CC$230,ROW()-29,1),\"\"))","v":""},"□","□","□","□","□","□","□",null,{"$f":"IF($G$12=\"\",\"\",IF($BA32=\"\",\"\",HLOOKUP($G$12,別紙mast!$D$4:$K$7,3,FALSE)))","v":""},{"$f":"IF(OR(AND($C32<>\"\",$Q$28=\"■\"),AND($C32<>\"\",$R$28=\"■\")),\"○\",IF(AND($BA32=\"\"),\"\",IF($BA32<=$BB32,\"○\",\"×\")))","v":""},{"$f":"IF($G$12=\"\",\"\",IF($BA32=\"\",\"\",HLOOKUP($G$12,別紙mast!$D$9:$K$11,3,FALSE)))","v":""},{"$f":"IF(AND($C32<>\"\",$R$28=\"■\"),\"○\",IF(AND($BD32=\"\"),\"\",IF($BA32<=$BD32,\"○\",\"×\")))","v":""},null,{"$f":"IF($C32=\"\",\"\",IF($G$12=\"\",\"\",HLOOKUP($G$12,別紙mast!$D$4:$K$7,4,FALSE)))","v":""},null,{"$f":"IF(OR(AND($C32<>\"\",$Q$28=\"■\"),AND($C32<>\"\",$R$28=\"■\")),\"○\",IF(AND(BG32=\"\"),\"\",IF(BF32<=BG32,\"○\",\"×\")))","v":""},null,null,null,null,null,null,"",{"$f":"IF($C32=\"\",\"\",$CY32)","v":""},{"$f":"IF($C32=\"\",\"\",IF(OR($O$5=\"■\",$AD$28=\"■\",$AD32=\"■\"),\"ー\",SUM(1-$BS32)))","v":""},{"$f":"IF($C32=\"\",\"\",IF(OR($O$5=\"■\",$AD$28=\"■\",$AD32=\"■\"),\"ー\",CX32))","v":""},{"$f":"IF($C32=\"\",\"\",TRUNC(($CT32/$CW32)*100))","v":""},{"$f":"IF($C32=\"\",\"\",IF(OR($O$5=\"■\",$AD$28=\"■\",$AD32=\"■\"),\"ー\",SUM((100-$BT32)/100)))","v":""},{"$f":"IF($D32=\"\",\"\",$D32)","v":""},{"$f":"IF($G32=\"\",\"\",$G32)","v":""},null,"","","","","―",null,null,null,null,null,{"$f":"IF(OR($CE32=\"\",$BJ32=\"\"),\"\",$CE32*$J32)","v":""},"","","",{"$f":"IF($C32=\"\",\"\",SUM($BJ32*$J32))","v":""},{"$f":"IF($C32=\"\",\"\",SUM($BK32*$J32))","v":""},{"$f":"IF($C32=\"\",\"\",IF($O$5=\"■\",SUM($BK32*$J32),SUM($BL32*$J32)))","v":""},{"$f":"IF($C32=\"\",\"\",SUM($BM32*$J32))","v":""},{"$f":"IF($BJ32=\"\",\"\",IF($O$5=\"■\",0,SUM($BN32*$J32)))","v":""},"",{"$f":"IF($CV32=\"\",\"\",($CW32-$CV32))","v":""},"",null,null,null,null,null,{"$f":"IF($BJ32=\"\",\"\",IF(($BL32-$BJ32-$BN32)*0.001>=0,ROUNDUP(($BL32-$BJ32-$BN32)*0.001,1),ROUNDDOWN(($BL32-$BJ32-$BN32)*0.001,1)))&\"\"","v":""},{"$f":"IF($BJ32=\"\",\"\",IF(($BK32-$BJ32-$BN32)*0.001>=0,ROUNDUP(($BK32-$BJ32-$BN32)*0.001,1),ROUNDDOWN(($BK32-$BJ32-$BN32)*0.001,1)))&\"\"","v":""}]
[null,3,null,"",null,null,null,null,null,null,null,null,null,null,null,"□","□","□","□",null,null,null,"□","□","□","□",null,null,null,"□","□","□","□","□","□",null,"□",null,"□","□",null,null,null,null,"","□","□","□","□","□","□","□",null,{"$f":"IF($G$12=\"\",\"\",IF($BA33=\"\",\"\",HLOOKUP($G$12,別紙mast!$D$4:$K$7,3,FALSE)))","v":""},{"$f":"IF(OR(AND($C33<>\"\",$Q$28=\"■\"),AND($C33<>\"\",$R$28=\"■\")),\"○\",IF(AND($BA33=\"\"),\"\",IF($BA33<=$BB33,\"○\",\"×\")))","v":""},{"$f":"IF($G$12=\"\",\"\",IF($BA33=\"\",\"\",HLOOKUP($G$12,別紙mast!$D$9:$K$11,3,FALSE)))","v":""},{"$f":"IF(AND($C33<>\"\",$R$28=\"■\"),\"○\",IF(AND($BD33=\"\"),\"\",IF($BA33<=$BD33,\"○\",\"×\")))","v":""},null,{"$f":"IF($C33=\"\",\"\",IF($G$12=\"\",\"\",HLOOKUP($G$12,別紙mast!$D$4:$K$7,4,FALSE)))","v":""},null,{"$f":"IF(OR(AND($C33<>\"\",$Q$28=\"■\"),AND($C33<>\"\",$R$28=\"■\")),\"○\",IF(AND(BG33=\"\"),\"\",IF(BF33<=BG33,\"○\",\"×\")))","v":""},null,null,null,null,null,null,"","","","","","","","",null,"","","","","―",null,null,null,null,null,"","","","","","","","","","","","",null,null,null,null,null,"",{"$f":"IF($BJ33=\"\",\"\",IF(($BK33-$BJ33-$BN33)*0.001>=0,ROUNDUP(($BK33-$BJ33-$BN33)*0.001,1),ROUNDDOWN(($BK33-$BJ33-$BN33)*0.001,1)))&\"\"","v":""}]
[null,4,null,"",null,null,null,null,null,null,null,null,null,null,null,"□","□","□","□",null,null,null,"□","□","□","□",null,null,null,"□","□","□","□","□","□",null,"□",null,"□","□",null,null,null,null,"","□","□","□","□","□","□","□",null,{"$f":"IF($G$12=\"\",\"\",IF($BA34=\"\",\"\",HLOOKUP($G$12,別紙mast!$D$4:$K$7,3,FALSE)))","v":""},"",{"$f":"IF($G$12=\"\",\"\",IF($BA34=\"\",\"\",HLOOKUP($G$12,別紙mast!$D$9:$K$11,3,FALSE)))","v":""},"",null,{"$f":"IF($C34=\"\",\"\",IF($G$12=\"\",\"\",HLOOKUP($G$12,別紙mast!$D$4:$K$7,4,FALSE)))","v":""},null,"",null,null,null,null,null,null,"","","","","","","","",null,"","","","","―",null,null,null,null,null,"","","","","","","","","","","","",null,null,null,null,null,"",""]
[null,5,null,"",null,null,null,null,null,null,null,null,null,null,null,"□","□","□","□",null,null,null,"□","□","□","□",null,null,null,"□","□","□","□","□","□",null,"□",null,"□","□",null,null,null,null,"","□","□","□","□","□","□","□",null,{"$f":"IF($G$12=\"\",\"\",IF($BA35=\"\",\"\",HLOOKUP($G$12,別紙mast!$D$4:$K$7,3,FALSE)))","v":""},"",{"$f":"IF($G$12=\"\",\"\",IF($BA35=\"\",\"\",HLOOKUP($G$12,別紙mast!$D$9:$K$11,3,FALSE)))","v":""},"",null,{"$f":"IF($C35=\"\",\"\",IF($G$12=\"\",\"\",HLOOKUP($G$12,別紙mast!$D$4:$K$7,4,FALSE)))","v":""},null,"",null,null,null,null,null,null,"",{"$f":"IF($C35=\"\",\"\",$CY35)","v":""},{"$f":"IF($C35=\"\",\"\",IF(OR($O$5=\"■\",$AD$28=\"■\",$AD35=\"■\"),\"ー\",SUM(1-$BS35)))","v":""},{"$f":"IF($C35=\"\",\"\",IF(OR($O$5=\"■\",$AD$28=\"■\",$AD35=\"■\"),\"ー\",CX35))","v":""},{"$f":"IF($C35=\"\",\"\",TRUNC(($CT35/$CW35)*100))","v":""},"","","",null,"","","","","―",null,null,null,null,null,"","","","","","","","","","","","",null,null,null,null,null,"",""]
[null,6,null,"",null,null,null,null,null,null,null,null,null,null,null,"□","□","□","□",null,null,null,"□","□","□","□",null,null,null,"□","□","□","□","□","□",null,"□",null,"□","□",null,null,null,null,"","□","□","□","□","□","□","□",null,{"$f":"IF($G$12=\"\",\"\",IF($BA36=\"\",\"\",HLOOKUP($G$12,別紙mast!$D$4:$K$7,3,FALSE)))","v":""},"",{"$f":"IF($G$12=\"\",\"\",IF($BA36=\"\",\"\",HLOOKUP($G$12,別紙mast!$D$9:$K$11,3,FALSE)))","v":""},"",null,{"$f":"IF($C36=\"\",\"\",IF($G$12=\"\",\"\",HLOOKUP($G$12,別紙mast!$D$4:$K$7,4,FALSE)))","v":""},null,"",null,null,null,null,null,null,"","","","","","","","",null,"","","","","―",null,null,null,null,null,"","","","","","","","","","","","",null,null,null,null,null,"",""]
[null,7,null,"",null,null,null,null,null,null,null,null,null,null,null,"□","□","□","□",null,null,null,"□","□","□","□",null,null,null,"□","□","□","□","□","□",null,"□",null,"□","□",null,null,null,null,"","□","□","□","□","□","□","□",null,{"$f":"IF($G$12=\"\",\"\",IF($BA37=\"\",\"\",HLOOKUP($G$12,別紙mast!$D$4:$K$7,3,FALSE)))","v":""},"",{"$f":"IF($G$12=\"\",\"\",IF($BA37=\"\",\"\",HLOOKUP($G$12,別紙mast!$D$9:$K$11,3,FALSE)))","v":""},"",null,{"$f":"IF($C37=\"\",\"\",IF($G$12=\"\",\"\",HLOOKUP($G$12,別紙mast!$D$4:$K$7,4,FALSE)))","v":""},null,"",null,null,null,null,null,null,"","","","","","","","",null,"","","","","―",null,null,null,null,null,"","","","","","","","","","","","",null,null,null,null,null,"",""]
[null,8,null,"",null,null,null,null,null,null,null,null,null,null,null,"□","□","□","□",null,null,null,"□","□","□","□",null,null,null,"□","□","□","□","□","□",null,"□",null,"□","□",null,null,null,null,"","□","□","□","□","□","□","□",null,{"$f":"IF($G$12=\"\",\"\",IF($BA38=\"\",\"\",HLOOKUP($G$12,別紙mast!$D$4:$K$7,3,FALSE)))","v":""},"",{"$f":"IF($G$12=\"\",\"\",IF($BA38=\"\",\"\",HLOOKUP($G$12,別紙mast!$D$9:$K$11,3,FALSE)))","v":""},"",null,{"$f":"IF($C38=\"\",\"\",IF($G$12=\"\",\"\",HLOOKUP($G$12,別紙mast!$D$4:$K$7,4,FALSE)))","v":""},null,"",null,null,null,null,null,null,"","","","","","","","",null,"","","","","―",null,null,null,null,null,"","","","","","","","","","","","",null,null,null,null,null,"",""]
[null,9,null,"",null,null,null,null,null,null,null,null,null,null,null,"□","□","□","□",null,null,null,"□","□","□","□",null,null,null,"□","□","□","□","□","□",null,"□",null,"□","□",null,null,null,null,"","□","□","□","□","□","□","□",null,{"$f":"IF($G$12=\"\",\"\",IF($BA39=\"\",\"\",HLOOKUP($G$12,別紙mast!$D$4:$K$7,3,FALSE)))","v":""},"",{"$f":"IF($G$12=\"\",\"\",IF($BA39=\"\",\"\",HLOOKUP($G$12,別紙mast!$D$9:$K$11,3,FALSE)))","v":""},"",null,{"$f":"IF($C39=\"\",\"\",IF($G$12=\"\",\"\",HLOOKUP($G$12,別紙mast!$D$4:$K$7,4,FALSE)))","v":""},null,"",null,null,null,null,null,null,"","","","","","","","",null,"","","","","―",null,null,null,null,null,"","","","","","","","","","","","",null,null,null,null,null,"",""]
[null,10,null,"",null,null,null,null,null,null,null,null,null,null,null,"□","□","□","□",null,null,null,"□","□","□","□",null,null,null,"□","□","□","□","□","□",null,"□",null,"□","□",null,null,null,null,"","□","□","□","□","□","□","□",null,{"$f":"IF($G$12=\"\",\"\",IF($BA40=\"\",\"\",HLOOKUP($G$12,別紙mast!$D$4:$K$7,3,FALSE)))","v":""},"",{"$f":"IF($G$12=\"\",\"\",IF($BA40=\"\",\"\",HLOOKUP($G$12,別紙mast!$D$9:$K$11,3,FALSE)))","v":""},"",null,{"$f":"IF($C40=\"\",\"\",IF($G$12=\"\",\"\",HLOOKUP($G$12,別紙mast!$D$4:$K$7,4,FALSE)))","v":""},null,"",null,null,null,null,null,null,"","","","","","","","",null,"","","","","―",null,null,null,null,null,"","","","","","","","","","","","",null,null,null,null,null,"",""]
[null,11,null,"",null,null,null,null,null,null,null,null,null,null,null,"□","□","□","□",null,null,null,"□","□","□","□",null,null,null,"□","□","□","□","□","□",null,"□",null,"□","□",null,null,null,null,"","□","□","□","□","□","□","□",null,{"$f":"IF($G$12=\"\",\"\",IF($BA41=\"\",\"\",HLOOKUP($G$12,別紙mast!$D$4:$K$7,3,FALSE)))","v":""},"",{"$f":"IF($G$12=\"\",\"\",IF($BA41=\"\",\"\",HLOOKUP($G$12,別紙mast!$D$9:$K$11,3,FALSE)))","v":""},"",null,{"$f":"IF($C41=\"\",\"\",IF($G$12=\"\",\"\",HLOOKUP($G$12,別紙mast!$D$4:$K$7,4,FALSE)))","v":""},null,"",null,null,null,null,null,null,"","","","","","","","",null,"","","","","―",null,null,null,null,null,"","","","","","","","","","","","",null,null,null,null,null,"",""]
[null,12,null,"",null,null,null,null,null,null,null,null,null,null,null,"□","□","□","□",null,null,null,"□","□","□","□",null,null,null,"□","□","□","□","□","□",null,"□",null,"□","□",null,null,null,null,"","□","□","□","□","□","□","□",null,{"$f":"IF($G$12=\"\",\"\",IF($BA42=\"\",\"\",HLOOKUP($G$12,別紙mast!$D$4:$K$7,3,FALSE)))","v":""},"",{"$f":"IF($G$12=\"\",\"\",IF($BA42=\"\",\"\",HLOOKUP($G$12,別紙mast!$D$9:$K$11,3,FALSE)))","v":""},"",null,{"$f":"IF($C42=\"\",\"\",IF($G$12=\"\",\"\",HLOOKUP($G$12,別紙mast!$D$4:$K$7,4,FALSE)))","v":""},null,"",null,null,null,null,null,null,"","","","","","","","",null,"","","","","―",null,null,null,null,null,"","","","","","","","","","","","",null,null,null,null,null,"",""]
[null,13,null,"",null,null,null,null,null,null,null,null,null,null,null,"□","□","□","□",null,null,null,"□","□","□","□",null,null,null,"□","□","□","□","□","□",null,"□",null,"□","□",null,null,null,null,"","□","□","□","□","□","□","□",null,{"$f":"IF($G$12=\"\",\"\",IF($BA43=\"\",\"\",HLOOKUP($G$12,別紙mast!$D$4:$K$7,3,FALSE)))","v":""},"",{"$f":"IF($G$12=\"\",\"\",IF($BA43=\"\",\"\",HLOOKUP($G$12,別紙mast!$D$9:$K$11,3,FALSE)))","v":""},"",null,{"$f":"IF($C43=\"\",\"\",IF($G$12=\"\",\"\",HLOOKUP($G$12,別紙mast!$D$4:$K$7,4,FALSE)))","v":""},null,"",null,null,null,null,null,null,"","","","","","","","",null,"","","","","―",null,null,null,null,null,"","","","","","","","","","","","",null,null,null,null,null,"",""]
[null,14,null,"",null,null,null,null,null,null,null,null,null,null,null,"□","□","□","□",null,null,null,"□","□","□","□",null,null,null,"□","□","□","□","□","□",null,"□",null,"□","□",null,null,null,null,"","□","□","□","□","□","□","□",null,{"$f":"IF($G$12=\"\",\"\",IF($BA44=\"\",\"\",HLOOKUP($G$12,別紙mast!$D$4:$K$7,3,FALSE)))","v":""},"",{"$f":"IF($G$12=\"\",\"\",IF($BA44=\"\",\"\",HLOOKUP($G$12,別紙mast!$D$9:$K$11,3,FALSE)))","v":""},"",null,{"$f":"IF($C44=\"\",\"\",IF($G$12=\"\",\"\",HLOOKUP($G$12,別紙mast!$D$4:$K$7,4,FALSE)))","v":""},null,"",null,null,null,null,null,null,"","","","","","","","",null,"","","","","―",null,null,null,null,null,"","","","","","","","","","","","",null,null,null,null,null,"",""]
[null,15,null,"",null,null,null,null,null,null,null,null,null,null,null,"□","□","□","□",null,null,null,"□","□","□","□",null,null,null,"□","□","□","□","□","□",null,"□",null,"□","□",null,null,null,null,"","□","□","□","□","□","□","□",null,{"$f":"IF($G$12=\"\",\"\",IF($BA45=\"\",\"\",HLOOKUP($G$12,別紙mast!$D$4:$K$7,3,FALSE)))","v":""},"",{"$f":"IF($G$12=\"\",\"\",IF($BA45=\"\",\"\",HLOOKUP($G$12,別紙mast!$D$9:$K$11,3,FALSE)))","v":""},"",null,{"$f":"IF($C45=\"\",\"\",IF($G$12=\"\",\"\",HLOOKUP($G$12,別紙mast!$D$4:$K$7,4,FALSE)))","v":""},null,"",null,null,null,null,null,null,"","","","","","","","",null,"","","","","―",null,null,null,null,null,"","","","","","","","","","","","",null,null,null,null,null,"",""]
[null,16,null,"",null,null,null,null,null,null,null,null,null,null,null,"□","□","□","□",null,null,null,"□","□","□","□",null,null,null,"□","□","□","□","□","□",null,"□",null,"□","□",null,null,null,null,"","□","□","□","□","□","□","□",null,{"$f":"IF($G$12=\"\",\"\",IF($BA46=\"\",\"\",HLOOKUP($G$12,別紙mast!$D$4:$K$7,3,FALSE)))","v":""},"",{"$f":"IF($G$12=\"\",\"\",IF($BA46=\"\",\"\",HLOOKUP($G$12,別紙mast!$D$9:$K$11,3,FALSE)))","v":""},"",null,{"$f":"IF($C46=\"\",\"\",IF($G$12=\"\",\"\",HLOOKUP($G$12,別紙mast!$D$4:$K$7,4,FALSE)))","v":""},null,"",null,null,null,null,null,null,"","","","","","","","",null,"","","","","―",null,null,null,null,null,"","","","","","","","","","","","",null,null,null,null,null,"",""]
[null,17,null,"",null,null,null,null,null,null,null,null,null,null,null,"□","□","□","□",null,null,null,"□","□","□","□",null,null,null,"□","□","□","□","□","□",null,"□",null,"□","□",null,null,null,null,"","□","□","□","□","□","□","□",null,{"$f":"IF($G$12=\"\",\"\",IF($BA47=\"\",\"\",HLOOKUP($G$12,別紙mast!$D$4:$K$7,3,FALSE)))","v":""},"",{"$f":"IF($G$12=\"\",\"\",IF($BA47=\"\",\"\",HLOOKUP($G$12,別紙mast!$D$9:$K$11,3,FALSE)))","v":""},"",null,{"$f":"IF($C47=\"\",\"\",IF($G$12=\"\",\"\",HLOOKUP($G$12,別紙mast!$D$4:$K$7,4,FALSE)))","v":""},null,"",null,null,null,null,null,null,"","","","","","","","",null,"","","","","―",null,null,null,null,null,"","","","","","","","","","","","",null,null,null,null,null,"",""]
[null,18,null,"",null,null,null,null,null,null,null,null,null,null,null,"□","□","□","□",null,null,null,"□","□","□","□",null,null,null,"□","□","□","□","□","□",null,"□",null,"□","□",null,null,null,null,"","□","□","□","□","□","□","□",null,{"$f":"IF($G$12=\"\",\"\",IF($BA48=\"\",\"\",HLOOKUP($G$12,別紙mast!$D$4:$K$7,3,FALSE)))","v":""},"",{"$f":"IF($G$12=\"\",\"\",IF($BA48=\"\",\"\",HLOOKUP($G$12,別紙mast!$D$9:$K$11,3,FALSE)))","v":""},"",null,{"$f":"IF($C48=\"\",\"\",IF($G$12=\"\",\"\",HLOOKUP($G$12,別紙mast!$D$4:$K$7,4,FALSE)))","v":""},null,"",null,null,null,null,null,null,"","","","","","","","",null,"","","","","―",null,null,null,null,null,"","","","","","","","","","","","",null,null,null,null,null,"",""]
[null,19,null,"",null,null,null,null,null,null,null,null,null,null,null,"□","□","□","□",null,null,null,"□","□","□","□",null,null,null,"□","□","□","□","□","□",null,"□",null,"□","□",null,null,null,null,"","□","□","□","□","□","□","□",null,{"$f":"IF($G$12=\"\",\"\",IF($BA49=\"\",\"\",HLOOKUP($G$12,別紙mast!$D$4:$K$7,3,FALSE)))","v":""},"",{"$f":"IF($G$12=\"\",\"\",IF($BA49=\"\",\"\",HLOOKUP($G$12,別紙mast!$D$9:$K$11,3,FALSE)))","v":""},"",null,{"$f":"IF($C49=\"\",\"\",IF($G$12=\"\",\"\",HLOOKUP($G$12,別紙mast!$D$4:$K$7,4,FALSE)))","v":""},null,"",null,null,null,null,null,null,"","","","","","","","",null,"","","","","―",null,null,null,null,null,"","","","","","","","","","","","",null,null,null,null,null,"",""]
[null,20,null,"",null,null,null,null,null,null,null,null,null,null,null,"□","□","□","□",null,null,null,"□","□","□","□",null,null,null,"□","□","□","□","□","□",null,"□",null,"□","□",null,null,null,null,"","□","□","□","□","□","□","□",null,{"$f":"IF($G$12=\"\",\"\",IF($BA50=\"\",\"\",HLOOKUP($G$12,別紙mast!$D$4:$K$7,3,FALSE)))","v":""},"",{"$f":"IF($G$12=\"\",\"\",IF($BA50=\"\",\"\",HLOOKUP($G$12,別紙mast!$D$9:$K$11,3,FALSE)))","v":""},"",null,{"$f":"IF($C50=\"\",\"\",IF($G$12=\"\",\"\",HLOOKUP($G$12,別紙mast!$D$4:$K$7,4,FALSE)))","v":""},null,"",null,null,null,null,null,null,"","","","","","","","",null,"","","","","―",null,null,null,null,null,"","","","","","","","","","","","",null,null,null,null,null,"",""]
[null,21,null,"",null,null,null,null,null,null,null,null,null,null,null,"□","□","□","□",null,null,null,"□","□","□","□",null,null,null,"□","□","□","□","□","□",null,"□",null,"□","□",null,null,null,null,"","□","□","□","□","□","□","□",null,{"$f":"IF($G$12=\"\",\"\",IF($BA51=\"\",\"\",HLOOKUP($G$12,別紙mast!$D$4:$K$7,3,FALSE)))","v":""},"",{"$f":"IF($G$12=\"\",\"\",IF($BA51=\"\",\"\",HLOOKUP($G$12,別紙mast!$D$9:$K$11,3,FALSE)))","v":""},"",null,{"$f":"IF($C51=\"\",\"\",IF($G$12=\"\",\"\",HLOOKUP($G$12,別紙mast!$D$4:$K$7,4,FALSE)))","v":""},null,"",null,null,null,null,null,null,"","","","","","","","",null,"","","","","―",null,null,null,null,null,"","","","","","","","","","","","",null,null,null,null,null,"",""]
[null,22,null,"",null,null,null,null,null,null,null,null,null,null,null,"□","□","□","□",null,null,null,"□","□","□","□",null,null,null,"□","□","□","□","□","□",null,"□",null,"□","□",null,null,null,null,"","□","□","□","□","□","□","□",null,{"$f":"IF($G$12=\"\",\"\",IF($BA52=\"\",\"\",HLOOKUP($G$12,別紙mast!$D$4:$K$7,3,FALSE)))","v":""},"",{"$f":"IF($G$12=\"\",\"\",IF($BA52=\"\",\"\",HLOOKUP($G$12,別紙mast!$D$9:$K$11,3,FALSE)))","v":""},"",null,{"$f":"IF($C52=\"\",\"\",IF($G$12=\"\",\"\",HLOOKUP($G$12,別紙mast!$D$4:$K$7,4,FALSE)))","v":""},null,"",null,null,null,null,null,null,"","","","","","","","",null,"","","","","―",null,null,null,null,null,"","","","","","","","","","","","",null,null,null,null,null,"",""]
[null,23,null,"",null,null,null,null,null,null,null,null,null,null,null,"□","□","□","□",null,null,null,"□","□","□","□",null,null,null,"□","□","□","□","□","□",null,"□",null,"□","□",null,null,null,null,"","□","□","□","□","□","□","□",null,{"$f":"IF($G$12=\"\",\"\",IF($BA53=\"\",\"\",HLOOKUP($G$12,別紙mast!$D$4:$K$7,3,FALSE)))","v":""},"",{"$f":"IF($G$12=\"\",\"\",IF($BA53=\"\",\"\",HLOOKUP($G$12,別紙mast!$D$9:$K$11,3,FALSE)))","v":""},"",null,{"$f":"IF($C53=\"\",\"\",IF($G$12=\"\",\"\",HLOOKUP($G$12,別紙mast!$D$4:$K$7,4,FALSE)))","v":""},null,"",null,null,null,null,null,null,"","","","","","","","",null,"","","","","―",null,null,null,null,null,"","","","","","","","","","","","",null,null,null,null,null,"",""]
[null,24,null,"",null,null,null,null,null,null,null,null,null,null,null,"□","□","□","□",null,null,null,"□","□","□","□",null,null,null,"□","□","□","□","□","□",null,"□",null,"□","□",null,null,null,null,"","□","□","□","□","□","□","□",null,{"$f":"IF($G$12=\"\",\"\",IF($BA54=\"\",\"\",HLOOKUP($G$12,別紙mast!$D$4:$K$7,3,FALSE)))","v":""},"",{"$f":"IF($G$12=\"\",\"\",IF($BA54=\"\",\"\",HLOOKUP($G$12,別紙mast!$D$9:$K$11,3,FALSE)))","v":""},"",null,{"$f":"IF($C54=\"\",\"\",IF($G$12=\"\",\"\",HLOOKUP($G$12,別紙mast!$D$4:$K$7,4,FALSE)))","v":""},null,"",null,null,null,null,null,null,"","","","","","","","",null,"","","","","―",null,null,null,null,null,"","","","","","","","","","","","",null,null,null,null,null,"",""]
[null,25,null,"",null,null,null,null,null,null,null,null,null,null,null,"□","□","□","□",null,null,null,"□","□","□","□",null,null,null,"□","□","□","□","□","□",null,"□",null,"□","□",null,null,null,null,"","□","□","□","□","□","□","□",null,{"$f":"IF($G$12=\"\",\"\",IF($BA55=\"\",\"\",HLOOKUP($G$12,別紙mast!$D$4:$K$7,3,FALSE)))","v":""},"",{"$f":"IF($G$12=\"\",\"\",IF($BA55=\"\",\"\",HLOOKUP($G$12,別紙mast!$D$9:$K$11,3,FALSE)))","v":""},"",null,{"$f":"IF($C55=\"\",\"\",IF($G$12=\"\",\"\",HLOOKUP($G$12,別紙mast!$D$4:$K$7,4,FALSE)))","v":""},null,"",null,null,null,null,null,null,"","","","","","","","",null,"","","","","―",null,null,null,null,null,"","","","","","","","","","","","",null,null,null,null,null,"",""]
[null,26,null,"",null,null,null,null,null,null,null,null,null,null,null,"□","□","□","□",null,null,null,"□","□","□","□",null,null,null,"□","□","□","□","□","□",null,"□",null,"□","□",null,null,null,null,"","□","□","□","□","□","□","□",null,{"$f":"IF($G$12=\"\",\"\",IF($BA56=\"\",\"\",HLOOKUP($G$12,別紙mast!$D$4:$K$7,3,FALSE)))","v":""},"",{"$f":"IF($G$12=\"\",\"\",IF($BA56=\"\",\"\",HLOOKUP($G$12,別紙mast!$D$9:$K$11,3,FALSE)))","v":""},"",null,{"$f":"IF($C56=\"\",\"\",IF($G$12=\"\",\"\",HLOOKUP($G$12,別紙mast!$D$4:$K$7,4,FALSE)))","v":""},null,"",null,null,null,null,null,null,"","","","","","","","",null,"","","","","―",null,null,null,null,null,"","","","","","","","","","","","",null,null,null,null,null,"",""]
[null,27,null,"",null,null,null,null,null,null,null,null,null,null,null,"□","□","□","□",null,null,null,"□","□","□","□",null,null,null,"□","□","□","□","□","□",null,"□",null,"□","□",null,null,null,null,"","□","□","□","□","□","□","□",null,{"$f":"IF($G$12=\"\",\"\",IF($BA57=\"\",\"\",HLOOKUP($G$12,別紙mast!$D$4:$K$7,3,FALSE)))","v":""},"",{"$f":"IF($G$12=\"\",\"\",IF($BA57=\"\",\"\",HLOOKUP($G$12,別紙mast!$D$9:$K$11,3,FALSE)))","v":""},"",null,{"$f":"IF($C57=\"\",\"\",IF($G$12=\"\",\"\",HLOOKUP($G$12,別紙mast!$D$4:$K$7,4,FALSE)))","v":""},null,"",null,null,null,null,null,null,"","","","","","","","",null,"","","","","―",null,null,null,null,null,"","","","","","","","","","","","",null,null,null,null,null,"",""]
[null,28,null,"",null,null,null,null,null,null,null,null,null,null,null,"□","□","□","□",null,null,null,"□","□","□","□",null,null,null,"□","□","□","□","□","□",null,"□",null,"□","□",null,null,null,null,"","□","□","□","□","□","□","□",null,{"$f":"IF($G$12=\"\",\"\",IF($BA58=\"\",\"\",HLOOKUP($G$12,別紙mast!$D$4:$K$7,3,FALSE)))","v":""},"",{"$f":"IF($G$12=\"\",\"\",IF($BA58=\"\",\"\",HLOOKUP($G$12,別紙mast!$D$9:$K$11,3,FALSE)))","v":""},"",null,{"$f":"IF($C58=\"\",\"\",IF($G$12=\"\",\"\",HLOOKUP($G$12,別紙mast!$D$4:$K$7,4,FALSE)))","v":""},null,"",null,null,null,null,null,null,"","","","","","","","",null,"","","","","―",null,null,null,null,null,"","","","","","","","","","","","",null,null,null,null,null,"",""]
[null,29,null,"",null,null,null,null,null,null,null,null,null,null,null,"□","□","□","□",null,null,null,"□","□","□","□",null,null,null,"□","□","□","□","□","□",null,"□",null,"□","□",null,null,null,null,"","□","□","□","□","□","□","□",null,{"$f":"IF($G$12=\"\",\"\",IF($BA59=\"\",\"\",HLOOKUP($G$12,別紙mast!$D$4:$K$7,3,FALSE)))","v":""},"",{"$f":"IF($G$12=\"\",\"\",IF($BA59=\"\",\"\",HLOOKUP($G$12,別紙mast!$D$9:$K$11,3,FALSE)))","v":""},"",null,{"$f":"IF($C59=\"\",\"\",IF($G$12=\"\",\"\",HLOOKUP($G$12,別紙mast!$D$4:$K$7,4,FALSE)))","v":""},null,"",null,null,null,null,null,null,"","","","","","","","",null,"","","","","―",null,null,null,null,null,"","","","","","","","","","","","",null,null,null,null,null,"",""]
[null,30,null,"",null,null,null,null,null,null,null,null,null,null,null,"□","□","□","□",null,null,null,"□","□","□","□",null,null,null,"□","□","□","□","□","□",null,"□",null,"□","□",null,null,null,null,"","□","□","□","□","□","□","□",null,{"$f":"IF($G$12=\"\",\"\",IF($BA60=\"\",\"\",HLOOKUP($G$12,別紙mast!$D$4:$K$7,3,FALSE)))","v":""},"",{"$f":"IF($G$12=\"\",\"\",IF($BA60=\"\",\"\",HLOOKUP($G$12,別紙mast!$D$9:$K$11,3,FALSE)))","v":""},"",null,{"$f":"IF($C60=\"\",\"\",IF($G$12=\"\",\"\",HLOOKUP($G$12,別紙mast!$D$4:$K$7,4,FALSE)))","v":""},null,"",null,null,null,null,null,null,"","","","","","","","",null,"","","","","―",null,null,null,null,null,"","","","","","","","","","","","",null,null,null,null,null,"",""]
[null,31,null,"",null,null,null,null,null,null,null,null,null,null,null,"□","□","□","□",null,null,null,"□","□","□","□",null,null,null,"□","□","□","□","□","□",null,"□",null,"□","□",null,null,null,null,"","□","□","□","□","□","□","□",null,{"$f":"IF($G$12=\"\",\"\",IF($BA61=\"\",\"\",HLOOKUP($G$12,別紙mast!$D$4:$K$7,3,FALSE)))","v":""},"",{"$f":"IF($G$12=\"\",\"\",IF($BA61=\"\",\"\",HLOOKUP($G$12,別紙mast!$D$9:$K$11,3,FALSE)))","v":""},"",null,{"$f":"IF($C61=\"\",\"\",IF($G$12=\"\",\"\",HLOOKUP($G$12,別紙mast!$D$4:$K$7,4,FALSE)))","v":""},null,"",null,null,null,null,null,null,"","","","","","","","",null,"","","","","―",null,null,null,null,null,"","","","","","","","","","","","",null,null,null,null,null,"",""]
[null,32,null,"",null,null,null,null,null,null,null,null,null,null,null,"□","□","□","□",null,null,null,"□","□","□","□",null,null,null,"□","□","□","□","□","□",null,"□",null,"□","□",null,null,null,null,"","□","□","□","□","□","□","□",null,{"$f":"IF($G$12=\"\",\"\",IF($BA62=\"\",\"\",HLOOKUP($G$12,別紙mast!$D$4:$K$7,3,FALSE)))","v":""},"",{"$f":"IF($G$12=\"\",\"\",IF($BA62=\"\",\"\",HLOOKUP($G$12,別紙mast!$D$9:$K$11,3,FALSE)))","v":""},"",null,{"$f":"IF($C62=\"\",\"\",IF($G$12=\"\",\"\",HLOOKUP($G$12,別紙mast!$D$4:$K$7,4,FALSE)))","v":""},null,"",null,null,null,null,null,null,"","","","","","","","",null,"","","","","―",null,null,null,null,null,"","","","","","","","","","","","",null,null,null,null,null,"",""]
[null,33,null,"",null,null,null,null,null,null,null,null,null,null,null,"□","□","□","□",null,null,null,"□","□","□","□",null,null,null,"□","□","□","□","□","□",null,"□",null,"□","□",null,null,null,null,{"$f":"IF(AND($AP$28=\"■\",$AO$31<>\"\"),HLOOKUP($AO$31,$BY$30:$CC$230,ROW()-29,1),IF($AO63<>\"\",HLOOKUP($AO63,$BY$30:$CC$230,ROW()-29,1),\"\"))","v":""},"□","□","□","□","□","□","□",null,{"$f":"IF($G$12=\"\",\"\",IF($BA63=\"\",\"\",HLOOKUP($G$12,別紙mast!$D$4:$K$7,3,FALSE)))","v":""},"",{"$f":"IF($G$12=\"\",\"\",IF($BA63=\"\",\"\",HLOOKUP($G$12,別紙mast!$D$9:$K$11,3,FALSE)))","v":""},"",null,{"$f":"IF($C63=\"\",\"\",IF($G$12=\"\",\"\",HLOOKUP($G$12,別紙mast!$D$4:$K$7,4,FALSE)))","v":""},null,"",null,null,null,null,null,null,"","","","","","","","",null,{"$f":"IF(OR(BP63=\"\",BT63=\"\"),\"\",IF(AND($BP63>=20,$BT63>=100,$BC63=\"○\",$BE63=\"○\"),\"○\",\"×\"))","v":""},{"$f":"IF(OR(BP63=\"\",BT63=\"\"),\"\",IF(AND($BP63>=20,$BT63>=100,$BC63=\"適\"),\"×\",IF(AND($BP63>=20,$BT63>=75,$BT63<100,$BC63=\"○\",$BE63=\"○\"),\"○\",\"×\")))","v":""},{"$f":"IF(OR(BP63=\"\",BT63=\"\"),\"\",IF(AND($BP63>=20,$BC63=\"○\",$BE63=\"○\"),\"○\",\"×\"))","v":""},{"$f":"IF(OR(BP63=\"\",BT63=\"\"),\"\",IF(AND($BP63>=20,$BT63>=50,$BT63<75,$BC63=\"○\",$BE63=\"○\"),\"○\",\"×\"))","v":""},"―",null,null,null,null,null,{"$f":"IF(OR($CE63=\"\",$BJ63=\"\"),\"\",$CE63*$J63)","v":""},{"$f":"IF(OR($CF63=\"\",$BJ63=\"\"),\"\",$CF63*$J63)","v":""},{"$f":"IF(OR($CG63=\"\",$BJ63=\"\"),\"\",$CG63*$J63)","v":""},{"$f":"IF(OR($CH63=\"\",$BJ63=\"\"),\"\",$CH63*$J63)","v":""},"","","","",{"$f":"IF($BJ63=\"\",\"\",IF($O$5=\"■\",0,SUM($BN63*$J63)))","v":""},{"$f":"IF($BJ63=\"\",\"\",IF($O$5=\"■\",0,SUM($BO63*$J63)))","v":""},"",{"$f":"IF($CW63=\"\",\"\",IF($O$5=\"■\",SUM($CW63-$DA63),SUM($CW63-$CZ63)))","v":""},null,null,null,null,null,{"$f":"IF($BJ63=\"\",\"\",IF(($BL63-$BJ63-$BN63)*0.001>=0,ROUNDUP(($BL63-$BJ63-$BN63)*0.001,1),ROUNDDOWN(($BL63-$BJ63-$BN63)*0.001,1)))&\"\"","v":""},{"$f":"IF($BJ63=\"\",\"\",IF(($BK63-$BJ63-$BN63)*0.001>=0,ROUNDUP(($BK63-$BJ63-$BN63)*0.001,1),ROUNDDOWN(($BK63-$BJ63-$BN63)*0.001,1)))&\"\"","v":""}]
[null,34,null,"",null,null,null,null,null,null,null,null,null,null,null,"□","□","□","□",null,null,null,"□","□","□","□",null,null,null,"□","□","□","□","□","□",null,"□",null,"□","□",null,null,null,null,"","□","□","□","□","□","□","□",null,{"$f":"IF($G$12=\"\",\"\",IF($BA64=\"\",\"\",HLOOKUP($G$12,別紙mast!$D$4:$K$7,3,FALSE)))","v":""},"",{"$f":"IF($G$12=\"\",\"\",IF($BA64=\"\",\"\",HLOOKUP($G$12,別紙mast!$D$9:$K$11,3,FALSE)))","v":""},"",null,{"$f":"IF($C64=\"\",\"\",IF($G$12=\"\",\"\",HLOOKUP($G$12,別紙mast!$D$4:$K$7,4,FALSE)))","v":""},null,"",null,null,null,null,null,null,"","","","","","","","",null,"","","","","―",null,null,null,null,null,"","","","","","","","","","","","",null,null,null,null,null,"",""]
[null,35,null,"",null,null,null,null,null,null,null,null,null,null,null,"□","□","□","□",null,null,null,"□","□","□","□",null,null,null,"□","□","□","□","□","□",null,"□",null,"□","□",null,null,null,null,"","□","□","□","□","□","□","□",null,{"$f":"IF($G$12=\"\",\"\",IF($BA65=\"\",\"\",HLOOKUP($G$12,別紙mast!$D$4:$K$7,3,FALSE)))","v":""},"",{"$f":"IF($G$12=\"\",\"\",IF($BA65=\"\",\"\",HLOOKUP($G$12,別紙mast!$D$9:$K$11,3,FALSE)))","v":""},"",null,{"$f":"IF($C65=\"\",\"\",IF($G$12=\"\",\"\",HLOOKUP($G$12,別紙mast!$D$4:$K$7,4,FALSE)))","v":""},null,"",null,null,null,null,null,null,"","","","","","","","",null,"","","","","―",null,null,null,null,null,"","","","","","","","","","","","",null,null,null,null,null,"",""]
[null,36,null,"",null,null,null,null,null,null,null,null,null,null,null,"□","□","□","□",null,null,null,"□","□","□","□",null,null,null,"□","□","□","□","□","□",null,"□",null,"□","□",null,null,null,null,"","□","□","□","□","□","□","□",null,{"$f":"IF($G$12=\"\",\"\",IF($BA66=\"\",\"\",HLOOKUP($G$12,別紙mast!$D$4:$K$7,3,FALSE)))","v":""},"",{"$f":"IF($G$12=\"\",\"\",IF($BA66=\"\",\"\",HLOOKUP($G$12,別紙mast!$D$9:$K$11,3,FALSE)))","v":""},"",null,{"$f":"IF($C66=\"\",\"\",IF($G$12=\"\",\"\",HLOOKUP($G$12,別紙mast!$D$4:$K$7,4,FALSE)))","v":""},null,"",null,null,null,null,null,null,"","","","","","","","",null,"","","","","―",null,null,null,null,null,"","","","","","","","","","","","",null,null,null,null,null,"",""]
[null,37,null,"",null,null,null,null,null,null,null,null,null,null,null,"□","□","□","□",null,null,null,"□","□","□","□",null,null,null,"□","□","□","□","□","□",null,"□",null,"□","□",null,null,null,null,"","□","□","□","□","□","□","□",null,{"$f":"IF($G$12=\"\",\"\",IF($BA67=\"\",\"\",HLOOKUP($G$12,別紙mast!$D$4:$K$7,3,FALSE)))","v":""},"",{"$f":"IF($G$12=\"\",\"\",IF($BA67=\"\",\"\",HLOOKUP($G$12,別紙mast!$D$9:$K$11,3,FALSE)))","v":""},"",null,{"$f":"IF($C67=\"\",\"\",IF($G$12=\"\",\"\",HLOOKUP($G$12,別紙mast!$D$4:$K$7,4,FALSE)))","v":""},null,"",null,null,null,null,null,null,"","","","","","","","",null,"","","","","―",null,null,null,null,null,"","","","","","","","","","","","",null,null,null,null,null,"",""]
[null,38,null,"",null,null,null,null,null,null,null,null,null,null,null,"□","□","□","□",null,null,null,"□","□","□","□",null,null,null,"□","□","□","□","□","□",null,"□",null,"□","□",null,null,null,null,"","□","□","□","□","□","□","□",null,{"$f":"IF($G$12=\"\",\"\",IF($BA68=\"\",\"\",HLOOKUP($G$12,別紙mast!$D$4:$K$7,3,FALSE)))","v":""},"",{"$f":"IF($G$12=\"\",\"\",IF($BA68=\"\",\"\",HLOOKUP($G$12,別紙mast!$D$9:$K$11,3,FALSE)))","v":""},"",null,{"$f":"IF($C68=\"\",\"\",IF($G$12=\"\",\"\",HLOOKUP($G$12,別紙mast!$D$4:$K$7,4,FALSE)))","v":""},null,"",null,null,null,null,null,null,"","","","","","","","",null,"","","","","―",null,null,null,null,null,"","","","","","","","","","","","",null,null,null,null,null,"",""]
[null,39,null,"",null,null,null,null,null,null,null,null,null,null,null,"□","□","□","□",null,null,null,"□","□","□","□",null,null,null,"□","□","□","□","□","□",null,"□",null,"□","□",null,null,null,null,"","□","□","□","□","□","□","□",null,{"$f":"IF($G$12=\"\",\"\",IF($BA69=\"\",\"\",HLOOKUP($G$12,別紙mast!$D$4:$K$7,3,FALSE)))","v":""},"",{"$f":"IF($G$12=\"\",\"\",IF($BA69=\"\",\"\",HLOOKUP($G$12,別紙mast!$D$9:$K$11,3,FALSE)))","v":""},"",null,{"$f":"IF($C69=\"\",\"\",IF($G$12=\"\",\"\",HLOOKUP($G$12,別紙mast!$D$4:$K$7,4,FALSE)))","v":""},null,"",null,null,null,null,null,null,"","","","","","","","",null,"","","","","―",null,null,null,null,null,"","","","","","","","","","","","",null,null,null,null,null,"",""]
[null,40,null,"",null,null,null,null,null,null,null,null,null,null,null,"□","□","□","□",null,null,null,"□","□","□","□",null,null,null,"□","□","□","□","□","□",null,"□",null,"□","□",null,null,null,null,"","□","□","□","□","□","□","□",null,{"$f":"IF($G$12=\"\",\"\",IF($BA70=\"\",\"\",HLOOKUP($G$12,別紙mast!$D$4:$K$7,3,FALSE)))","v":""},"",{"$f":"IF($G$12=\"\",\"\",IF($BA70=\"\",\"\",HLOOKUP($G$12,別紙mast!$D$9:$K$11,3,FALSE)))","v":""},"",null,{"$f":"IF($C70=\"\",\"\",IF($G$12=\"\",\"\",HLOOKUP($G$12,別紙mast!$D$4:$K$7,4,FALSE)))","v":""},null,"",null,null,null,null,null,null,"","","","","","","","",null,"","","","","―",null,null,null,null,null,"","","","","","","","","","","","",null,null,null,null,null,"",""]
[null,41,null,"",null,null,null,null,null,null,null,null,null,null,null,"□","□","□","□",null,null,null,"□","□","□","□",null,null,null,"□","□","□","□","□","□",null,"□",null,"□","□",null,null,null,null,"","□","□","□","□","□","□","□",null,{"$f":"IF($G$12=\"\",\"\",IF($BA71=\"\",\"\",HLOOKUP($G$12,別紙mast!$D$4:$K$7,3,FALSE)))","v":""},"",{"$f":"IF($G$12=\"\",\"\",IF($BA71=\"\",\"\",HLOOKUP($G$12,別紙mast!$D$9:$K$11,3,FALSE)))","v":""},"",null,{"$f":"IF($C71=\"\",\"\",IF($G$12=\"\",\"\",HLOOKUP($G$12,別紙mast!$D$4:$K$7,4,FALSE)))","v":""},null,"",null,null,null,null,null,null,"","","","","","","","",null,"","","","","―",null,null,null,null,null,"","","","","","","","","","","","",null,null,null,null,null,"",""]
[null,42,null,"",null,null,null,null,null,null,null,null,null,null,null,"□","□","□","□",null,null,null,"□","□","□","□",null,null,null,"□","□","□","□","□","□",null,"□",null,"□","□",null,null,null,null,"","□","□","□","□","□","□","□",null,{"$f":"IF($G$12=\"\",\"\",IF($BA72=\"\",\"\",HLOOKUP($G$12,別紙mast!$D$4:$K$7,3,FALSE)))","v":""},"",{"$f":"IF($G$12=\"\",\"\",IF($BA72=\"\",\"\",HLOOKUP($G$12,別紙mast!$D$9:$K$11,3,FALSE)))","v":""},"",null,{"$f":"IF($C72=\"\",\"\",IF($G$12=\"\",\"\",HLOOKUP($G$12,別紙mast!$D$4:$K$7,4,FALSE)))","v":""},null,"",null,null,null,null,null,null,"","","","","","","","",null,"","","","","―",null,null,null,null,null,"","","","","","","","","","","","",null,null,null,null,null,"",""]
[null,43,null,"",null,null,null,null,null,null,null,null,null,null,null,"□","□","□","□",null,null,null,"□","□","□","□",null,null,null,"□","□","□","□","□","□",null,"□",null,"□","□",null,null,null,null,"","□","□","□","□","□","□","□",null,{"$f":"IF($G$12=\"\",\"\",IF($BA73=\"\",\"\",HLOOKUP($G$12,別紙mast!$D$4:$K$7,3,FALSE)))","v":""},"",{"$f":"IF($G$12=\"\",\"\",IF($BA73=\"\",\"\",HLOOKUP($G$12,別紙mast!$D$9:$K$11,3,FALSE)))","v":""},"",null,{"$f":"IF($C73=\"\",\"\",IF($G$12=\"\",\"\",HLOOKUP($G$12,別紙mast!$D$4:$K$7,4,FALSE)))","v":""},null,"",null,null,null,null,null,null,"","","","","","","","",null,"","","","","―",null,null,null,null,null,"","","","","","","","","","","","",null,null,null,null,null,"",""]
[null,44,null,"",null,null,null,null,null,null,null,null,null,null,null,"□","□","□","□",null,null,null,"□","□","□","□",null,null,null,"□","□","□","□","□","□",null,"□",null,"□","□",null,null,null,null,"","□","□","□","□","□","□","□",null,{"$f":"IF($G$12=\"\",\"\",IF($BA74=\"\",\"\",HLOOKUP($G$12,別紙mast!$D$4:$K$7,3,FALSE)))","v":""},"",{"$f":"IF($G$12=\"\",\"\",IF($BA74=\"\",\"\",HLOOKUP($G$12,別紙mast!$D$9:$K$11,3,FALSE)))","v":""},"",null,{"$f":"IF($C74=\"\",\"\",IF($G$12=\"\",\"\",HLOOKUP($G$12,別紙mast!$D$4:$K$7,4,FALSE)))","v":""},null,"",null,null,null,null,null,null,"","","","","","","","",null,"","","","","―",null,null,null,null,null,"","","","","","","","","","","","",null,null,null,null,null,"",""]
[null,45,null,"",null,null,null,null,null,null,null,null,null,null,null,"□","□","□","□",null,null,null,"□","□","□","□",null,null,null,"□","□","□","□","□","□",null,"□",null,"□","□",null,null,null,null,"","□","□","□","□","□","□","□",null,{"$f":"IF($G$12=\"\",\"\",IF($BA75=\"\",\"\",HLOOKUP($G$12,別紙mast!$D$4:$K$7,3,FALSE)))","v":""},"",{"$f":"IF($G$12=\"\",\"\",IF($BA75=\"\",\"\",HLOOKUP($G$12,別紙mast!$D$9:$K$11,3,FALSE)))","v":""},"",null,{"$f":"IF($C75=\"\",\"\",IF($G$12=\"\",\"\",HLOOKUP($G$12,別紙mast!$D$4:$K$7,4,FALSE)))","v":""},null,"",null,null,null,null,null,null,"","","","","","","","",null,"","","","","―",null,null,null,null,null,"","","","","","","","","","","","",null,null,null,null,null,"",""]
[null,46,null,"",null,null,null,null,null,null,null,null,null,null,null,"□","□","□","□",null,null,null,"□","□","□","□",null,null,null,"□","□","□","□","□","□",null,"□",null,"□","□",null,null,null,null,"","□","□","□","□","□","□","□",null,{"$f":"IF($G$12=\"\",\"\",IF($BA76=\"\",\"\",HLOOKUP($G$12,別紙mast!$D$4:$K$7,3,FALSE)))","v":""},"",{"$f":"IF($G$12=\"\",\"\",IF($BA76=\"\",\"\",HLOOKUP($G$12,別紙mast!$D$9:$K$11,3,FALSE)))","v":""},"",null,{"$f":"IF($C76=\"\",\"\",IF($G$12=\"\",\"\",HLOOKUP($G$12,別紙mast!$D$4:$K$7,4,FALSE)))","v":""},null,"",null,null,null,null,null,null,"","","","","","","","",null,"","","","","―",null,null,null,null,null,"","","","","","","","","","","","",null,null,null,null,null,"",""]
[null,47,null,"",null,null,null,null,null,null,null,null,null,null,null,"□","□","□","□",null,null,null,"□","□","□","□",null,null,null,"□","□","□","□","□","□",null,"□",null,"□","□",null,null,null,null,"","□","□","□","□","□","□","□",null,{"$f":"IF($G$12=\"\",\"\",IF($BA77=\"\",\"\",HLOOKUP($G$12,別紙mast!$D$4:$K$7,3,FALSE)))","v":""},"",{"$f":"IF($G$12=\"\",\"\",IF($BA77=\"\",\"\",HLOOKUP($G$12,別紙mast!$D$9:$K$11,3,FALSE)))","v":""},"",null,{"$f":"IF($C77=\"\",\"\",IF($G$12=\"\",\"\",HLOOKUP($G$12,別紙mast!$D$4:$K$7,4,FALSE)))","v":""},null,"",null,null,null,null,null,null,"","","","","","","","",null,"","","","","―",null,null,null,null,null,"","","","","","","","","","","","",null,null,null,null,null,"",""]
[null,48,null,"",null,null,null,null,null,null,null,null,null,null,null,"□","□","□","□",null,null,null,"□","□","□","□",null,null,null,"□","□","□","□","□","□",null,"□",null,"□","□",null,null,null,null,"","□","□","□","□","□","□","□",null,{"$f":"IF($G$12=\"\",\"\",IF($BA78=\"\",\"\",HLOOKUP($G$12,別紙mast!$D$4:$K$7,3,FALSE)))","v":""},"",{"$f":"IF($G$12=\"\",\"\",IF($BA78=\"\",\"\",HLOOKUP($G$12,別紙mast!$D$9:$K$11,3,FALSE)))","v":""},"",null,{"$f":"IF($C78=\"\",\"\",IF($G$12=\"\",\"\",HLOOKUP($G$12,別紙mast!$D$4:$K$7,4,FALSE)))","v":""},null,"",null,null,null,null,null,null,"","","","","","","","",null,"","","","","―",null,null,null,null,null,"","","","","","","","","","","","",null,null,null,null,null,"",""]
[null,49,null,"",null,null,null,null,null,null,null,null,null,null,null,"□","□","□","□",null,null,null,"□","□","□","□",null,null,null,"□","□","□","□","□","□",null,"□",null,"□","□",null,null,null,null,"","□","□","□","□","□","□","□",null,{"$f":"IF($G$12=\"\",\"\",IF($BA79=\"\",\"\",HLOOKUP($G$12,別紙mast!$D$4:$K$7,3,FALSE)))","v":""},"",{"$f":"IF($G$12=\"\",\"\",IF($BA79=\"\",\"\",HLOOKUP($G$12,別紙mast!$D$9:$K$11,3,FALSE)))","v":""},"",null,{"$f":"IF($C79=\"\",\"\",IF($G$12=\"\",\"\",HLOOKUP($G$12,別紙mast!$D$4:$K$7,4,FALSE)))","v":""},null,"",null,null,null,null,null,null,"","","","","","","","",null,"","","","","―",null,null,null,null,null,"","","","","","","","","","","","",null,null,null,null,null,"",""]
[null,50,null,"",null,null,null,null,null,null,null,null,null,null,null,"□","□","□","□",null,null,null,"□","□","□","□",null,null,null,"□","□","□","□","□","□",null,"□",null,"□","□",null,null,null,null,"","□","□","□","□","□","□","□",null,{"$f":"IF($G$12=\"\",\"\",IF($BA80=\"\",\"\",HLOOKUP($G$12,別紙mast!$D$4:$K$7,3,FALSE)))","v":""},"",{"$f":"IF($G$12=\"\",\"\",IF($BA80=\"\",\"\",HLOOKUP($G$12,別紙mast!$D$9:$K$11,3,FALSE)))","v":""},"",null,{"$f":"IF($C80=\"\",\"\",IF($G$12=\"\",\"\",HLOOKUP($G$12,別紙mast!$D$4:$K$7,4,FALSE)))","v":""},null,"",null,null,null,null,null,null,"","","","","","","","",null,"","","","","―",null,null,null,null,null,"","","","","","","","","","","","",null,null,null,null,null,"",""]
[null,51,null,"",null,null,null,null,null,null,null,null,null,null,null,"□","□","□","□",null,null,null,"□","□","□","□",null,null,null,"□","□","□","□","□","□",null,"□",null,"□","□",null,null,null,null,"","□","□","□","□","□","□","□",null,{"$f":"IF($G$12=\"\",\"\",IF($BA81=\"\",\"\",HLOOKUP($G$12,別紙mast!$D$4:$K$7,3,FALSE)))","v":""},"",{"$f":"IF($G$12=\"\",\"\",IF($BA81=\"\",\"\",HLOOKUP($G$12,別紙mast!$D$9:$K$11,3,FALSE)))","v":""},"",null,{"$f":"IF($C81=\"\",\"\",IF($G$12=\"\",\"\",HLOOKUP($G$12,別紙mast!$D$4:$K$7,4,FALSE)))","v":""},null,"",null,null,null,null,null,null,"","","","","","","","",null,"","","","","―",null,null,null,null,null,"","","","","","","","","","","","",null,null,null,null,null,"",""]
[null,52,null,"",null,null,null,null,null,null,null,null,null,null,null,"□","□","□","□",null,null,null,"□","□","□","□",null,null,null,"□","□","□","□","□","□",null,"□",null,"□","□",null,null,null,null,"","□","□","□","□","□","□","□",null,{"$f":"IF($G$12=\"\",\"\",IF($BA82=\"\",\"\",HLOOKUP($G$12,別紙mast!$D$4:$K$7,3,FALSE)))","v":""},"",{"$f":"IF($G$12=\"\",\"\",IF($BA82=\"\",\"\",HLOOKUP($G$12,別紙mast!$D$9:$K$11,3,FALSE)))","v":""},"",null,{"$f":"IF($C82=\"\",\"\",IF($G$12=\"\",\"\",HLOOKUP($G$12,別紙mast!$D$4:$K$7,4,FALSE)))","v":""},null,"",null,null,null,null,null,null,"","","","","","","","",null,"","","","","―",null,null,null,null,null,"","","","","","","","","","","","",null,null,null,null,null,"",""]
[null,53,null,"",null,null,null,null,null,null,null,null,null,null,null,"□","□","□","□",null,null,null,"□","□","□","□",null,null,null,"□","□","□","□","□","□",null,"□",null,"□","□",null,null,null,null,"","□","□","□","□","□","□","□",null,{"$f":"IF($G$12=\"\",\"\",IF($BA83=\"\",\"\",HLOOKUP($G$12,別紙mast!$D$4:$K$7,3,FALSE)))","v":""},"",{"$f":"IF($G$12=\"\",\"\",IF($BA83=\"\",\"\",HLOOKUP($G$12,別紙mast!$D$9:$K$11,3,FALSE)))","v":""},"",null,{"$f":"IF($C83=\"\",\"\",IF($G$12=\"\",\"\",HLOOKUP($G$12,別紙mast!$D$4:$K$7,4,FALSE)))","v":""},null,"",null,null,null,null,null,null,"","","","","","","","",null,"","","","","―",null,null,null,null,null,"","","","","","","","","","","","",null,null,null,null,null,"",""]
[null,54,null,"",null,null,null,null,null,null,null,null,null,null,null,"□","□","□","□",null,null,null,"□","□","□","□",null,null,null,"□","□","□","□","□","□",null,"□",null,"□","□",null,null,null,null,"","□","□","□","□","□","□","□",null,{"$f":"IF($G$12=\"\",\"\",IF($BA84=\"\",\"\",HLOOKUP($G$12,別紙mast!$D$4:$K$7,3,FALSE)))","v":""},"",{"$f":"IF($G$12=\"\",\"\",IF($BA84=\"\",\"\",HLOOKUP($G$12,別紙mast!$D$9:$K$11,3,FALSE)))","v":""},"",null,{"$f":"IF($C84=\"\",\"\",IF($G$12=\"\",\"\",HLOOKUP($G$12,別紙mast!$D$4:$K$7,4,FALSE)))","v":""},null,"",null,null,null,null,null,null,"","","","","","","","",null,"","","","","―",null,null,null,null,null,"","","","","","","","","","","","",null,null,null,null,null,"",""]
[null,55,null,"",null,null,null,null,null,null,null,null,null,null,null,"□","□","□","□",null,null,null,"□","□","□","□",null,null,null,"□","□","□","□","□","□",null,"□",null,"□","□",null,null,null,null,"","□","□","□","□","□","□","□",null,{"$f":"IF($G$12=\"\",\"\",IF($BA85=\"\",\"\",HLOOKUP($G$12,別紙mast!$D$4:$K$7,3,FALSE)))","v":""},"",{"$f":"IF($G$12=\"\",\"\",IF($BA85=\"\",\"\",HLOOKUP($G$12,別紙mast!$D$9:$K$11,3,FALSE)))","v":""},"",null,{"$f":"IF($C85=\"\",\"\",IF($G$12=\"\",\"\",HLOOKUP($G$12,別紙mast!$D$4:$K$7,4,FALSE)))","v":""},null,"",null,null,null,null,null,null,"","","","","","","","",null,"","","","","―",null,null,null,null,null,"","","","","","","","","","","","",null,null,null,null,null,"",""]
[null,56,null,"",null,null,null,null,null,null,null,null,null,null,null,"□","□","□","□",null,null,null,"□","□","□","□",null,null,null,"□","□","□","□","□","□",null,"□",null,"□","□",null,null,null,null,"","□","□","□","□","□","□","□",null,{"$f":"IF($G$12=\"\",\"\",IF($BA86=\"\",\"\",HLOOKUP($G$12,別紙mast!$D$4:$K$7,3,FALSE)))","v":""},"",{"$f":"IF($G$12=\"\",\"\",IF($BA86=\"\",\"\",HLOOKUP($G$12,別紙mast!$D$9:$K$11,3,FALSE)))","v":""},"",null,{"$f":"IF($C86=\"\",\"\",IF($G$12=\"\",\"\",HLOOKUP($G$12,別紙mast!$D$4:$K$7,4,FALSE)))","v":""},null,"",null,null,null,null,null,null,"","","","","","","","",null,"","","","","―",null,null,null,null,null,"","","","","","","","","","","","",null,null,null,null,null,"",""]
[null,57,null,"",null,null,null,null,null,null,null,null,null,null,null,"□","□","□","□",null,null,null,"□","□","□","□",null,null,null,"□","□","□","□","□","□",null,"□",null,"□","□",null,null,null,null,"","□","□","□","□","□","□","□",null,{"$f":"IF($G$12=\"\",\"\",IF($BA87=\"\",\"\",HLOOKUP($G$12,別紙mast!$D$4:$K$7,3,FALSE)))","v":""},"",{"$f":"IF($G$12=\"\",\"\",IF($BA87=\"\",\"\",HLOOKUP($G$12,別紙mast!$D$9:$K$11,3,FALSE)))","v":""},"",null,{"$f":"IF($C87=\"\",\"\",IF($G$12=\"\",\"\",HLOOKUP($G$12,別紙mast!$D$4:$K$7,4,FALSE)))","v":""},null,"",null,null,null,null,null,null,"","","","","","","","",null,"","","","","―",null,null,null,null,null,"","","","","","","","","","","","",null,null,null,null,null,"",""]
[null,58,null,"",null,null,null,null,null,null,null,null,null,null,null,"□","□","□","□",null,null,null,"□","□","□","□",null,null,null,"□","□","□","□","□","□",null,"□",null,"□","□",null,null,null,null,"","□","□","□","□","□","□","□",null,{"$f":"IF($G$12=\"\",\"\",IF($BA88=\"\",\"\",HLOOKUP($G$12,別紙mast!$D$4:$K$7,3,FALSE)))","v":""},"",{"$f":"IF($G$12=\"\",\"\",IF($BA88=\"\",\"\",HLOOKUP($G$12,別紙mast!$D$9:$K$11,3,FALSE)))","v":""},"",null,{"$f":"IF($C88=\"\",\"\",IF($G$12=\"\",\"\",HLOOKUP($G$12,別紙mast!$D$4:$K$7,4,FALSE)))","v":""},null,"",null,null,null,null,null,null,"","","","","","","","",null,"","","","","―",null,null,null,null,null,"","","","","","","","","","","","",null,null,null,null,null,"",""]
[null,59,null,"",null,null,null,null,null,null,null,null,null,null,null,"□","□","□","□",null,null,null,"□","□","□","□",null,null,null,"□","□","□","□","□","□",null,"□",null,"□","□",null,null,null,null,"","□","□","□","□","□","□","□",null,{"$f":"IF($G$12=\"\",\"\",IF($BA89=\"\",\"\",HLOOKUP($G$12,別紙mast!$D$4:$K$7,3,FALSE)))","v":""},"",{"$f":"IF($G$12=\"\",\"\",IF($BA89=\"\",\"\",HLOOKUP($G$12,別紙mast!$D$9:$K$11,3,FALSE)))","v":""},"",null,{"$f":"IF($C89=\"\",\"\",IF($G$12=\"\",\"\",HLOOKUP($G$12,別紙mast!$D$4:$K$7,4,FALSE)))","v":""},null,"",null,null,null,null,null,null,"","","","","","","","",null,"","","","","―",null,null,null,null,null,"","","","","","","","","","","","",null,null,null,null,null,"",""]
[null,60,null,"",null,null,null,null,null,null,null,null,null,null,null,"□","□","□","□",null,null,null,"□","□","□","□",null,null,null,"□","□","□","□","□","□",null,"□",null,"□","□",null,null,null,null,"","□","□","□","□","□","□","□",null,{"$f":"IF($G$12=\"\",\"\",IF($BA90=\"\",\"\",HLOOKUP($G$12,別紙mast!$D$4:$K$7,3,FALSE)))","v":""},"",{"$f":"IF($G$12=\"\",\"\",IF($BA90=\"\",\"\",HLOOKUP($G$12,別紙mast!$D$9:$K$11,3,FALSE)))","v":""},"",null,{"$f":"IF($C90=\"\",\"\",IF($G$12=\"\",\"\",HLOOKUP($G$12,別紙mast!$D$4:$K$7,4,FALSE)))","v":""},null,"",null,null,null,null,null,null,"","","","","","","","",null,"","","","","―",null,null,null,null,null,"","","","","","","","","","","","",null,null,null,null,null,"",""]
[null,61,null,"",null,null,null,null,null,null,null,null,null,null,null,"□","□","□","□",null,null,null,"□","□","□","□",null,null,null,"□","□","□","□","□","□",null,"□",null,"□","□",null,null,null,null,"","□","□","□","□","□","□","□",null,{"$f":"IF($G$12=\"\",\"\",IF($BA91=\"\",\"\",HLOOKUP($G$12,別紙mast!$D$4:$K$7,3,FALSE)))","v":""},"",{"$f":"IF($G$12=\"\",\"\",IF($BA91=\"\",\"\",HLOOKUP($G$12,別紙mast!$D$9:$K$11,3,FALSE)))","v":""},"",null,{"$f":"IF($C91=\"\",\"\",IF($G$12=\"\",\"\",HLOOKUP($G$12,別紙mast!$D$4:$K$7,4,FALSE)))","v":""},null,"",null,null,null,null,null,null,"","","","","","","","",null,"","","","","―",null,null,null,null,null,"","","","","","","","","","","","",null,null,null,null,null,"",""]
[null,62,null,"",null,null,null,null,null,null,null,null,null,null,null,"□","□","□","□",null,null,null,"□","□","□","□",null,null,null,"□","□","□","□","□","□",null,"□",null,"□","□",null,null,null,null,"","□","□","□","□","□","□","□",null,{"$f":"IF($G$12=\"\",\"\",IF($BA92=\"\",\"\",HLOOKUP($G$12,別紙mast!$D$4:$K$7,3,FALSE)))","v":""},"",{"$f":"IF($G$12=\"\",\"\",IF($BA92=\"\",\"\",HLOOKUP($G$12,別紙mast!$D$9:$K$11,3,FALSE)))","v":""},"",null,{"$f":"IF($C92=\"\",\"\",IF($G$12=\"\",\"\",HLOOKUP($G$12,別紙mast!$D$4:$K$7,4,FALSE)))","v":""},null,"",null,null,null,null,null,null,"","","","","","","","",null,"","","","","―",null,null,null,null,null,"","","","","","","","","","","","",null,null,null,null,null,"",""]
[null,63,null,"",null,null,null,null,null,null,null,null,null,null,null,"□","□","□","□",null,null,null,"□","□","□","□",null,null,null,"□","□","□","□","□","□",null,"□",null,"□","□",null,null,null,null,"","□","□","□","□","□","□","□",null,{"$f":"IF($G$12=\"\",\"\",IF($BA93=\"\",\"\",HLOOKUP($G$12,別紙mast!$D$4:$K$7,3,FALSE)))","v":""},"",{"$f":"IF($G$12=\"\",\"\",IF($BA93=\"\",\"\",HLOOKUP($G$12,別紙mast!$D$9:$K$11,3,FALSE)))","v":""},"",null,{"$f":"IF($C93=\"\",\"\",IF($G$12=\"\",\"\",HLOOKUP($G$12,別紙mast!$D$4:$K$7,4,FALSE)))","v":""},null,"",null,null,null,null,null,null,"","","","","","","","",null,"","","","","―",null,null,null,null,null,"","","","","","","","","","","","",null,null,null,null,null,"",""]
[null,64,null,"",null,null,null,null,null,null,null,null,null,null,null,"□","□","□","□",null,null,null,"□","□","□","□",null,null,null,"□","□","□","□","□","□",null,"□",null,"□","□",null,null,null,null,"","□","□","□","□","□","□","□",null,{"$f":"IF($G$12=\"\",\"\",IF($BA94=\"\",\"\",HLOOKUP($G$12,別紙mast!$D$4:$K$7,3,FALSE)))","v":""},"",{"$f":"IF($G$12=\"\",\"\",IF($BA94=\"\",\"\",HLOOKUP($G$12,別紙mast!$D$9:$K$11,3,FALSE)))","v":""},"",null,{"$f":"IF($C94=\"\",\"\",IF($G$12=\"\",\"\",HLOOKUP($G$12,別紙mast!$D$4:$K$7,4,FALSE)))","v":""},null,"",null,null,null,null,null,null,"","","","","","","","",null,"","","","","―",null,null,null,null,null,"","","","","","","","","","","","",null,null,null,null,null,"",""]
[null,65,null,"",null,null,null,null,null,null,null,null,null,null,null,"□","□","□","□",null,null,null,"□","□","□","□",null,null,null,"□","□","□","□","□","□",null,"□",null,"□","□",null,null,null,null,{"$f":"IF(AND($AP$28=\"■\",$AO$31<>\"\"),HLOOKUP($AO$31,$BY$30:$CC$230,ROW()-29,1),IF($AO95<>\"\",HLOOKUP($AO95,$BY$30:$CC$230,ROW()-29,1),\"\"))","v":""},"□","□","□","□","□","□","□",null,{"$f":"IF($G$12=\"\",\"\",IF($BA95=\"\",\"\",HLOOKUP($G$12,別紙mast!$D$4:$K$7,3,FALSE)))","v":""},"",{"$f":"IF($G$12=\"\",\"\",IF($BA95=\"\",\"\",HLOOKUP($G$12,別紙mast!$D$9:$K$11,3,FALSE)))","v":""},"",null,{"$f":"IF($C95=\"\",\"\",IF($G$12=\"\",\"\",HLOOKUP($G$12,別紙mast!$D$4:$K$7,4,FALSE)))","v":""},null,"",null,null,null,null,null,null,{"$f":"IF($C95=\"\",\"\",TRUNC(($CS95/$CW95)*100))","v":""},"","","","","","","",null,{"$f":"IF(OR(BP95=\"\",BT95=\"\"),\"\",IF(AND($BP95>=20,$BT95>=100,$BC95=\"○\",$BE95=\"○\"),\"○\",\"×\"))","v":""},{"$f":"IF(OR(BP95=\"\",BT95=\"\"),\"\",IF(AND($BP95>=20,$BT95>=100,$BC95=\"適\"),\"×\",IF(AND($BP95>=20,$BT95>=75,$BT95<100,$BC95=\"○\",$BE95=\"○\"),\"○\",\"×\")))","v":""},{"$f":"IF(OR(BP95=\"\",BT95=\"\"),\"\",IF(AND($BP95>=20,$BC95=\"○\",$BE95=\"○\"),\"○\",\"×\"))","v":""},{"$f":"IF(OR(BP95=\"\",BT95=\"\"),\"\",IF(AND($BP95>=20,$BT95>=50,$BT95<75,$BC95=\"○\",$BE95=\"○\"),\"○\",\"×\"))","v":""},"―",null,null,null,null,null,{"$f":"IF(OR($CE95=\"\",$BJ95=\"\"),\"\",$CE95*$J95)","v":""},{"$f":"IF(OR($CF95=\"\",$BJ95=\"\"),\"\",$CF95*$J95)","v":""},{"$f":"IF(OR($CG95=\"\",$BJ95=\"\"),\"\",$CG95*$J95)","v":""},{"$f":"IF(OR($CH95=\"\",$BJ95=\"\"),\"\",$CH95*$J95)","v":""},"","","","",{"$f":"IF($BJ95=\"\",\"\",IF($O$5=\"■\",0,SUM($BN95*$J95)))","v":""},{"$f":"IF($BJ95=\"\",\"\",IF($O$5=\"■\",0,SUM($BO95*$J95)))","v":""},"",{"$f":"IF($CW95=\"\",\"\",IF($O$5=\"■\",SUM($CW95-$DA95),SUM($CW95-$CZ95)))","v":""},null,null,null,null,null,{"$f":"IF($BJ95=\"\",\"\",IF(($BL95-$BJ95-$BN95)*0.001>=0,ROUNDUP(($BL95-$BJ95-$BN95)*0.001,1),ROUNDDOWN(($BL95-$BJ95-$BN95)*0.001,1)))&\"\"","v":""},{"$f":"IF($BJ95=\"\",\"\",IF(($BK95-$BJ95-$BN95)*0.001>=0,ROUNDUP(($BK95-$BJ95-$BN95)*0.001,1),ROUNDDOWN(($BK95-$BJ95-$BN95)*0.001,1)))&\"\"","v":""}]
[null,66,null,"",null,null,null,null,null,null,null,null,null,null,null,"□","□","□","□",null,null,null,"□","□","□","□",null,null,null,"□","□","□","□","□","□",null,"□",null,"□","□",null,null,null,null,"","□","□","□","□","□","□","□",null,{"$f":"IF($G$12=\"\",\"\",IF($BA96=\"\",\"\",HLOOKUP($G$12,別紙mast!$D$4:$K$7,3,FALSE)))","v":""},{"$f":"IF(OR(AND($C96<>\"\",$Q$28=\"■\"),AND($C96<>\"\",$R$28=\"■\")),\"○\",IF(AND($BA96=\"\"),\"\",IF($BA96<=$BB96,\"○\",\"×\")))","v":""},{"$f":"IF($G$12=\"\",\"\",IF($BA96=\"\",\"\",HLOOKUP($G$12,別紙mast!$D$9:$K$11,3,FALSE)))","v":""},{"$f":"IF(AND($C96<>\"\",$R$28=\"■\"),\"○\",IF(AND($BD96=\"\"),\"\",IF($BA96<=$BD96,\"○\",\"×\")))","v":""},null,{"$f":"IF($C96=\"\",\"\",IF($G$12=\"\",\"\",HLOOKUP($G$12,別紙mast!$D$4:$K$7,4,FALSE)))","v":""},null,{"$f":"IF(OR(AND($C96<>\"\",$Q$28=\"■\"),AND($C96<>\"\",$R$28=\"■\")),\"○\",IF(AND(BG96=\"\"),\"\",IF(BF96<=BG96,\"○\",\"×\")))","v":""},null,null,null,null,null,null,"",{"$f":"IF($C96=\"\",\"\",$CY96)","v":""},{"$f":"IF($C96=\"\",\"\",IF(OR($O$5=\"■\",$AD$28=\"■\",$AD96=\"■\"),\"ー\",SUM(1-$BS96)))","v":""},{"$f":"IF($C96=\"\",\"\",IF(OR($O$5=\"■\",$AD$28=\"■\",$AD96=\"■\"),\"ー\",CX96))","v":""},{"$f":"IF($C96=\"\",\"\",TRUNC(($CT96/$CW96)*100))","v":""},{"$f":"IF($C96=\"\",\"\",IF(OR($O$5=\"■\",$AD$28=\"■\",$AD96=\"■\"),\"ー\",SUM((100-$BT96)/100)))","v":""},{"$f":"IF($D96=\"\",\"\",$D96)","v":""},{"$f":"IF($G96=\"\",\"\",$G96)","v":""},null,"","","","","―",null,null,null,null,null,"","","","",{"$f":"IF($C96=\"\",\"\",SUM($BJ96*$J96))","v":""},{"$f":"IF($C96=\"\",\"\",SUM($BK96*$J96))","v":""},{"$f":"IF($C96=\"\",\"\",IF($O$5=\"■\",SUM($BK96*$J96),SUM($BL96*$J96)))","v":""},{"$f":"IF($C96=\"\",\"\",SUM($BM96*$J96))","v":""},"","",{"$f":"IF($CV96=\"\",\"\",($CW96-$CV96))","v":""},"",null,null,null,null,null,"",""]
[null,67,null,"",null,null,null,null,null,null,null,null,null,null,null,"□","□","□","□",null,null,null,"□","□","□","□",null,null,null,"□","□","□","□","□","□",null,"□",null,"□","□",null,null,null,null,"","□","□","□","□","□","□","□",null,{"$f":"IF($G$12=\"\",\"\",IF($BA97=\"\",\"\",HLOOKUP($G$12,別紙mast!$D$4:$K$7,3,FALSE)))","v":""},"",{"$f":"IF($G$12=\"\",\"\",IF($BA97=\"\",\"\",HLOOKUP($G$12,別紙mast!$D$9:$K$11,3,FALSE)))","v":""},"",null,{"$f":"IF($C97=\"\",\"\",IF($G$12=\"\",\"\",HLOOKUP($G$12,別紙mast!$D$4:$K$7,4,FALSE)))","v":""},null,"",null,null,null,null,null,null,"","","","","","","","",null,"","","","","―",null,null,null,null,null,"","","","","","","","","","","","",null,null,null,null,null,"",""]
[null,68,null,"",null,null,null,null,null,null,null,null,null,null,null,"□","□","□","□",null,null,null,"□","□","□","□",null,null,null,"□","□","□","□","□","□",null,"□",null,"□","□",null,null,null,null,"","□","□","□","□","□","□","□",null,{"$f":"IF($G$12=\"\",\"\",IF($BA98=\"\",\"\",HLOOKUP($G$12,別紙mast!$D$4:$K$7,3,FALSE)))","v":""},"",{"$f":"IF($G$12=\"\",\"\",IF($BA98=\"\",\"\",HLOOKUP($G$12,別紙mast!$D$9:$K$11,3,FALSE)))","v":""},"",null,{"$f":"IF($C98=\"\",\"\",IF($G$12=\"\",\"\",HLOOKUP($G$12,別紙mast!$D$4:$K$7,4,FALSE)))","v":""},null,"",null,null,null,null,null,null,"","","","","","","","",null,"","","","","―",null,null,null,null,null,"","","","","","","","","","","","",null,null,null,null,null,"",""]
[null,69,null,"",null,null,null,null,null,null,null,null,null,null,null,"□","□","□","□",null,null,null,"□","□","□","□",null,null,null,"□","□","□","□","□","□",null,"□",null,"□","□",null,null,null,null,"","□","□","□","□","□","□","□",null,{"$f":"IF($G$12=\"\",\"\",IF($BA99=\"\",\"\",HLOOKUP($G$12,別紙mast!$D$4:$K$7,3,FALSE)))","v":""},"",{"$f":"IF($G$12=\"\",\"\",IF($BA99=\"\",\"\",HLOOKUP($G$12,別紙mast!$D$9:$K$11,3,FALSE)))","v":""},"",null,{"$f":"IF($C99=\"\",\"\",IF($G$12=\"\",\"\",HLOOKUP($G$12,別紙mast!$D$4:$K$7,4,FALSE)))","v":""},null,"",null,null,null,null,null,null,"","","","","","","","",null,"","","","","―",null,null,null,null,null,"","","","","","","","","","","","",null,null,null,null,null,"",""]
[null,70,null,"",null,null,null,null,null,null,null,null,null,null,null,"□","□","□","□",null,null,null,"□","□","□","□",null,null,null,"□","□","□","□","□","□",null,"□",null,"□","□",null,null,null,null,"","□","□","□","□","□","□","□",null,{"$f":"IF($G$12=\"\",\"\",IF($BA100=\"\",\"\",HLOOKUP($G$12,別紙mast!$D$4:$K$7,3,FALSE)))","v":""},"",{"$f":"IF($G$12=\"\",\"\",IF($BA100=\"\",\"\",HLOOKUP($G$12,別紙mast!$D$9:$K$11,3,FALSE)))","v":""},"",null,{"$f":"IF($C100=\"\",\"\",IF($G$12=\"\",\"\",HLOOKUP($G$12,別紙mast!$D$4:$K$7,4,FALSE)))","v":""},null,"",null,null,null,null,null,null,"","","","","","","","",null,"","","","","―",null,null,null,null,null,"","","","","","","","","","","","",null,null,null,null,null,"",""]
[null,71,null,"",null,null,null,null,null,null,null,null,null,null,null,"□","□","□","□",null,null,null,"□","□","□","□",null,null,null,"□","□","□","□","□","□",null,"□",null,"□","□",null,null,null,null,"","□","□","□","□","□","□","□",null,{"$f":"IF($G$12=\"\",\"\",IF($BA101=\"\",\"\",HLOOKUP($G$12,別紙mast!$D$4:$K$7,3,FALSE)))","v":""},"",{"$f":"IF($G$12=\"\",\"\",IF($BA101=\"\",\"\",HLOOKUP($G$12,別紙mast!$D$9:$K$11,3,FALSE)))","v":""},"",null,{"$f":"IF($C101=\"\",\"\",IF($G$12=\"\",\"\",HLOOKUP($G$12,別紙mast!$D$4:$K$7,4,FALSE)))","v":""},null,"",null,null,null,null,null,null,"","","","","","","","",null,"","","","","―",null,null,null,null,null,"","","","","","","","","","","","",null,null,null,null,null,"",""]
[null,72,null,"",null,null,null,null,null,null,null,null,null,null,null,"□","□","□","□",null,null,null,"□","□","□","□",null,null,null,"□","□","□","□","□","□",null,"□",null,"□","□",null,null,null,null,"","□","□","□","□","□","□","□",null,{"$f":"IF($G$12=\"\",\"\",IF($BA102=\"\",\"\",HLOOKUP($G$12,別紙mast!$D$4:$K$7,3,FALSE)))","v":""},"",{"$f":"IF($G$12=\"\",\"\",IF($BA102=\"\",\"\",HLOOKUP($G$12,別紙mast!$D$9:$K$11,3,FALSE)))","v":""},"",null,{"$f":"IF($C102=\"\",\"\",IF($G$12=\"\",\"\",HLOOKUP($G$12,別紙mast!$D$4:$K$7,4,FALSE)))","v":""},null,"",null,null,null,null,null,null,"","","","","","","","",null,"","","","","―",null,null,null,null,null,"","","","","","","","","","","","",null,null,null,null,null,"",""]
[null,73,null,"",null,null,null,null,null,null,null,null,null,null,null,"□","□","□","□",null,null,null,"□","□","□","□",null,null,null,"□","□","□","□","□","□",null,"□",null,"□","□",null,null,null,null,"","□","□","□","□","□","□","□",null,{"$f":"IF($G$12=\"\",\"\",IF($BA103=\"\",\"\",HLOOKUP($G$12,別紙mast!$D$4:$K$7,3,FALSE)))","v":""},"",{"$f":"IF($G$12=\"\",\"\",IF($BA103=\"\",\"\",HLOOKUP($G$12,別紙mast!$D$9:$K$11,3,FALSE)))","v":""},"",null,{"$f":"IF($C103=\"\",\"\",IF($G$12=\"\",\"\",HLOOKUP($G$12,別紙mast!$D$4:$K$7,4,FALSE)))","v":""},null,"",null,null,null,null,null,null,"","","","","","","","",null,"","","","","―",null,null,null,null,null,"","","","","","","","","","","","",null,null,null,null,null,"",""]
[null,74,null,"",null,null,null,null,null,null,null,null,null,null,null,"□","□","□","□",null,null,null,"□","□","□","□",null,null,null,"□","□","□","□","□","□",null,"□",null,"□","□",null,null,null,null,"","□","□","□","□","□","□","□",null,{"$f":"IF($G$12=\"\",\"\",IF($BA104=\"\",\"\",HLOOKUP($G$12,別紙mast!$D$4:$K$7,3,FALSE)))","v":""},"",{"$f":"IF($G$12=\"\",\"\",IF($BA104=\"\",\"\",HLOOKUP($G$12,別紙mast!$D$9:$K$11,3,FALSE)))","v":""},"",null,{"$f":"IF($C104=\"\",\"\",IF($G$12=\"\",\"\",HLOOKUP($G$12,別紙mast!$D$4:$K$7,4,FALSE)))","v":""},null,"",null,null,null,null,null,null,"","","","","","","","",null,"","","","","―",null,null,null,null,null,"","","","","","","","","","","","",null,null,null,null,null,"",""]
[null,75,null,"",null,null,null,null,null,null,null,null,null,null,null,"□","□","□","□",null,null,null,"□","□","□","□",null,null,null,"□","□","□","□","□","□",null,"□",null,"□","□",null,null,null,null,"","□","□","□","□","□","□","□",null,{"$f":"IF($G$12=\"\",\"\",IF($BA105=\"\",\"\",HLOOKUP($G$12,別紙mast!$D$4:$K$7,3,FALSE)))","v":""},"",{"$f":"IF($G$12=\"\",\"\",IF($BA105=\"\",\"\",HLOOKUP($G$12,別紙mast!$D$9:$K$11,3,FALSE)))","v":""},"",null,{"$f":"IF($C105=\"\",\"\",IF($G$12=\"\",\"\",HLOOKUP($G$12,別紙mast!$D$4:$K$7,4,FALSE)))","v":""},null,"",null,null,null,null,null,null,"","","","","","","","",null,"","","","","―",null,null,null,null,null,"","","","","","","","","","","","",null,null,null,null,null,"",""]
[null,76,null,"",null,null,null,null,null,null,null,null,null,null,null,"□","□","□","□",null,null,null,"□","□","□","□",null,null,null,"□","□","□","□","□","□",null,"□",null,"□","□",null,null,null,null,"","□","□","□","□","□","□","□",null,{"$f":"IF($G$12=\"\",\"\",IF($BA106=\"\",\"\",HLOOKUP($G$12,別紙mast!$D$4:$K$7,3,FALSE)))","v":""},"",{"$f":"IF($G$12=\"\",\"\",IF($BA106=\"\",\"\",HLOOKUP($G$12,別紙mast!$D$9:$K$11,3,FALSE)))","v":""},"",null,{"$f":"IF($C106=\"\",\"\",IF($G$12=\"\",\"\",HLOOKUP($G$12,別紙mast!$D$4:$K$7,4,FALSE)))","v":""},null,"",null,null,null,null,null,null,"","","","","","","","",null,"","","","","―",null,null,null,null,null,"","","","","","","","","","","","",null,null,null,null,null,"",""]
[null,77,null,"",null,null,null,null,null,null,null,null,null,null,null,"□","□","□","□",null,null,null,"□","□","□","□",null,null,null,"□","□","□","□","□","□",null,"□",null,"□","□",null,null,null,null,"","□","□","□","□","□","□","□",null,{"$f":"IF($G$12=\"\",\"\",IF($BA107=\"\",\"\",HLOOKUP($G$12,別紙mast!$D$4:$K$7,3,FALSE)))","v":""},"",{"$f":"IF($G$12=\"\",\"\",IF($BA107=\"\",\"\",HLOOKUP($G$12,別紙mast!$D$9:$K$11,3,FALSE)))","v":""},"",null,{"$f":"IF($C107=\"\",\"\",IF($G$12=\"\",\"\",HLOOKUP($G$12,別紙mast!$D$4:$K$7,4,FALSE)))","v":""},null,"",null,null,null,null,null,null,"","","","","","","","",null,"","","","","―",null,null,null,null,null,"","","","","","","","","","","","",null,null,null,null,null,"",""]
[null,78,null,"",null,null,null,null,null,null,null,null,null,null,null,"□","□","□","□",null,null,null,"□","□","□","□",null,null,null,"□","□","□","□","□","□",null,"□",null,"□","□",null,null,null,null,"","□","□","□","□","□","□","□",null,{"$f":"IF($G$12=\"\",\"\",IF($BA108=\"\",\"\",HLOOKUP($G$12,別紙mast!$D$4:$K$7,3,FALSE)))","v":""},"",{"$f":"IF($G$12=\"\",\"\",IF($BA108=\"\",\"\",HLOOKUP($G$12,別紙mast!$D$9:$K$11,3,FALSE)))","v":""},"",null,{"$f":"IF($C108=\"\",\"\",IF($G$12=\"\",\"\",HLOOKUP($G$12,別紙mast!$D$4:$K$7,4,FALSE)))","v":""},null,"",null,null,null,null,null,null,"","","","","","","","",null,"","","","","―",null,null,null,null,null,"","","","","","","","","","","","",null,null,null,null,null,"",""]
[null,79,null,"",null,null,null,null,null,null,null,null,null,null,null,"□","□","□","□",null,null,null,"□","□","□","□",null,null,null,"□","□","□","□","□","□",null,"□",null,"□","□",null,null,null,null,"","□","□","□","□","□","□","□",null,{"$f":"IF($G$12=\"\",\"\",IF($BA109=\"\",\"\",HLOOKUP($G$12,別紙mast!$D$4:$K$7,3,FALSE)))","v":""},"",{"$f":"IF($G$12=\"\",\"\",IF($BA109=\"\",\"\",HLOOKUP($G$12,別紙mast!$D$9:$K$11,3,FALSE)))","v":""},"",null,{"$f":"IF($C109=\"\",\"\",IF($G$12=\"\",\"\",HLOOKUP($G$12,別紙mast!$D$4:$K$7,4,FALSE)))","v":""},null,"",null,null,null,null,null,null,"","","","","","","","",null,"","","","","―",null,null,null,null,null,"","","","","","","","","","","","",null,null,null,null,null,"",""]
[null,80,null,"",null,null,null,null,null,null,null,null,null,null,null,"□","□","□","□",null,null,null,"□","□","□","□",null,null,null,"□","□","□","□","□","□",null,"□",null,"□","□",null,null,null,null,"","□","□","□","□","□","□","□",null,{"$f":"IF($G$12=\"\",\"\",IF($BA110=\"\",\"\",HLOOKUP($G$12,別紙mast!$D$4:$K$7,3,FALSE)))","v":""},"",{"$f":"IF($G$12=\"\",\"\",IF($BA110=\"\",\"\",HLOOKUP($G$12,別紙mast!$D$9:$K$11,3,FALSE)))","v":""},"",null,{"$f":"IF($C110=\"\",\"\",IF($G$12=\"\",\"\",HLOOKUP($G$12,別紙mast!$D$4:$K$7,4,FALSE)))","v":""},null,"",null,null,null,null,null,null,"","","","","","","","",null,"","","","","―",null,null,null,null,null,"","","","","","","","","","","","",null,null,null,null,null,"",""]
[null,81,null,"",null,null,null,null,null,null,null,null,null,null,null,"□","□","□","□",null,null,null,"□","□","□","□",null,null,null,"□","□","□","□","□","□",null,"□",null,"□","□",null,null,null,null,"","□","□","□","□","□","□","□",null,{"$f":"IF($G$12=\"\",\"\",IF($BA111=\"\",\"\",HLOOKUP($G$12,別紙mast!$D$4:$K$7,3,FALSE)))","v":""},"",{"$f":"IF($G$12=\"\",\"\",IF($BA111=\"\",\"\",HLOOKUP($G$12,別紙mast!$D$9:$K$11,3,FALSE)))","v":""},"",null,{"$f":"IF($C111=\"\",\"\",IF($G$12=\"\",\"\",HLOOKUP($G$12,別紙mast!$D$4:$K$7,4,FALSE)))","v":""},null,"",null,null,null,null,null,null,"","","","","","","","",null,"","","","","―",null,null,null,null,null,"","","","","","","","","","","","",null,null,null,null,null,"",""]
[null,82,null,"",null,null,null,null,null,null,null,null,null,null,null,"□","□","□","□",null,null,null,"□","□","□","□",null,null,null,"□","□","□","□","□","□",null,"□",null,"□","□",null,null,null,null,"","□","□","□","□","□","□","□",null,{"$f":"IF($G$12=\"\",\"\",IF($BA112=\"\",\"\",HLOOKUP($G$12,別紙mast!$D$4:$K$7,3,FALSE)))","v":""},"",{"$f":"IF($G$12=\"\",\"\",IF($BA112=\"\",\"\",HLOOKUP($G$12,別紙mast!$D$9:$K$11,3,FALSE)))","v":""},"",null,{"$f":"IF($C112=\"\",\"\",IF($G$12=\"\",\"\",HLOOKUP($G$12,別紙mast!$D$4:$K$7,4,FALSE)))","v":""},null,"",null,null,null,null,null,null,"","","","","","","","",null,"","","","","―",null,null,null,null,null,"","","","","","","","","","","","",null,null,null,null,null,"",""]
[null,83,null,"",null,null,null,null,null,null,null,null,null,null,null,"□","□","□","□",null,null,null,"□","□","□","□",null,null,null,"□","□","□","□","□","□",null,"□",null,"□","□",null,null,null,null,"","□","□","□","□","□","□","□",null,{"$f":"IF($G$12=\"\",\"\",IF($BA113=\"\",\"\",HLOOKUP($G$12,別紙mast!$D$4:$K$7,3,FALSE)))","v":""},"",{"$f":"IF($G$12=\"\",\"\",IF($BA113=\"\",\"\",HLOOKUP($G$12,別紙mast!$D$9:$K$11,3,FALSE)))","v":""},"",null,{"$f":"IF($C113=\"\",\"\",IF($G$12=\"\",\"\",HLOOKUP($G$12,別紙mast!$D$4:$K$7,4,FALSE)))","v":""},null,"",null,null,null,null,null,null,"","","","","","","","",null,"","","","","―",null,null,null,null,null,"","","","","","","","","","","","",null,null,null,null,null,"",""]
[null,84,null,"",null,null,null,null,null,null,null,null,null,null,null,"□","□","□","□",null,null,null,"□","□","□","□",null,null,null,"□","□","□","□","□","□",null,"□",null,"□","□",null,null,null,null,"","□","□","□","□","□","□","□",null,{"$f":"IF($G$12=\"\",\"\",IF($BA114=\"\",\"\",HLOOKUP($G$12,別紙mast!$D$4:$K$7,3,FALSE)))","v":""},"",{"$f":"IF($G$12=\"\",\"\",IF($BA114=\"\",\"\",HLOOKUP($G$12,別紙mast!$D$9:$K$11,3,FALSE)))","v":""},"",null,{"$f":"IF($C114=\"\",\"\",IF($G$12=\"\",\"\",HLOOKUP($G$12,別紙mast!$D$4:$K$7,4,FALSE)))","v":""},null,"",null,null,null,null,null,null,"","","","","","","","",null,"","","","","―",null,null,null,null,null,"","","","","","","","","","","","",null,null,null,null,null,"",""]
[null,85,null,"",null,null,null,null,null,null,null,null,null,null,null,"□","□","□","□",null,null,null,"□","□","□","□",null,null,null,"□","□","□","□","□","□",null,"□",null,"□","□",null,null,null,null,"","□","□","□","□","□","□","□",null,{"$f":"IF($G$12=\"\",\"\",IF($BA115=\"\",\"\",HLOOKUP($G$12,別紙mast!$D$4:$K$7,3,FALSE)))","v":""},"",{"$f":"IF($G$12=\"\",\"\",IF($BA115=\"\",\"\",HLOOKUP($G$12,別紙mast!$D$9:$K$11,3,FALSE)))","v":""},"",null,{"$f":"IF($C115=\"\",\"\",IF($G$12=\"\",\"\",HLOOKUP($G$12,別紙mast!$D$4:$K$7,4,FALSE)))","v":""},null,"",null,null,null,null,null,null,"","","","","","","","",null,"","","","","―",null,null,null,null,null,"","","","","","","","","","","","",null,null,null,null,null,"",""]
[null,86,null,"",null,null,null,null,null,null,null,null,null,null,null,"□","□","□","□",null,null,null,"□","□","□","□",null,null,null,"□","□","□","□","□","□",null,"□",null,"□","□",null,null,null,null,"","□","□","□","□","□","□","□",null,{"$f":"IF($G$12=\"\",\"\",IF($BA116=\"\",\"\",HLOOKUP($G$12,別紙mast!$D$4:$K$7,3,FALSE)))","v":""},"",{"$f":"IF($G$12=\"\",\"\",IF($BA116=\"\",\"\",HLOOKUP($G$12,別紙mast!$D$9:$K$11,3,FALSE)))","v":""},"",null,{"$f":"IF($C116=\"\",\"\",IF($G$12=\"\",\"\",HLOOKUP($G$12,別紙mast!$D$4:$K$7,4,FALSE)))","v":""},null,"",null,null,null,null,null,null,"","","","","","","","",null,"","","","","―",null,null,null,null,null,"","","","","","","","","","","","",null,null,null,null,null,"",""]
[null,87,null,"",null,null,null,null,null,null,null,null,null,null,null,"□","□","□","□",null,null,null,"□","□","□","□",null,null,null,"□","□","□","□","□","□",null,"□",null,"□","□",null,null,null,null,"","□","□","□","□","□","□","□",null,{"$f":"IF($G$12=\"\",\"\",IF($BA117=\"\",\"\",HLOOKUP($G$12,別紙mast!$D$4:$K$7,3,FALSE)))","v":""},"",{"$f":"IF($G$12=\"\",\"\",IF($BA117=\"\",\"\",HLOOKUP($G$12,別紙mast!$D$9:$K$11,3,FALSE)))","v":""},"",null,{"$f":"IF($C117=\"\",\"\",IF($G$12=\"\",\"\",HLOOKUP($G$12,別紙mast!$D$4:$K$7,4,FALSE)))","v":""},null,"",null,null,null,null,null,null,"","","","","","","","",null,"","","","","―",null,null,null,null,null,"","","","","","","","","","","","",null,null,null,null,null,"",""]
[null,88,null,"",null,null,null,null,null,null,null,null,null,null,null,"□","□","□","□",null,null,null,"□","□","□","□",null,null,null,"□","□","□","□","□","□",null,"□",null,"□","□",null,null,null,null,"","□","□","□","□","□","□","□",null,{"$f":"IF($G$12=\"\",\"\",IF($BA118=\"\",\"\",HLOOKUP($G$12,別紙mast!$D$4:$K$7,3,FALSE)))","v":""},"",{"$f":"IF($G$12=\"\",\"\",IF($BA118=\"\",\"\",HLOOKUP($G$12,別紙mast!$D$9:$K$11,3,FALSE)))","v":""},"",null,{"$f":"IF($C118=\"\",\"\",IF($G$12=\"\",\"\",HLOOKUP($G$12,別紙mast!$D$4:$K$7,4,FALSE)))","v":""},null,"",null,null,null,null,null,null,"","","","","","","","",null,"","","","","―",null,null,null,null,null,"","","","","","","","","","","","",null,null,null,null,null,"",""]
[null,89,null,"",null,null,null,null,null,null,null,null,null,null,null,"□","□","□","□",null,null,null,"□","□","□","□",null,null,null,"□","□","□","□","□","□",null,"□",null,"□","□",null,null,null,null,"","□","□","□","□","□","□","□",null,{"$f":"IF($G$12=\"\",\"\",IF($BA119=\"\",\"\",HLOOKUP($G$12,別紙mast!$D$4:$K$7,3,FALSE)))","v":""},"",{"$f":"IF($G$12=\"\",\"\",IF($BA119=\"\",\"\",HLOOKUP($G$12,別紙mast!$D$9:$K$11,3,FALSE)))","v":""},"",null,{"$f":"IF($C119=\"\",\"\",IF($G$12=\"\",\"\",HLOOKUP($G$12,別紙mast!$D$4:$K$7,4,FALSE)))","v":""},null,"",null,null,null,null,null,null,"","","","","","","","",null,"","","","","―",null,null,null,null,null,"","","","","","","","","","","","",null,null,null,null,null,"",""]
[null,90,null,"",null,null,null,null,null,null,null,null,null,null,null,"□","□","□","□",null,null,null,"□","□","□","□",null,null,null,"□","□","□","□","□","□",null,"□",null,"□","□",null,null,null,null,"","□","□","□","□","□","□","□",null,{"$f":"IF($G$12=\"\",\"\",IF($BA120=\"\",\"\",HLOOKUP($G$12,別紙mast!$D$4:$K$7,3,FALSE)))","v":""},"",{"$f":"IF($G$12=\"\",\"\",IF($BA120=\"\",\"\",HLOOKUP($G$12,別紙mast!$D$9:$K$11,3,FALSE)))","v":""},"",null,{"$f":"IF($C120=\"\",\"\",IF($G$12=\"\",\"\",HLOOKUP($G$12,別紙mast!$D$4:$K$7,4,FALSE)))","v":""},null,"",null,null,null,null,null,null,"","","","","","","","",null,"","","","","―",null,null,null,null,null,"","","","","","","","","","","","",null,null,null,null,null,"",""]
[null,91,null,"",null,null,null,null,null,null,null,null,null,null,null,"□","□","□","□",null,null,null,"□","□","□","□",null,null,null,"□","□","□","□","□","□",null,"□",null,"□","□",null,null,null,null,"","□","□","□","□","□","□","□",null,{"$f":"IF($G$12=\"\",\"\",IF($BA121=\"\",\"\",HLOOKUP($G$12,別紙mast!$D$4:$K$7,3,FALSE)))","v":""},"",{"$f":"IF($G$12=\"\",\"\",IF($BA121=\"\",\"\",HLOOKUP($G$12,別紙mast!$D$9:$K$11,3,FALSE)))","v":""},"",null,{"$f":"IF($C121=\"\",\"\",IF($G$12=\"\",\"\",HLOOKUP($G$12,別紙mast!$D$4:$K$7,4,FALSE)))","v":""},null,"",null,null,null,null,null,null,"","","","","","","","",null,"","","","","―",null,null,null,null,null,"","","","","","","","","","","","",null,null,null,null,null,"",""]
[null,92,null,"",null,null,null,null,null,null,null,null,null,null,null,"□","□","□","□",null,null,null,"□","□","□","□",null,null,null,"□","□","□","□","□","□",null,"□",null,"□","□",null,null,null,null,"","□","□","□","□","□","□","□",null,{"$f":"IF($G$12=\"\",\"\",IF($BA122=\"\",\"\",HLOOKUP($G$12,別紙mast!$D$4:$K$7,3,FALSE)))","v":""},"",{"$f":"IF($G$12=\"\",\"\",IF($BA122=\"\",\"\",HLOOKUP($G$12,別紙mast!$D$9:$K$11,3,FALSE)))","v":""},"",null,{"$f":"IF($C122=\"\",\"\",IF($G$12=\"\",\"\",HLOOKUP($G$12,別紙mast!$D$4:$K$7,4,FALSE)))","v":""},null,"",null,null,null,null,null,null,"","","","","","","","",null,"","","","","―",null,null,null,null,null,"","","","","","","","","","","","",null,null,null,null,null,"",""]
[null,93,null,"",null,null,null,null,null,null,null,null,null,null,null,"□","□","□","□",null,null,null,"□","□","□","□",null,null,null,"□","□","□","□","□","□",null,"□",null,"□","□",null,null,null,null,"","□","□","□","□","□","□","□",null,{"$f":"IF($G$12=\"\",\"\",IF($BA123=\"\",\"\",HLOOKUP($G$12,別紙mast!$D$4:$K$7,3,FALSE)))","v":""},"",{"$f":"IF($G$12=\"\",\"\",IF($BA123=\"\",\"\",HLOOKUP($G$12,別紙mast!$D$9:$K$11,3,FALSE)))","v":""},"",null,{"$f":"IF($C123=\"\",\"\",IF($G$12=\"\",\"\",HLOOKUP($G$12,別紙mast!$D$4:$K$7,4,FALSE)))","v":""},null,"",null,null,null,null,null,null,"","","","","","","","",null,"","","","","―",null,null,null,null,null,"","","","","","","","","","","","",null,null,null,null,null,"",""]
[null,94,null,"",null,null,null,null,null,null,null,null,null,null,null,"□","□","□","□",null,null,null,"□","□","□","□",null,null,null,"□","□","□","□","□","□",null,"□",null,"□","□",null,null,null,null,"","□","□","□","□","□","□","□",null,{"$f":"IF($G$12=\"\",\"\",IF($BA124=\"\",\"\",HLOOKUP($G$12,別紙mast!$D$4:$K$7,3,FALSE)))","v":""},"",{"$f":"IF($G$12=\"\",\"\",IF($BA124=\"\",\"\",HLOOKUP($G$12,別紙mast!$D$9:$K$11,3,FALSE)))","v":""},"",null,{"$f":"IF($C124=\"\",\"\",IF($G$12=\"\",\"\",HLOOKUP($G$12,別紙mast!$D$4:$K$7,4,FALSE)))","v":""},null,"",null,null,null,null,null,null,"","","","","","","","",null,"","","","","―",null,null,null,null,null,"","","","","","","","","","","","",null,null,null,null,null,"",""]
[null,95,null,"",null,null,null,null,null,null,null,null,null,null,null,"□","□","□","□",null,null,null,"□","□","□","□",null,null,null,"□","□","□","□","□","□",null,"□",null,"□","□",null,null,null,null,"","□","□","□","□","□","□","□",null,{"$f":"IF($G$12=\"\",\"\",IF($BA125=\"\",\"\",HLOOKUP($G$12,別紙mast!$D$4:$K$7,3,FALSE)))","v":""},"",{"$f":"IF($G$12=\"\",\"\",IF($BA125=\"\",\"\",HLOOKUP($G$12,別紙mast!$D$9:$K$11,3,FALSE)))","v":""},"",null,{"$f":"IF($C125=\"\",\"\",IF($G$12=\"\",\"\",HLOOKUP($G$12,別紙mast!$D$4:$K$7,4,FALSE)))","v":""},null,"",null,null,null,null,null,null,"","","","","","","","",null,"","","","","―",null,null,null,null,null,"","","","","","","","","","","","",null,null,null,null,null,"",""]
[null,96,null,"",null,null,null,null,null,null,null,null,null,null,null,"□","□","□","□",null,null,null,"□","□","□","□",null,null,null,"□","□","□","□","□","□",null,"□",null,"□","□",null,null,null,null,"","□","□","□","□","□","□","□",null,{"$f":"IF($G$12=\"\",\"\",IF($BA126=\"\",\"\",HLOOKUP($G$12,別紙mast!$D$4:$K$7,3,FALSE)))","v":""},"",{"$f":"IF($G$12=\"\",\"\",IF($BA126=\"\",\"\",HLOOKUP($G$12,別紙mast!$D$9:$K$11,3,FALSE)))","v":""},"",null,{"$f":"IF($C126=\"\",\"\",IF($G$12=\"\",\"\",HLOOKUP($G$12,別紙mast!$D$4:$K$7,4,FALSE)))","v":""},null,"",null,null,null,null,null,null,"","","","","","","","",null,"","","","","―",null,null,null,null,null,"","","","","","","","","","","","",null,null,null,null,null,"",""]
[null,97,null,"",null,null,null,null,null,null,null,null,null,null,null,"□","□","□","□",null,null,null,"□","□","□","□",null,null,null,"□","□","□","□","□","□",null,"□",null,"□","□",null,null,null,null,{"$f":"IF(AND($AP$28=\"■\",$AO$31<>\"\"),HLOOKUP($AO$31,$BY$30:$CC$230,ROW()-29,1),IF($AO127<>\"\",HLOOKUP($AO127,$BY$30:$CC$230,ROW()-29,1),\"\"))","v":""},"□","□","□","□","□","□","□",null,{"$f":"IF($G$12=\"\",\"\",IF($BA127=\"\",\"\",HLOOKUP($G$12,別紙mast!$D$4:$K$7,3,FALSE)))","v":""},"",{"$f":"IF($G$12=\"\",\"\",IF($BA127=\"\",\"\",HLOOKUP($G$12,別紙mast!$D$9:$K$11,3,FALSE)))","v":""},"",null,{"$f":"IF($C127=\"\",\"\",IF($G$12=\"\",\"\",HLOOKUP($G$12,別紙mast!$D$4:$K$7,4,FALSE)))","v":""},null,"",null,null,null,null,null,null,"","","","","","","","",null,{"$f":"IF(OR(BP127=\"\",BT127=\"\"),\"\",IF(AND($BP127>=20,$BT127>=100,$BC127=\"○\",$BE127=\"○\"),\"○\",\"×\"))","v":""},{"$f":"IF(OR(BP127=\"\",BT127=\"\"),\"\",IF(AND($BP127>=20,$BT127>=100,$BC127=\"適\"),\"×\",IF(AND($BP127>=20,$BT127>=75,$BT127<100,$BC127=\"○\",$BE127=\"○\"),\"○\",\"×\")))","v":""},{"$f":"IF(OR(BP127=\"\",BT127=\"\"),\"\",IF(AND($BP127>=20,$BC127=\"○\",$BE127=\"○\"),\"○\",\"×\"))","v":""},{"$f":"IF(OR(BP127=\"\",BT127=\"\"),\"\",IF(AND($BP127>=20,$BT127>=50,$BT127<75,$BC127=\"○\",$BE127=\"○\"),\"○\",\"×\"))","v":""},"―",null,null,null,null,null,{"$f":"IF(OR($CE127=\"\",$BJ127=\"\"),\"\",$CE127*$J127)","v":""},{"$f":"IF(OR($CF127=\"\",$BJ127=\"\"),\"\",$CF127*$J127)","v":""},{"$f":"IF(OR($CG127=\"\",$BJ127=\"\"),\"\",$CG127*$J127)","v":""},{"$f":"IF(OR($CH127=\"\",$BJ127=\"\"),\"\",$CH127*$J127)","v":""},"","","","",{"$f":"IF($BJ127=\"\",\"\",IF($O$5=\"■\",0,SUM($BN127*$J127)))","v":""},{"$f":"IF($BJ127=\"\",\"\",IF($O$5=\"■\",0,SUM($BO127*$J127)))","v":""},"",{"$f":"IF($CW127=\"\",\"\",IF($O$5=\"■\",SUM($CW127-$DA127),SUM($CW127-$CZ127)))","v":""},null,null,null,null,null,{"$f":"IF($BJ127=\"\",\"\",IF(($BL127-$BJ127-$BN127)*0.001>=0,ROUNDUP(($BL127-$BJ127-$BN127)*0.001,1),ROUNDDOWN(($BL127-$BJ127-$BN127)*0.001,1)))&\"\"","v":""},{"$f":"IF($BJ127=\"\",\"\",IF(($BK127-$BJ127-$BN127)*0.001>=0,ROUNDUP(($BK127-$BJ127-$BN127)*0.001,1),ROUNDDOWN(($BK127-$BJ127-$BN127)*0.001,1)))&\"\"","v":""}]
[null,98,null,"",null,null,null,null,null,null,null,null,null,null,null,"□","□","□","□",null,null,null,"□","□","□","□",null,null,null,"□","□","□","□","□","□",null,"□",null,"□","□",null,null,null,null,"","□","□","□","□","□","□","□",null,{"$f":"IF($G$12=\"\",\"\",IF($BA128=\"\",\"\",HLOOKUP($G$12,別紙mast!$D$4:$K$7,3,FALSE)))","v":""},"",{"$f":"IF($G$12=\"\",\"\",IF($BA128=\"\",\"\",HLOOKUP($G$12,別紙mast!$D$9:$K$11,3,FALSE)))","v":""},"",null,{"$f":"IF($C128=\"\",\"\",IF($G$12=\"\",\"\",HLOOKUP($G$12,別紙mast!$D$4:$K$7,4,FALSE)))","v":""},null,"",null,null,null,null,null,null,"","","","","","","","",null,"","","","","―",null,null,null,null,null,"","","","","","","","","","","","",null,null,null,null,null,"",""]
[null,99,null,"",null,null,null,null,null,null,null,null,null,null,null,"□","□","□","□",null,null,null,"□","□","□","□",null,null,null,"□","□","□","□","□","□",null,"□",null,"□","□",null,null,null,null,"","□","□","□","□","□","□","□",null,{"$f":"IF($G$12=\"\",\"\",IF($BA129=\"\",\"\",HLOOKUP($G$12,別紙mast!$D$4:$K$7,3,FALSE)))","v":""},"",{"$f":"IF($G$12=\"\",\"\",IF($BA129=\"\",\"\",HLOOKUP($G$12,別紙mast!$D$9:$K$11,3,FALSE)))","v":""},"",null,{"$f":"IF($C129=\"\",\"\",IF($G$12=\"\",\"\",HLOOKUP($G$12,別紙mast!$D$4:$K$7,4,FALSE)))","v":""},null,"",null,null,null,null,null,null,"","","","","","","","",null,"","","","","―",null,null,null,null,null,"","","","","","","","","","","","",null,null,null,null,null,"",""]
[null,100,null,"",null,null,null,null,null,null,null,null,null,null,null,"□","□","□","□",null,null,null,"□","□","□","□",null,null,null,"□","□","□","□","□","□",null,"□",null,"□","□",null,null,null,null,"","□","□","□","□","□","□","□",null,{"$f":"IF($G$12=\"\",\"\",IF($BA130=\"\",\"\",HLOOKUP($G$12,別紙mast!$D$4:$K$7,3,FALSE)))","v":""},"",{"$f":"IF($G$12=\"\",\"\",IF($BA130=\"\",\"\",HLOOKUP($G$12,別紙mast!$D$9:$K$11,3,FALSE)))","v":""},"",null,{"$f":"IF($C130=\"\",\"\",IF($G$12=\"\",\"\",HLOOKUP($G$12,別紙mast!$D$4:$K$7,4,FALSE)))","v":""},null,"",null,null,null,null,null,null,"","","","","","","","",null,"","","","","―",null,null,null,null,null,"","","","","","","","","","","","",null,null,null,null,null,"",""]
[null,101,null,"",null,null,null,null,null,null,null,null,null,null,null,"□","□","□","□",null,null,null,"□","□","□","□",null,null,null,"□","□","□","□","□","□",null,"□",null,"□","□",null,null,null,null,"","□","□","□","□","□","□","□",null,{"$f":"IF($G$12=\"\",\"\",IF($BA131=\"\",\"\",HLOOKUP($G$12,別紙mast!$D$4:$K$7,3,FALSE)))","v":""},"",{"$f":"IF($G$12=\"\",\"\",IF($BA131=\"\",\"\",HLOOKUP($G$12,別紙mast!$D$9:$K$11,3,FALSE)))","v":""},"",null,{"$f":"IF($C131=\"\",\"\",IF($G$12=\"\",\"\",HLOOKUP($G$12,別紙mast!$D$4:$K$7,4,FALSE)))","v":""},null,"",null,null,null,null,null,null,"","","","","","","","",null,"","","","","―",null,null,null,null,null,"","","","","","","","","","","","",null,null,null,null,null,"",""]
[null,102,null,"",null,null,null,null,null,null,null,null,null,null,null,"□","□","□","□",null,null,null,"□","□","□","□",null,null,null,"□","□","□","□","□","□",null,"□",null,"□","□",null,null,null,null,"","□","□","□","□","□","□","□",null,{"$f":"IF($G$12=\"\",\"\",IF($BA132=\"\",\"\",HLOOKUP($G$12,別紙mast!$D$4:$K$7,3,FALSE)))","v":""},"",{"$f":"IF($G$12=\"\",\"\",IF($BA132=\"\",\"\",HLOOKUP($G$12,別紙mast!$D$9:$K$11,3,FALSE)))","v":""},"",null,{"$f":"IF($C132=\"\",\"\",IF($G$12=\"\",\"\",HLOOKUP($G$12,別紙mast!$D$4:$K$7,4,FALSE)))","v":""},null,"",null,null,null,null,null,null,"","","","","","","","",null,"","","","","―",null,null,null,null,null,"","","","","","","","","","","","",null,null,null,null,null,"",""]
[null,103,null,"",null,null,null,null,null,null,null,null,null,null,null,"□","□","□","□",null,null,null,"□","□","□","□",null,null,null,"□","□","□","□","□","□",null,"□",null,"□","□",null,null,null,null,"","□","□","□","□","□","□","□",null,{"$f":"IF($G$12=\"\",\"\",IF($BA133=\"\",\"\",HLOOKUP($G$12,別紙mast!$D$4:$K$7,3,FALSE)))","v":""},"",{"$f":"IF($G$12=\"\",\"\",IF($BA133=\"\",\"\",HLOOKUP($G$12,別紙mast!$D$9:$K$11,3,FALSE)))","v":""},"",null,{"$f":"IF($C133=\"\",\"\",IF($G$12=\"\",\"\",HLOOKUP($G$12,別紙mast!$D$4:$K$7,4,FALSE)))","v":""},null,"",null,null,null,null,null,null,"","","","","","","","",null,"","","","","―",null,null,null,null,null,"","","","","","","","","","","","",null,null,null,null,null,"",""]
[null,104,null,"",null,null,null,null,null,null,null,null,null,null,null,"□","□","□","□",null,null,null,"□","□","□","□",null,null,null,"□","□","□","□","□","□",null,"□",null,"□","□",null,null,null,null,"","□","□","□","□","□","□","□",null,{"$f":"IF($G$12=\"\",\"\",IF($BA134=\"\",\"\",HLOOKUP($G$12,別紙mast!$D$4:$K$7,3,FALSE)))","v":""},"",{"$f":"IF($G$12=\"\",\"\",IF($BA134=\"\",\"\",HLOOKUP($G$12,別紙mast!$D$9:$K$11,3,FALSE)))","v":""},"",null,{"$f":"IF($C134=\"\",\"\",IF($G$12=\"\",\"\",HLOOKUP($G$12,別紙mast!$D$4:$K$7,4,FALSE)))","v":""},null,"",null,null,null,null,null,null,"","","","","","","","",null,"","","","","―",null,null,null,null,null,"","","","","","","","","","","","",null,null,null,null,null,"",""]
[null,105,null,"",null,null,null,null,null,null,null,null,null,null,null,"□","□","□","□",null,null,null,"□","□","□","□",null,null,null,"□","□","□","□","□","□",null,"□",null,"□","□",null,null,null,null,"","□","□","□","□","□","□","□",null,{"$f":"IF($G$12=\"\",\"\",IF($BA135=\"\",\"\",HLOOKUP($G$12,別紙mast!$D$4:$K$7,3,FALSE)))","v":""},"",{"$f":"IF($G$12=\"\",\"\",IF($BA135=\"\",\"\",HLOOKUP($G$12,別紙mast!$D$9:$K$11,3,FALSE)))","v":""},"",null,{"$f":"IF($C135=\"\",\"\",IF($G$12=\"\",\"\",HLOOKUP($G$12,別紙mast!$D$4:$K$7,4,FALSE)))","v":""},null,"",null,null,null,null,null,null,"","","","","","","","",null,"","","","","―",null,null,null,null,null,"","","","","","","","","","","","",null,null,null,null,null,"",""]
[null,106,null,"",null,null,null,null,null,null,null,null,null,null,null,"□","□","□","□",null,null,null,"□","□","□","□",null,null,null,"□","□","□","□","□","□",null,"□",null,"□","□",null,null,null,null,"","□","□","□","□","□","□","□",null,{"$f":"IF($G$12=\"\",\"\",IF($BA136=\"\",\"\",HLOOKUP($G$12,別紙mast!$D$4:$K$7,3,FALSE)))","v":""},"",{"$f":"IF($G$12=\"\",\"\",IF($BA136=\"\",\"\",HLOOKUP($G$12,別紙mast!$D$9:$K$11,3,FALSE)))","v":""},"",null,{"$f":"IF($C136=\"\",\"\",IF($G$12=\"\",\"\",HLOOKUP($G$12,別紙mast!$D$4:$K$7,4,FALSE)))","v":""},null,"",null,null,null,null,null,null,"","","","","","","","",null,"","","","","―",null,null,null,null,null,"","","","","","","","","","","","",null,null,null,null,null,"",""]
[null,107,null,"",null,null,null,null,null,null,null,null,null,null,null,"□","□","□","□",null,null,null,"□","□","□","□",null,null,null,"□","□","□","□","□","□",null,"□",null,"□","□",null,null,null,null,"","□","□","□","□","□","□","□",null,{"$f":"IF($G$12=\"\",\"\",IF($BA137=\"\",\"\",HLOOKUP($G$12,別紙mast!$D$4:$K$7,3,FALSE)))","v":""},"",{"$f":"IF($G$12=\"\",\"\",IF($BA137=\"\",\"\",HLOOKUP($G$12,別紙mast!$D$9:$K$11,3,FALSE)))","v":""},"",null,{"$f":"IF($C137=\"\",\"\",IF($G$12=\"\",\"\",HLOOKUP($G$12,別紙mast!$D$4:$K$7,4,FALSE)))","v":""},null,"",null,null,null,null,null,null,"","","","","","","","",null,"","","","","―",null,null,null,null,null,"","","","","","","","","","","","",null,null,null,null,null,"",""]
[null,108,null,"",null,null,null,null,null,null,null,null,null,null,null,"□","□","□","□",null,null,null,"□","□","□","□",null,null,null,"□","□","□","□","□","□",null,"□",null,"□","□",null,null,null,null,"","□","□","□","□","□","□","□",null,{"$f":"IF($G$12=\"\",\"\",IF($BA138=\"\",\"\",HLOOKUP($G$12,別紙mast!$D$4:$K$7,3,FALSE)))","v":""},"",{"$f":"IF($G$12=\"\",\"\",IF($BA138=\"\",\"\",HLOOKUP($G$12,別紙mast!$D$9:$K$11,3,FALSE)))","v":""},"",null,{"$f":"IF($C138=\"\",\"\",IF($G$12=\"\",\"\",HLOOKUP($G$12,別紙mast!$D$4:$K$7,4,FALSE)))","v":""},null,"",null,null,null,null,null,null,"","","","","","","","",null,"","","","","―",null,null,null,null,null,"","","","","","","","","","","","",null,null,null,null,null,"",""]
[null,109,null,"",null,null,null,null,null,null,null,null,null,null,null,"□","□","□","□",null,null,null,"□","□","□","□",null,null,null,"□","□","□","□","□","□",null,"□",null,"□","□",null,null,null,null,"","□","□","□","□","□","□","□",null,{"$f":"IF($G$12=\"\",\"\",IF($BA139=\"\",\"\",HLOOKUP($G$12,別紙mast!$D$4:$K$7,3,FALSE)))","v":""},"",{"$f":"IF($G$12=\"\",\"\",IF($BA139=\"\",\"\",HLOOKUP($G$12,別紙mast!$D$9:$K$11,3,FALSE)))","v":""},"",null,{"$f":"IF($C139=\"\",\"\",IF($G$12=\"\",\"\",HLOOKUP($G$12,別紙mast!$D$4:$K$7,4,FALSE)))","v":""},null,"",null,null,null,null,null,null,"","","","","","","","",null,"","","","","―",null,null,null,null,null,"","","","","","","","","","","","",null,null,null,null,null,"",""]
[null,110,null,"",null,null,null,null,null,null,null,null,null,null,null,"□","□","□","□",null,null,null,"□","□","□","□",null,null,null,"□","□","□","□","□","□",null,"□",null,"□","□",null,null,null,null,"","□","□","□","□","□","□","□",null,{"$f":"IF($G$12=\"\",\"\",IF($BA140=\"\",\"\",HLOOKUP($G$12,別紙mast!$D$4:$K$7,3,FALSE)))","v":""},"",{"$f":"IF($G$12=\"\",\"\",IF($BA140=\"\",\"\",HLOOKUP($G$12,別紙mast!$D$9:$K$11,3,FALSE)))","v":""},"",null,{"$f":"IF($C140=\"\",\"\",IF($G$12=\"\",\"\",HLOOKUP($G$12,別紙mast!$D$4:$K$7,4,FALSE)))","v":""},null,"",null,null,null,null,null,null,"","","","","","","","",null,"","","","","―",null,null,null,null,null,"","","","","","","","","","","","",null,null,null,null,null,"",""]
[null,111,null,"",null,null,null,null,null,null,null,null,null,null,null,"□","□","□","□",null,null,null,"□","□","□","□",null,null,null,"□","□","□","□","□","□",null,"□",null,"□","□",null,null,null,null,"","□","□","□","□","□","□","□",null,{"$f":"IF($G$12=\"\",\"\",IF($BA141=\"\",\"\",HLOOKUP($G$12,別紙mast!$D$4:$K$7,3,FALSE)))","v":""},"",{"$f":"IF($G$12=\"\",\"\",IF($BA141=\"\",\"\",HLOOKUP($G$12,別紙mast!$D$9:$K$11,3,FALSE)))","v":""},"",null,{"$f":"IF($C141=\"\",\"\",IF($G$12=\"\",\"\",HLOOKUP($G$12,別紙mast!$D$4:$K$7,4,FALSE)))","v":""},null,"",null,null,null,null,null,null,"","","","","","","","",null,"","","","","―",null,null,null,null,null,"","","","","","","","","","","","",null,null,null,null,null,"",""]
[null,112,null,"",null,null,null,null,null,null,null,null,null,null,null,"□","□","□","□",null,null,null,"□","□","□","□",null,null,null,"□","□","□","□","□","□",null,"□",null,"□","□",null,null,null,null,"","□","□","□","□","□","□","□",null,{"$f":"IF($G$12=\"\",\"\",IF($BA142=\"\",\"\",HLOOKUP($G$12,別紙mast!$D$4:$K$7,3,FALSE)))","v":""},"",{"$f":"IF($G$12=\"\",\"\",IF($BA142=\"\",\"\",HLOOKUP($G$12,別紙mast!$D$9:$K$11,3,FALSE)))","v":""},"",null,{"$f":"IF($C142=\"\",\"\",IF($G$12=\"\",\"\",HLOOKUP($G$12,別紙mast!$D$4:$K$7,4,FALSE)))","v":""},null,"",null,null,null,null,null,null,"","","","","","","","",null,"","","","","―",null,null,null,null,null,"","","","","","","","","","","","",null,null,null,null,null,"",""]
[null,113,null,"",null,null,null,null,null,null,null,null,null,null,null,"□","□","□","□",null,null,null,"□","□","□","□",null,null,null,"□","□","□","□","□","□",null,"□",null,"□","□",null,null,null,null,"","□","□","□","□","□","□","□",null,{"$f":"IF($G$12=\"\",\"\",IF($BA143=\"\",\"\",HLOOKUP($G$12,別紙mast!$D$4:$K$7,3,FALSE)))","v":""},"",{"$f":"IF($G$12=\"\",\"\",IF($BA143=\"\",\"\",HLOOKUP($G$12,別紙mast!$D$9:$K$11,3,FALSE)))","v":""},"",null,{"$f":"IF($C143=\"\",\"\",IF($G$12=\"\",\"\",HLOOKUP($G$12,別紙mast!$D$4:$K$7,4,FALSE)))","v":""},null,"",null,null,null,null,null,null,"","","","","","","","",null,"","","","","―",null,null,null,null,null,"","","","","","","","","","","","",null,null,null,null,null,"",""]
[null,114,null,"",null,null,null,null,null,null,null,null,null,null,null,"□","□","□","□",null,null,null,"□","□","□","□",null,null,null,"□","□","□","□","□","□",null,"□",null,"□","□",null,null,null,null,"","□","□","□","□","□","□","□",null,{"$f":"IF($G$12=\"\",\"\",IF($BA144=\"\",\"\",HLOOKUP($G$12,別紙mast!$D$4:$K$7,3,FALSE)))","v":""},"",{"$f":"IF($G$12=\"\",\"\",IF($BA144=\"\",\"\",HLOOKUP($G$12,別紙mast!$D$9:$K$11,3,FALSE)))","v":""},"",null,{"$f":"IF($C144=\"\",\"\",IF($G$12=\"\",\"\",HLOOKUP($G$12,別紙mast!$D$4:$K$7,4,FALSE)))","v":""},null,"",null,null,null,null,null,null,"","","","","","","","",null,"","","","","―",null,null,null,null,null,"","","","","","","","","","","","",null,null,null,null,null,"",""]
[null,115,null,"",null,null,null,null,null,null,null,null,null,null,null,"□","□","□","□",null,null,null,"□","□","□","□",null,null,null,"□","□","□","□","□","□",null,"□",null,"□","□",null,null,null,null,"","□","□","□","□","□","□","□",null,{"$f":"IF($G$12=\"\",\"\",IF($BA145=\"\",\"\",HLOOKUP($G$12,別紙mast!$D$4:$K$7,3,FALSE)))","v":""},"",{"$f":"IF($G$12=\"\",\"\",IF($BA145=\"\",\"\",HLOOKUP($G$12,別紙mast!$D$9:$K$11,3,FALSE)))","v":""},"",null,{"$f":"IF($C145=\"\",\"\",IF($G$12=\"\",\"\",HLOOKUP($G$12,別紙mast!$D$4:$K$7,4,FALSE)))","v":""},null,"",null,null,null,null,null,null,"","","","","","","","",null,"","","","","―",null,null,null,null,null,"","","","","","","","","","","","",null,null,null,null,null,"",""]
[null,116,null,"",null,null,null,null,null,null,null,null,null,null,null,"□","□","□","□",null,null,null,"□","□","□","□",null,null,null,"□","□","□","□","□","□",null,"□",null,"□","□",null,null,null,null,"","□","□","□","□","□","□","□",null,{"$f":"IF($G$12=\"\",\"\",IF($BA146=\"\",\"\",HLOOKUP($G$12,別紙mast!$D$4:$K$7,3,FALSE)))","v":""},"",{"$f":"IF($G$12=\"\",\"\",IF($BA146=\"\",\"\",HLOOKUP($G$12,別紙mast!$D$9:$K$11,3,FALSE)))","v":""},"",null,{"$f":"IF($C146=\"\",\"\",IF($G$12=\"\",\"\",HLOOKUP($G$12,別紙mast!$D$4:$K$7,4,FALSE)))","v":""},null,"",null,null,null,null,null,null,"","","","","","","","",null,"","","","","―",null,null,null,null,null,"","","","","","","","","","","","",null,null,null,null,null,"",""]
[null,117,null,"",null,null,null,null,null,null,null,null,null,null,null,"□","□","□","□",null,null,null,"□","□","□","□",null,null,null,"□","□","□","□","□","□",null,"□",null,"□","□",null,null,null,null,"","□","□","□","□","□","□","□",null,{"$f":"IF($G$12=\"\",\"\",IF($BA147=\"\",\"\",HLOOKUP($G$12,別紙mast!$D$4:$K$7,3,FALSE)))","v":""},"",{"$f":"IF($G$12=\"\",\"\",IF($BA147=\"\",\"\",HLOOKUP($G$12,別紙mast!$D$9:$K$11,3,FALSE)))","v":""},"",null,{"$f":"IF($C147=\"\",\"\",IF($G$12=\"\",\"\",HLOOKUP($G$12,別紙mast!$D$4:$K$7,4,FALSE)))","v":""},null,"",null,null,null,null,null,null,"","","","","","","","",null,"","","","","―",null,null,null,null,null,"","","","","","","","","","","","",null,null,null,null,null,"",""]
[null,118,null,"",null,null,null,null,null,null,null,null,null,null,null,"□","□","□","□",null,null,null,"□","□","□","□",null,null,null,"□","□","□","□","□","□",null,"□",null,"□","□",null,null,null,null,"","□","□","□","□","□","□","□",null,{"$f":"IF($G$12=\"\",\"\",IF($BA148=\"\",\"\",HLOOKUP($G$12,別紙mast!$D$4:$K$7,3,FALSE)))","v":""},"",{"$f":"IF($G$12=\"\",\"\",IF($BA148=\"\",\"\",HLOOKUP($G$12,別紙mast!$D$9:$K$11,3,FALSE)))","v":""},"",null,{"$f":"IF($C148=\"\",\"\",IF($G$12=\"\",\"\",HLOOKUP($G$12,別紙mast!$D$4:$K$7,4,FALSE)))","v":""},null,"",null,null,null,null,null,null,"","","","","","","","",null,"","","","","―",null,null,null,null,null,"","","","","","","","","","","","",null,null,null,null,null,"",""]
[null,119,null,"",null,null,null,null,null,null,null,null,null,null,null,"□","□","□","□",null,null,null,"□","□","□","□",null,null,null,"□","□","□","□","□","□",null,"□",null,"□","□",null,null,null,null,"","□","□","□","□","□","□","□",null,{"$f":"IF($G$12=\"\",\"\",IF($BA149=\"\",\"\",HLOOKUP($G$12,別紙mast!$D$4:$K$7,3,FALSE)))","v":""},"",{"$f":"IF($G$12=\"\",\"\",IF($BA149=\"\",\"\",HLOOKUP($G$12,別紙mast!$D$9:$K$11,3,FALSE)))","v":""},"",null,{"$f":"IF($C149=\"\",\"\",IF($G$12=\"\",\"\",HLOOKUP($G$12,別紙mast!$D$4:$K$7,4,FALSE)))","v":""},null,"",null,null,null,null,null,null,"","","","","","","","",null,"","","","","―",null,null,null,null,null,"","","","","","","","","","","","",null,null,null,null,null,"",""]
[null,120,null,"",null,null,null,null,null,null,null,null,null,null,null,"□","□","□","□",null,null,null,"□","□","□","□",null,null,null,"□","□","□","□","□","□",null,"□",null,"□","□",null,null,null,null,"","□","□","□","□","□","□","□",null,{"$f":"IF($G$12=\"\",\"\",IF($BA150=\"\",\"\",HLOOKUP($G$12,別紙mast!$D$4:$K$7,3,FALSE)))","v":""},"",{"$f":"IF($G$12=\"\",\"\",IF($BA150=\"\",\"\",HLOOKUP($G$12,別紙mast!$D$9:$K$11,3,FALSE)))","v":""},"",null,{"$f":"IF($C150=\"\",\"\",IF($G$12=\"\",\"\",HLOOKUP($G$12,別紙mast!$D$4:$K$7,4,FALSE)))","v":""},null,"",null,null,null,null,null,null,"","","","","","","","",null,"","","","","―",null,null,null,null,null,"","","","","","","","","","","","",null,null,null,null,null,"",""]
[null,121,null,"",null,null,null,null,null,null,null,null,null,null,null,"□","□","□","□",null,null,null,"□","□","□","□",null,null,null,"□","□","□","□","□","□",null,"□",null,"□","□",null,null,null,null,"","□","□","□","□","□","□","□",null,{"$f":"IF($G$12=\"\",\"\",IF($BA151=\"\",\"\",HLOOKUP($G$12,別紙mast!$D$4:$K$7,3,FALSE)))","v":""},"",{"$f":"IF($G$12=\"\",\"\",IF($BA151=\"\",\"\",HLOOKUP($G$12,別紙mast!$D$9:$K$11,3,FALSE)))","v":""},"",null,{"$f":"IF($C151=\"\",\"\",IF($G$12=\"\",\"\",HLOOKUP($G$12,別紙mast!$D$4:$K$7,4,FALSE)))","v":""},null,"",null,null,null,null,null,null,"","","","","","","","",null,"","","","","―",null,null,null,null,null,"","","","","","","","","","","","",null,null,null,null,null,"",""]
[null,122,null,"",null,null,null,null,null,null,null,null,null,null,null,"□","□","□","□",null,null,null,"□","□","□","□",null,null,null,"□","□","□","□","□","□",null,"□",null,"□","□",null,null,null,null,"","□","□","□","□","□","□","□",null,{"$f":"IF($G$12=\"\",\"\",IF($BA152=\"\",\"\",HLOOKUP($G$12,別紙mast!$D$4:$K$7,3,FALSE)))","v":""},"",{"$f":"IF($G$12=\"\",\"\",IF($BA152=\"\",\"\",HLOOKUP($G$12,別紙mast!$D$9:$K$11,3,FALSE)))","v":""},"",null,{"$f":"IF($C152=\"\",\"\",IF($G$12=\"\",\"\",HLOOKUP($G$12,別紙mast!$D$4:$K$7,4,FALSE)))","v":""},null,"",null,null,null,null,null,null,"","","","","","","","",null,"","","","","―",null,null,null,null,null,"","","","","","","","","","","","",null,null,null,null,null,"",""]
[null,123,null,"",null,null,null,null,null,null,null,null,null,null,null,"□","□","□","□",null,null,null,"□","□","□","□",null,null,null,"□","□","□","□","□","□",null,"□",null,"□","□",null,null,null,null,"","□","□","□","□","□","□","□",null,{"$f":"IF($G$12=\"\",\"\",IF($BA153=\"\",\"\",HLOOKUP($G$12,別紙mast!$D$4:$K$7,3,FALSE)))","v":""},"",{"$f":"IF($G$12=\"\",\"\",IF($BA153=\"\",\"\",HLOOKUP($G$12,別紙mast!$D$9:$K$11,3,FALSE)))","v":""},"",null,{"$f":"IF($C153=\"\",\"\",IF($G$12=\"\",\"\",HLOOKUP($G$12,別紙mast!$D$4:$K$7,4,FALSE)))","v":""},null,"",null,null,null,null,null,null,"","","","","","","","",null,"","","","","―",null,null,null,null,null,"","","","","","","","","","","","",null,null,null,null,null,"",""]
[null,124,null,"",null,null,null,null,null,null,null,null,null,null,null,"□","□","□","□",null,null,null,"□","□","□","□",null,null,null,"□","□","□","□","□","□",null,"□",null,"□","□",null,null,null,null,"","□","□","□","□","□","□","□",null,{"$f":"IF($G$12=\"\",\"\",IF($BA154=\"\",\"\",HLOOKUP($G$12,別紙mast!$D$4:$K$7,3,FALSE)))","v":""},"",{"$f":"IF($G$12=\"\",\"\",IF($BA154=\"\",\"\",HLOOKUP($G$12,別紙mast!$D$9:$K$11,3,FALSE)))","v":""},"",null,{"$f":"IF($C154=\"\",\"\",IF($G$12=\"\",\"\",HLOOKUP($G$12,別紙mast!$D$4:$K$7,4,FALSE)))","v":""},null,"",null,null,null,null,null,null,"","","","","","","","",null,"","","","","―",null,null,null,null,null,"","","","","","","","","","","","",null,null,null,null,null,"",""]
[null,125,null,"",null,null,null,null,null,null,null,null,null,null,null,"□","□","□","□",null,null,null,"□","□","□","□",null,null,null,"□","□","□","□","□","□",null,"□",null,"□","□",null,null,null,null,"","□","□","□","□","□","□","□",null,{"$f":"IF($G$12=\"\",\"\",IF($BA155=\"\",\"\",HLOOKUP($G$12,別紙mast!$D$4:$K$7,3,FALSE)))","v":""},"",{"$f":"IF($G$12=\"\",\"\",IF($BA155=\"\",\"\",HLOOKUP($G$12,別紙mast!$D$9:$K$11,3,FALSE)))","v":""},"",null,{"$f":"IF($C155=\"\",\"\",IF($G$12=\"\",\"\",HLOOKUP($G$12,別紙mast!$D$4:$K$7,4,FALSE)))","v":""},null,"",null,null,null,null,null,null,"","","","","","","","",null,"","","","","―",null,null,null,null,null,"","","","","","","","","","","","",null,null,null,null,null,"",""]
[null,126,null,"",null,null,null,null,null,null,null,null,null,null,null,"□","□","□","□",null,null,null,"□","□","□","□",null,null,null,"□","□","□","□","□","□",null,"□",null,"□","□",null,null,null,null,"","□","□","□","□","□","□","□",null,{"$f":"IF($G$12=\"\",\"\",IF($BA156=\"\",\"\",HLOOKUP($G$12,別紙mast!$D$4:$K$7,3,FALSE)))","v":""},"",{"$f":"IF($G$12=\"\",\"\",IF($BA156=\"\",\"\",HLOOKUP($G$12,別紙mast!$D$9:$K$11,3,FALSE)))","v":""},"",null,{"$f":"IF($C156=\"\",\"\",IF($G$12=\"\",\"\",HLOOKUP($G$12,別紙mast!$D$4:$K$7,4,FALSE)))","v":""},null,"",null,null,null,null,null,null,"","","","","","","","",null,"","","","","―",null,null,null,null,null,"","","","","","","","","","","","",null,null,null,null,null,"",""]
[null,127,null,"",null,null,null,null,null,null,null,null,null,null,null,"□","□","□","□",null,null,null,"□","□","□","□",null,null,null,"□","□","□","□","□","□",null,"□",null,"□","□",null,null,null,null,"","□","□","□","□","□","□","□",null,{"$f":"IF($G$12=\"\",\"\",IF($BA157=\"\",\"\",HLOOKUP($G$12,別紙mast!$D$4:$K$7,3,FALSE)))","v":""},"",{"$f":"IF($G$12=\"\",\"\",IF($BA157=\"\",\"\",HLOOKUP($G$12,別紙mast!$D$9:$K$11,3,FALSE)))","v":""},"",null,{"$f":"IF($C157=\"\",\"\",IF($G$12=\"\",\"\",HLOOKUP($G$12,別紙mast!$D$4:$K$7,4,FALSE)))","v":""},null,"",null,null,null,null,null,null,"","","","","","","","",null,"","","","","―",null,null,null,null,null,"","","","","","","","","","","","",null,null,null,null,null,"",""]
[null,128,null,"",null,null,null,null,null,null,null,null,null,null,null,"□","□","□","□",null,null,null,"□","□","□","□",null,null,null,"□","□","□","□","□","□",null,"□",null,"□","□",null,null,null,null,"","□","□","□","□","□","□","□",null,{"$f":"IF($G$12=\"\",\"\",IF($BA158=\"\",\"\",HLOOKUP($G$12,別紙mast!$D$4:$K$7,3,FALSE)))","v":""},"",{"$f":"IF($G$12=\"\",\"\",IF($BA158=\"\",\"\",HLOOKUP($G$12,別紙mast!$D$9:$K$11,3,FALSE)))","v":""},"",null,{"$f":"IF($C158=\"\",\"\",IF($G$12=\"\",\"\",HLOOKUP($G$12,別紙mast!$D$4:$K$7,4,FALSE)))","v":""},null,"",null,null,null,null,null,null,"","","","","","","","",null,"","","","","―",null,null,null,null,null,"","","","","","","","","","","","",null,null,null,null,null,"",""]
[null,129,null,"",null,null,null,null,null,null,null,null,null,null,null,"□","□","□","□",null,null,null,"□","□","□","□",null,null,null,"□","□","□","□","□","□",null,"□",null,"□","□",null,null,null,null,{"$f":"IF(AND($AP$28=\"■\",$AO$31<>\"\"),HLOOKUP($AO$31,$BY$30:$CC$230,ROW()-29,1),IF($AO159<>\"\",HLOOKUP($AO159,$BY$30:$CC$230,ROW()-29,1),\"\"))","v":""},"□","□","□","□","□","□","□",null,{"$f":"IF($G$12=\"\",\"\",IF($BA159=\"\",\"\",HLOOKUP($G$12,別紙mast!$D$4:$K$7,3,FALSE)))","v":""},"",{"$f":"IF($G$12=\"\",\"\",IF($BA159=\"\",\"\",HLOOKUP($G$12,別紙mast!$D$9:$K$11,3,FALSE)))","v":""},"",null,{"$f":"IF($C159=\"\",\"\",IF($G$12=\"\",\"\",HLOOKUP($G$12,別紙mast!$D$4:$K$7,4,FALSE)))","v":""},null,"",null,null,null,null,null,null,{"$f":"IF($C159=\"\",\"\",TRUNC(($CS159/$CW159)*100))","v":""},"","","","","","","",null,{"$f":"IF(OR(BP159=\"\",BT159=\"\"),\"\",IF(AND($BP159>=20,$BT159>=100,$BC159=\"○\",$BE159=\"○\"),\"○\",\"×\"))","v":""},{"$f":"IF(OR(BP159=\"\",BT159=\"\"),\"\",IF(AND($BP159>=20,$BT159>=100,$BC159=\"適\"),\"×\",IF(AND($BP159>=20,$BT159>=75,$BT159<100,$BC159=\"○\",$BE159=\"○\"),\"○\",\"×\")))","v":""},{"$f":"IF(OR(BP159=\"\",BT159=\"\"),\"\",IF(AND($BP159>=20,$BC159=\"○\",$BE159=\"○\"),\"○\",\"×\"))","v":""},{"$f":"IF(OR(BP159=\"\",BT159=\"\"),\"\",IF(AND($BP159>=20,$BT159>=50,$BT159<75,$BC159=\"○\",$BE159=\"○\"),\"○\",\"×\"))","v":""},"―",null,null,null,null,null,{"$f":"IF(OR($CE159=\"\",$BJ159=\"\"),\"\",$CE159*$J159)","v":""},{"$f":"IF(OR($CF159=\"\",$BJ159=\"\"),\"\",$CF159*$J159)","v":""},{"$f":"IF(OR($CG159=\"\",$BJ159=\"\"),\"\",$CG159*$J159)","v":""},{"$f":"IF(OR($CH159=\"\",$BJ159=\"\"),\"\",$CH159*$J159)","v":""},"","","","",{"$f":"IF($BJ159=\"\",\"\",IF($O$5=\"■\",0,SUM($BN159*$J159)))","v":""},{"$f":"IF($BJ159=\"\",\"\",IF($O$5=\"■\",0,SUM($BO159*$J159)))","v":""},"",{"$f":"IF($CW159=\"\",\"\",IF($O$5=\"■\",SUM($CW159-$DA159),SUM($CW159-$CZ159)))","v":""},null,null,null,null,null,{"$f":"IF($BJ159=\"\",\"\",IF(($BL159-$BJ159-$BN159)*0.001>=0,ROUNDUP(($BL159-$BJ159-$BN159)*0.001,1),ROUNDDOWN(($BL159-$BJ159-$BN159)*0.001,1)))&\"\"","v":""},{"$f":"IF($BJ159=\"\",\"\",IF(($BK159-$BJ159-$BN159)*0.001>=0,ROUNDUP(($BK159-$BJ159-$BN159)*0.001,1),ROUNDDOWN(($BK159-$BJ159-$BN159)*0.001,1)))&\"\"","v":""}]
[null,130,null,"",null,null,null,null,null,null,null,null,null,null,null,"□","□","□","□",null,null,null,"□","□","□","□",null,null,null,"□","□","□","□","□","□",null,"□",null,"□","□",null,null,null,null,"","□","□","□","□","□","□","□",null,{"$f":"IF($G$12=\"\",\"\",IF($BA160=\"\",\"\",HLOOKUP($G$12,別紙mast!$D$4:$K$7,3,FALSE)))","v":""},{"$f":"IF(OR(AND($C160<>\"\",$Q$28=\"■\"),AND($C160<>\"\",$R$28=\"■\")),\"○\",IF(AND($BA160=\"\"),\"\",IF($BA160<=$BB160,\"○\",\"×\")))","v":""},{"$f":"IF($G$12=\"\",\"\",IF($BA160=\"\",\"\",HLOOKUP($G$12,別紙mast!$D$9:$K$11,3,FALSE)))","v":""},{"$f":"IF(AND($C160<>\"\",$R$28=\"■\"),\"○\",IF(AND($BD160=\"\"),\"\",IF($BA160<=$BD160,\"○\",\"×\")))","v":""},null,{"$f":"IF($C160=\"\",\"\",IF($G$12=\"\",\"\",HLOOKUP($G$12,別紙mast!$D$4:$K$7,4,FALSE)))","v":""},null,{"$f":"IF(OR(AND($C160<>\"\",$Q$28=\"■\"),AND($C160<>\"\",$R$28=\"■\")),\"○\",IF(AND(BG160=\"\"),\"\",IF(BF160<=BG160,\"○\",\"×\")))","v":""},null,null,null,null,null,null,"",{"$f":"IF($C160=\"\",\"\",$CY160)","v":""},{"$f":"IF($C160=\"\",\"\",IF(OR($O$5=\"■\",$AD$28=\"■\",$AD160=\"■\"),\"ー\",SUM(1-$BS160)))","v":""},{"$f":"IF($C160=\"\",\"\",IF(OR($O$5=\"■\",$AD$28=\"■\",$AD160=\"■\"),\"ー\",CX160))","v":""},{"$f":"IF($C160=\"\",\"\",TRUNC(($CT160/$CW160)*100))","v":""},{"$f":"IF($C160=\"\",\"\",IF(OR($O$5=\"■\",$AD$28=\"■\",$AD160=\"■\"),\"ー\",SUM((100-$BT160)/100)))","v":""},{"$f":"IF($D160=\"\",\"\",$D160)","v":""},{"$f":"IF($G160=\"\",\"\",$G160)","v":""},null,"","","","","―",null,null,null,null,null,"","","","",{"$f":"IF($C160=\"\",\"\",SUM($BJ160*$J160))","v":""},{"$f":"IF($C160=\"\",\"\",SUM($BK160*$J160))","v":""},{"$f":"IF($C160=\"\",\"\",IF($O$5=\"■\",SUM($BK160*$J160),SUM($BL160*$J160)))","v":""},{"$f":"IF($C160=\"\",\"\",SUM($BM160*$J160))","v":""},"","",{"$f":"IF($CV160=\"\",\"\",($CW160-$CV160))","v":""},"",null,null,null,null,null,"",""]
[null,131,null,"",null,null,null,null,null,null,null,null,null,null,null,"□","□","□","□",null,null,null,"□","□","□","□",null,null,null,"□","□","□","□","□","□",null,"□",null,"□","□",null,null,null,null,"","□","□","□","□","□","□","□",null,{"$f":"IF($G$12=\"\",\"\",IF($BA161=\"\",\"\",HLOOKUP($G$12,別紙mast!$D$4:$K$7,3,FALSE)))","v":""},"",{"$f":"IF($G$12=\"\",\"\",IF($BA161=\"\",\"\",HLOOKUP($G$12,別紙mast!$D$9:$K$11,3,FALSE)))","v":""},"",null,{"$f":"IF($C161=\"\",\"\",IF($G$12=\"\",\"\",HLOOKUP($G$12,別紙mast!$D$4:$K$7,4,FALSE)))","v":""},null,"",null,null,null,null,null,null,"","","","","","","","",null,"","","","","―",null,null,null,null,null,"","","","","","","","","","","","",null,null,null,null,null,"",""]
[null,132,null,"",null,null,null,null,null,null,null,null,null,null,null,"□","□","□","□",null,null,null,"□","□","□","□",null,null,null,"□","□","□","□","□","□",null,"□",null,"□","□",null,null,null,null,"","□","□","□","□","□","□","□",null,{"$f":"IF($G$12=\"\",\"\",IF($BA162=\"\",\"\",HLOOKUP($G$12,別紙mast!$D$4:$K$7,3,FALSE)))","v":""},"",{"$f":"IF($G$12=\"\",\"\",IF($BA162=\"\",\"\",HLOOKUP($G$12,別紙mast!$D$9:$K$11,3,FALSE)))","v":""},"",null,{"$f":"IF($C162=\"\",\"\",IF($G$12=\"\",\"\",HLOOKUP($G$12,別紙mast!$D$4:$K$7,4,FALSE)))","v":""},null,"",null,null,null,null,null,null,"","","","","","","","",null,"","","","","―",null,null,null,null,null,"","","","","","","","","","","","",null,null,null,null,null,"",""]
[null,133,null,"",null,null,null,null,null,null,null,null,null,null,null,"□","□","□","□",null,null,null,"□","□","□","□",null,null,null,"□","□","□","□","□","□",null,"□",null,"□","□",null,null,null,null,"","□","□","□","□","□","□","□",null,{"$f":"IF($G$12=\"\",\"\",IF($BA163=\"\",\"\",HLOOKUP($G$12,別紙mast!$D$4:$K$7,3,FALSE)))","v":""},"",{"$f":"IF($G$12=\"\",\"\",IF($BA163=\"\",\"\",HLOOKUP($G$12,別紙mast!$D$9:$K$11,3,FALSE)))","v":""},"",null,{"$f":"IF($C163=\"\",\"\",IF($G$12=\"\",\"\",HLOOKUP($G$12,別紙mast!$D$4:$K$7,4,FALSE)))","v":""},null,"",null,null,null,null,null,null,"","","","","","","","",null,"","","","","―",null,null,null,null,null,"","","","","","","","","","","","",null,null,null,null,null,"",""]
[null,134,null,"",null,null,null,null,null,null,null,null,null,null,null,"□","□","□","□",null,null,null,"□","□","□","□",null,null,null,"□","□","□","□","□","□",null,"□",null,"□","□",null,null,null,null,"","□","□","□","□","□","□","□",null,{"$f":"IF($G$12=\"\",\"\",IF($BA164=\"\",\"\",HLOOKUP($G$12,別紙mast!$D$4:$K$7,3,FALSE)))","v":""},"",{"$f":"IF($G$12=\"\",\"\",IF($BA164=\"\",\"\",HLOOKUP($G$12,別紙mast!$D$9:$K$11,3,FALSE)))","v":""},"",null,{"$f":"IF($C164=\"\",\"\",IF($G$12=\"\",\"\",HLOOKUP($G$12,別紙mast!$D$4:$K$7,4,FALSE)))","v":""},null,"",null,null,null,null,null,null,"","","","","","","","",null,"","","","","―",null,null,null,null,null,"","","","","","","","","","","","",null,null,null,null,null,"",""]
[null,135,null,"",null,null,null,null,null,null,null,null,null,null,null,"□","□","□","□",null,null,null,"□","□","□","□",null,null,null,"□","□","□","□","□","□",null,"□",null,"□","□",null,null,null,null,"","□","□","□","□","□","□","□",null,{"$f":"IF($G$12=\"\",\"\",IF($BA165=\"\",\"\",HLOOKUP($G$12,別紙mast!$D$4:$K$7,3,FALSE)))","v":""},"",{"$f":"IF($G$12=\"\",\"\",IF($BA165=\"\",\"\",HLOOKUP($G$12,別紙mast!$D$9:$K$11,3,FALSE)))","v":""},"",null,{"$f":"IF($C165=\"\",\"\",IF($G$12=\"\",\"\",HLOOKUP($G$12,別紙mast!$D$4:$K$7,4,FALSE)))","v":""},null,"",null,null,null,null,null,null,"","","","","","","","",null,"","","","","―",null,null,null,null,null,"","","","","","","","","","","","",null,null,null,null,null,"",""]
[null,136,null,"",null,null,null,null,null,null,null,null,null,null,null,"□","□","□","□",null,null,null,"□","□","□","□",null,null,null,"□","□","□","□","□","□",null,"□",null,"□","□",null,null,null,null,"","□","□","□","□","□","□","□",null,{"$f":"IF($G$12=\"\",\"\",IF($BA166=\"\",\"\",HLOOKUP($G$12,別紙mast!$D$4:$K$7,3,FALSE)))","v":""},"",{"$f":"IF($G$12=\"\",\"\",IF($BA166=\"\",\"\",HLOOKUP($G$12,別紙mast!$D$9:$K$11,3,FALSE)))","v":""},"",null,{"$f":"IF($C166=\"\",\"\",IF($G$12=\"\",\"\",HLOOKUP($G$12,別紙mast!$D$4:$K$7,4,FALSE)))","v":""},null,"",null,null,null,null,null,null,"","","","","","","","",null,"","","","","―",null,null,null,null,null,"","","","","","","","","","","","",null,null,null,null,null,"",""]
[null,137,null,"",null,null,null,null,null,null,null,null,null,null,null,"□","□","□","□",null,null,null,"□","□","□","□",null,null,null,"□","□","□","□","□","□",null,"□",null,"□","□",null,null,null,null,"","□","□","□","□","□","□","□",null,{"$f":"IF($G$12=\"\",\"\",IF($BA167=\"\",\"\",HLOOKUP($G$12,別紙mast!$D$4:$K$7,3,FALSE)))","v":""},"",{"$f":"IF($G$12=\"\",\"\",IF($BA167=\"\",\"\",HLOOKUP($G$12,別紙mast!$D$9:$K$11,3,FALSE)))","v":""},"",null,{"$f":"IF($C167=\"\",\"\",IF($G$12=\"\",\"\",HLOOKUP($G$12,別紙mast!$D$4:$K$7,4,FALSE)))","v":""},null,"",null,null,null,null,null,null,"","","","","","","","",null,"","","","","―",null,null,null,null,null,"","","","","","","","","","","","",null,null,null,null,null,"",""]
[null,138,null,"",null,null,null,null,null,null,null,null,null,null,null,"□","□","□","□",null,null,null,"□","□","□","□",null,null,null,"□","□","□","□","□","□",null,"□",null,"□","□",null,null,null,null,"","□","□","□","□","□","□","□",null,{"$f":"IF($G$12=\"\",\"\",IF($BA168=\"\",\"\",HLOOKUP($G$12,別紙mast!$D$4:$K$7,3,FALSE)))","v":""},"",{"$f":"IF($G$12=\"\",\"\",IF($BA168=\"\",\"\",HLOOKUP($G$12,別紙mast!$D$9:$K$11,3,FALSE)))","v":""},"",null,{"$f":"IF($C168=\"\",\"\",IF($G$12=\"\",\"\",HLOOKUP($G$12,別紙mast!$D$4:$K$7,4,FALSE)))","v":""},null,"",null,null,null,null,null,null,"","","","","","","","",null,"","","","","―",null,null,null,null,null,"","","","","","","","","","","","",null,null,null,null,null,"",""]
[null,139,null,"",null,null,null,null,null,null,null,null,null,null,null,"□","□","□","□",null,null,null,"□","□","□","□",null,null,null,"□","□","□","□","□","□",null,"□",null,"□","□",null,null,null,null,"","□","□","□","□","□","□","□",null,{"$f":"IF($G$12=\"\",\"\",IF($BA169=\"\",\"\",HLOOKUP($G$12,別紙mast!$D$4:$K$7,3,FALSE)))","v":""},"",{"$f":"IF($G$12=\"\",\"\",IF($BA169=\"\",\"\",HLOOKUP($G$12,別紙mast!$D$9:$K$11,3,FALSE)))","v":""},"",null,{"$f":"IF($C169=\"\",\"\",IF($G$12=\"\",\"\",HLOOKUP($G$12,別紙mast!$D$4:$K$7,4,FALSE)))","v":""},null,"",null,null,null,null,null,null,"","","","","","","","",null,"","","","","―",null,null,null,null,null,"","","","","","","","","","","","",null,null,null,null,null,"",""]
[null,140,null,"",null,null,null,null,null,null,null,null,null,null,null,"□","□","□","□",null,null,null,"□","□","□","□",null,null,null,"□","□","□","□","□","□",null,"□",null,"□","□",null,null,null,null,"","□","□","□","□","□","□","□",null,{"$f":"IF($G$12=\"\",\"\",IF($BA170=\"\",\"\",HLOOKUP($G$12,別紙mast!$D$4:$K$7,3,FALSE)))","v":""},"",{"$f":"IF($G$12=\"\",\"\",IF($BA170=\"\",\"\",HLOOKUP($G$12,別紙mast!$D$9:$K$11,3,FALSE)))","v":""},"",null,{"$f":"IF($C170=\"\",\"\",IF($G$12=\"\",\"\",HLOOKUP($G$12,別紙mast!$D$4:$K$7,4,FALSE)))","v":""},null,"",null,null,null,null,null,null,"","","","","","","","",null,"","","","","―",null,null,null,null,null,"","","","","","","","","","","","",null,null,null,null,null,"",""]
[null,141,null,"",null,null,null,null,null,null,null,null,null,null,null,"□","□","□","□",null,null,null,"□","□","□","□",null,null,null,"□","□","□","□","□","□",null,"□",null,"□","□",null,null,null,null,"","□","□","□","□","□","□","□",null,{"$f":"IF($G$12=\"\",\"\",IF($BA171=\"\",\"\",HLOOKUP($G$12,別紙mast!$D$4:$K$7,3,FALSE)))","v":""},"",{"$f":"IF($G$12=\"\",\"\",IF($BA171=\"\",\"\",HLOOKUP($G$12,別紙mast!$D$9:$K$11,3,FALSE)))","v":""},"",null,{"$f":"IF($C171=\"\",\"\",IF($G$12=\"\",\"\",HLOOKUP($G$12,別紙mast!$D$4:$K$7,4,FALSE)))","v":""},null,"",null,null,null,null,null,null,"","","","","","","","",null,"","","","","―",null,null,null,null,null,"","","","","","","","","","","","",null,null,null,null,null,"",""]
[null,142,null,"",null,null,null,null,null,null,null,null,null,null,null,"□","□","□","□",null,null,null,"□","□","□","□",null,null,null,"□","□","□","□","□","□",null,"□",null,"□","□",null,null,null,null,"","□","□","□","□","□","□","□",null,{"$f":"IF($G$12=\"\",\"\",IF($BA172=\"\",\"\",HLOOKUP($G$12,別紙mast!$D$4:$K$7,3,FALSE)))","v":""},"",{"$f":"IF($G$12=\"\",\"\",IF($BA172=\"\",\"\",HLOOKUP($G$12,別紙mast!$D$9:$K$11,3,FALSE)))","v":""},"",null,{"$f":"IF($C172=\"\",\"\",IF($G$12=\"\",\"\",HLOOKUP($G$12,別紙mast!$D$4:$K$7,4,FALSE)))","v":""},null,"",null,null,null,null,null,null,"","","","","","","","",null,"","","","","―",null,null,null,null,null,"","","","","","","","","","","","",null,null,null,null,null,"",""]
[null,143,null,"",null,null,null,null,null,null,null,null,null,null,null,"□","□","□","□",null,null,null,"□","□","□","□",null,null,null,"□","□","□","□","□","□",null,"□",null,"□","□",null,null,null,null,"","□","□","□","□","□","□","□",null,{"$f":"IF($G$12=\"\",\"\",IF($BA173=\"\",\"\",HLOOKUP($G$12,別紙mast!$D$4:$K$7,3,FALSE)))","v":""},"",{"$f":"IF($G$12=\"\",\"\",IF($BA173=\"\",\"\",HLOOKUP($G$12,別紙mast!$D$9:$K$11,3,FALSE)))","v":""},"",null,{"$f":"IF($C173=\"\",\"\",IF($G$12=\"\",\"\",HLOOKUP($G$12,別紙mast!$D$4:$K$7,4,FALSE)))","v":""},null,"",null,null,null,null,null,null,"","","","","","","","",null,"","","","","―",null,null,null,null,null,"","","","","","","","","","","","",null,null,null,null,null,"",""]
[null,144,null,"",null,null,null,null,null,null,null,null,null,null,null,"□","□","□","□",null,null,null,"□","□","□","□",null,null,null,"□","□","□","□","□","□",null,"□",null,"□","□",null,null,null,null,"","□","□","□","□","□","□","□",null,{"$f":"IF($G$12=\"\",\"\",IF($BA174=\"\",\"\",HLOOKUP($G$12,別紙mast!$D$4:$K$7,3,FALSE)))","v":""},"",{"$f":"IF($G$12=\"\",\"\",IF($BA174=\"\",\"\",HLOOKUP($G$12,別紙mast!$D$9:$K$11,3,FALSE)))","v":""},"",null,{"$f":"IF($C174=\"\",\"\",IF($G$12=\"\",\"\",HLOOKUP($G$12,別紙mast!$D$4:$K$7,4,FALSE)))","v":""},null,"",null,null,null,null,null,null,"","","","","","","","",null,"","","","","―",null,null,null,null,null,"","","","","","","","","","","","",null,null,null,null,null,"",""]
[null,145,null,"",null,null,null,null,null,null,null,null,null,null,null,"□","□","□","□",null,null,null,"□","□","□","□",null,null,null,"□","□","□","□","□","□",null,"□",null,"□","□",null,null,null,null,"","□","□","□","□","□","□","□",null,{"$f":"IF($G$12=\"\",\"\",IF($BA175=\"\",\"\",HLOOKUP($G$12,別紙mast!$D$4:$K$7,3,FALSE)))","v":""},"",{"$f":"IF($G$12=\"\",\"\",IF($BA175=\"\",\"\",HLOOKUP($G$12,別紙mast!$D$9:$K$11,3,FALSE)))","v":""},"",null,{"$f":"IF($C175=\"\",\"\",IF($G$12=\"\",\"\",HLOOKUP($G$12,別紙mast!$D$4:$K$7,4,FALSE)))","v":""},null,"",null,null,null,null,null,null,"","","","","","","","",null,"","","","","―",null,null,null,null,null,"","","","","","","","","","","","",null,null,null,null,null,"",""]
[null,146,null,"",null,null,null,null,null,null,null,null,null,null,null,"□","□","□","□",null,null,null,"□","□","□","□",null,null,null,"□","□","□","□","□","□",null,"□",null,"□","□",null,null,null,null,"","□","□","□","□","□","□","□",null,{"$f":"IF($G$12=\"\",\"\",IF($BA176=\"\",\"\",HLOOKUP($G$12,別紙mast!$D$4:$K$7,3,FALSE)))","v":""},"",{"$f":"IF($G$12=\"\",\"\",IF($BA176=\"\",\"\",HLOOKUP($G$12,別紙mast!$D$9:$K$11,3,FALSE)))","v":""},"",null,{"$f":"IF($C176=\"\",\"\",IF($G$12=\"\",\"\",HLOOKUP($G$12,別紙mast!$D$4:$K$7,4,FALSE)))","v":""},null,"",null,null,null,null,null,null,"","","","","","","","",null,"","","","","―",null,null,null,null,null,"","","","","","","","","","","","",null,null,null,null,null,"",""]
[null,147,null,"",null,null,null,null,null,null,null,null,null,null,null,"□","□","□","□",null,null,null,"□","□","□","□",null,null,null,"□","□","□","□","□","□",null,"□",null,"□","□",null,null,null,null,"","□","□","□","□","□","□","□",null,{"$f":"IF($G$12=\"\",\"\",IF($BA177=\"\",\"\",HLOOKUP($G$12,別紙mast!$D$4:$K$7,3,FALSE)))","v":""},"",{"$f":"IF($G$12=\"\",\"\",IF($BA177=\"\",\"\",HLOOKUP($G$12,別紙mast!$D$9:$K$11,3,FALSE)))","v":""},"",null,{"$f":"IF($C177=\"\",\"\",IF($G$12=\"\",\"\",HLOOKUP($G$12,別紙mast!$D$4:$K$7,4,FALSE)))","v":""},null,"",null,null,null,null,null,null,"","","","","","","","",null,"","","","","―",null,null,null,null,null,"","","","","","","","","","","","",null,null,null,null,null,"",""]
[null,148,null,"",null,null,null,null,null,null,null,null,null,null,null,"□","□","□","□",null,null,null,"□","□","□","□",null,null,null,"□","□","□","□","□","□",null,"□",null,"□","□",null,null,null,null,"","□","□","□","□","□","□","□",null,{"$f":"IF($G$12=\"\",\"\",IF($BA178=\"\",\"\",HLOOKUP($G$12,別紙mast!$D$4:$K$7,3,FALSE)))","v":""},"",{"$f":"IF($G$12=\"\",\"\",IF($BA178=\"\",\"\",HLOOKUP($G$12,別紙mast!$D$9:$K$11,3,FALSE)))","v":""},"",null,{"$f":"IF($C178=\"\",\"\",IF($G$12=\"\",\"\",HLOOKUP($G$12,別紙mast!$D$4:$K$7,4,FALSE)))","v":""},null,"",null,null,null,null,null,null,"","","","","","","","",null,"","","","","―",null,null,null,null,null,"","","","","","","","","","","","",null,null,null,null,null,"",""]
[null,149,null,"",null,null,null,null,null,null,null,null,null,null,null,"□","□","□","□",null,null,null,"□","□","□","□",null,null,null,"□","□","□","□","□","□",null,"□",null,"□","□",null,null,null,null,"","□","□","□","□","□","□","□",null,{"$f":"IF($G$12=\"\",\"\",IF($BA179=\"\",\"\",HLOOKUP($G$12,別紙mast!$D$4:$K$7,3,FALSE)))","v":""},"",{"$f":"IF($G$12=\"\",\"\",IF($BA179=\"\",\"\",HLOOKUP($G$12,別紙mast!$D$9:$K$11,3,FALSE)))","v":""},"",null,{"$f":"IF($C179=\"\",\"\",IF($G$12=\"\",\"\",HLOOKUP($G$12,別紙mast!$D$4:$K$7,4,FALSE)))","v":""},null,"",null,null,null,null,null,null,"","","","","","","","",null,"","","","","―",null,null,null,null,null,"","","","","","","","","","","","",null,null,null,null,null,"",""]
[null,150,null,"",null,null,null,null,null,null,null,null,null,null,null,"□","□","□","□",null,null,null,"□","□","□","□",null,null,null,"□","□","□","□","□","□",null,"□",null,"□","□",null,null,null,null,"","□","□","□","□","□","□","□",null,{"$f":"IF($G$12=\"\",\"\",IF($BA180=\"\",\"\",HLOOKUP($G$12,別紙mast!$D$4:$K$7,3,FALSE)))","v":""},"",{"$f":"IF($G$12=\"\",\"\",IF($BA180=\"\",\"\",HLOOKUP($G$12,別紙mast!$D$9:$K$11,3,FALSE)))","v":""},"",null,{"$f":"IF($C180=\"\",\"\",IF($G$12=\"\",\"\",HLOOKUP($G$12,別紙mast!$D$4:$K$7,4,FALSE)))","v":""},null,"",null,null,null,null,null,null,"","","","","","","","",null,"","","","","―",null,null,null,null,null,"","","","","","","","","","","","",null,null,null,null,null,"",""]
[null,151,null,"",null,null,null,null,null,null,null,null,null,null,null,"□","□","□","□",null,null,null,"□","□","□","□",null,null,null,"□","□","□","□","□","□",null,"□",null,"□","□",null,null,null,null,"","□","□","□","□","□","□","□",null,{"$f":"IF($G$12=\"\",\"\",IF($BA181=\"\",\"\",HLOOKUP($G$12,別紙mast!$D$4:$K$7,3,FALSE)))","v":""},"",{"$f":"IF($G$12=\"\",\"\",IF($BA181=\"\",\"\",HLOOKUP($G$12,別紙mast!$D$9:$K$11,3,FALSE)))","v":""},"",null,{"$f":"IF($C181=\"\",\"\",IF($G$12=\"\",\"\",HLOOKUP($G$12,別紙mast!$D$4:$K$7,4,FALSE)))","v":""},null,"",null,null,null,null,null,null,"","","","","","","","",null,"","","","","―",null,null,null,null,null,"","","","","","","","","","","","",null,null,null,null,null,"",""]
[null,152,null,"",null,null,null,null,null,null,null,null,null,null,null,"□","□","□","□",null,null,null,"□","□","□","□",null,null,null,"□","□","□","□","□","□",null,"□",null,"□","□",null,null,null,null,"","□","□","□","□","□","□","□",null,{"$f":"IF($G$12=\"\",\"\",IF($BA182=\"\",\"\",HLOOKUP($G$12,別紙mast!$D$4:$K$7,3,FALSE)))","v":""},"",{"$f":"IF($G$12=\"\",\"\",IF($BA182=\"\",\"\",HLOOKUP($G$12,別紙mast!$D$9:$K$11,3,FALSE)))","v":""},"",null,{"$f":"IF($C182=\"\",\"\",IF($G$12=\"\",\"\",HLOOKUP($G$12,別紙mast!$D$4:$K$7,4,FALSE)))","v":""},null,"",null,null,null,null,null,null,"","","","","","","","",null,"","","","","―",null,null,null,null,null,"","","","","","","","","","","","",null,null,null,null,null,"",""]
[null,153,null,"",null,null,null,null,null,null,null,null,null,null,null,"□","□","□","□",null,null,null,"□","□","□","□",null,null,null,"□","□","□","□","□","□",null,"□",null,"□","□",null,null,null,null,"","□","□","□","□","□","□","□",null,{"$f":"IF($G$12=\"\",\"\",IF($BA183=\"\",\"\",HLOOKUP($G$12,別紙mast!$D$4:$K$7,3,FALSE)))","v":""},"",{"$f":"IF($G$12=\"\",\"\",IF($BA183=\"\",\"\",HLOOKUP($G$12,別紙mast!$D$9:$K$11,3,FALSE)))","v":""},"",null,{"$f":"IF($C183=\"\",\"\",IF($G$12=\"\",\"\",HLOOKUP($G$12,別紙mast!$D$4:$K$7,4,FALSE)))","v":""},null,"",null,null,null,null,null,null,"","","","","","","","",null,"","","","","―",null,null,null,null,null,"","","","","","","","","","","","",null,null,null,null,null,"",""]
[null,154,null,"",null,null,null,null,null,null,null,null,null,null,null,"□","□","□","□",null,null,null,"□","□","□","□",null,null,null,"□","□","□","□","□","□",null,"□",null,"□","□",null,null,null,null,"","□","□","□","□","□","□","□",null,{"$f":"IF($G$12=\"\",\"\",IF($BA184=\"\",\"\",HLOOKUP($G$12,別紙mast!$D$4:$K$7,3,FALSE)))","v":""},"",{"$f":"IF($G$12=\"\",\"\",IF($BA184=\"\",\"\",HLOOKUP($G$12,別紙mast!$D$9:$K$11,3,FALSE)))","v":""},"",null,{"$f":"IF($C184=\"\",\"\",IF($G$12=\"\",\"\",HLOOKUP($G$12,別紙mast!$D$4:$K$7,4,FALSE)))","v":""},null,"",null,null,null,null,null,null,"","","","","","","","",null,"","","","","―",null,null,null,null,null,"","","","","","","","","","","","",null,null,null,null,null,"",""]
[null,155,null,"",null,null,null,null,null,null,null,null,null,null,null,"□","□","□","□",null,null,null,"□","□","□","□",null,null,null,"□","□","□","□","□","□",null,"□",null,"□","□",null,null,null,null,"","□","□","□","□","□","□","□",null,{"$f":"IF($G$12=\"\",\"\",IF($BA185=\"\",\"\",HLOOKUP($G$12,別紙mast!$D$4:$K$7,3,FALSE)))","v":""},"",{"$f":"IF($G$12=\"\",\"\",IF($BA185=\"\",\"\",HLOOKUP($G$12,別紙mast!$D$9:$K$11,3,FALSE)))","v":""},"",null,{"$f":"IF($C185=\"\",\"\",IF($G$12=\"\",\"\",HLOOKUP($G$12,別紙mast!$D$4:$K$7,4,FALSE)))","v":""},null,"",null,null,null,null,null,null,"","","","","","","","",null,"","","","","―",null,null,null,null,null,"","","","","","","","","","","","",null,null,null,null,null,"",""]
[null,156,null,"",null,null,null,null,null,null,null,null,null,null,null,"□","□","□","□",null,null,null,"□","□","□","□",null,null,null,"□","□","□","□","□","□",null,"□",null,"□","□",null,null,null,null,"","□","□","□","□","□","□","□",null,{"$f":"IF($G$12=\"\",\"\",IF($BA186=\"\",\"\",HLOOKUP($G$12,別紙mast!$D$4:$K$7,3,FALSE)))","v":""},"",{"$f":"IF($G$12=\"\",\"\",IF($BA186=\"\",\"\",HLOOKUP($G$12,別紙mast!$D$9:$K$11,3,FALSE)))","v":""},"",null,{"$f":"IF($C186=\"\",\"\",IF($G$12=\"\",\"\",HLOOKUP($G$12,別紙mast!$D$4:$K$7,4,FALSE)))","v":""},null,"",null,null,null,null,null,null,"","","","","","","","",null,"","","","","―",null,null,null,null,null,"","","","","","","","","","","","",null,null,null,null,null,"",""]
[null,157,null,"",null,null,null,null,null,null,null,null,null,null,null,"□","□","□","□",null,null,null,"□","□","□","□",null,null,null,"□","□","□","□","□","□",null,"□",null,"□","□",null,null,null,null,"","□","□","□","□","□","□","□",null,{"$f":"IF($G$12=\"\",\"\",IF($BA187=\"\",\"\",HLOOKUP($G$12,別紙mast!$D$4:$K$7,3,FALSE)))","v":""},"",{"$f":"IF($G$12=\"\",\"\",IF($BA187=\"\",\"\",HLOOKUP($G$12,別紙mast!$D$9:$K$11,3,FALSE)))","v":""},"",null,{"$f":"IF($C187=\"\",\"\",IF($G$12=\"\",\"\",HLOOKUP($G$12,別紙mast!$D$4:$K$7,4,FALSE)))","v":""},null,"",null,null,null,null,null,null,"","","","","","","","",null,"","","","","―",null,null,null,null,null,"","","","","","","","","","","","",null,null,null,null,null,"",""]
[null,158,null,"",null,null,null,null,null,null,null,null,null,null,null,"□","□","□","□",null,null,null,"□","□","□","□",null,null,null,"□","□","□","□","□","□",null,"□",null,"□","□",null,null,null,null,"","□","□","□","□","□","□","□",null,{"$f":"IF($G$12=\"\",\"\",IF($BA188=\"\",\"\",HLOOKUP($G$12,別紙mast!$D$4:$K$7,3,FALSE)))","v":""},"",{"$f":"IF($G$12=\"\",\"\",IF($BA188=\"\",\"\",HLOOKUP($G$12,別紙mast!$D$9:$K$11,3,FALSE)))","v":""},"",null,{"$f":"IF($C188=\"\",\"\",IF($G$12=\"\",\"\",HLOOKUP($G$12,別紙mast!$D$4:$K$7,4,FALSE)))","v":""},null,"",null,null,null,null,null,null,"","","","","","","","",null,"","","","","―",null,null,null,null,null,"","","","","","","","","","","","",null,null,null,null,null,"",""]
[null,159,null,"",null,null,null,null,null,null,null,null,null,null,null,"□","□","□","□",null,null,null,"□","□","□","□",null,null,null,"□","□","□","□","□","□",null,"□",null,"□","□",null,null,null,null,"","□","□","□","□","□","□","□",null,{"$f":"IF($G$12=\"\",\"\",IF($BA189=\"\",\"\",HLOOKUP($G$12,別紙mast!$D$4:$K$7,3,FALSE)))","v":""},"",{"$f":"IF($G$12=\"\",\"\",IF($BA189=\"\",\"\",HLOOKUP($G$12,別紙mast!$D$9:$K$11,3,FALSE)))","v":""},"",null,{"$f":"IF($C189=\"\",\"\",IF($G$12=\"\",\"\",HLOOKUP($G$12,別紙mast!$D$4:$K$7,4,FALSE)))","v":""},null,"",null,null,null,null,null,null,"","","","","","","","",null,"","","","","―",null,null,null,null,null,"","","","","","","","","","","","",null,null,null,null,null,"",""]
[null,160,null,"",null,null,null,null,null,null,null,null,null,null,null,"□","□","□","□",null,null,null,"□","□","□","□",null,null,null,"□","□","□","□","□","□",null,"□",null,"□","□",null,null,null,null,"","□","□","□","□","□","□","□",null,{"$f":"IF($G$12=\"\",\"\",IF($BA190=\"\",\"\",HLOOKUP($G$12,別紙mast!$D$4:$K$7,3,FALSE)))","v":""},"",{"$f":"IF($G$12=\"\",\"\",IF($BA190=\"\",\"\",HLOOKUP($G$12,別紙mast!$D$9:$K$11,3,FALSE)))","v":""},"",null,{"$f":"IF($C190=\"\",\"\",IF($G$12=\"\",\"\",HLOOKUP($G$12,別紙mast!$D$4:$K$7,4,FALSE)))","v":""},null,"",null,null,null,null,null,null,"","","","","","","","",null,"","","","","―",null,null,null,null,null,"","","","","","","","","","","","",null,null,null,null,null,"",""]
[null,161,null,"",null,null,null,null,null,null,null,null,null,null,null,"□","□","□","□",null,null,null,"□","□","□","□",null,null,null,"□","□","□","□","□","□",null,"□",null,"□","□",null,null,null,null,{"$f":"IF(AND($AP$28=\"■\",$AO$31<>\"\"),HLOOKUP($AO$31,$BY$30:$CC$230,ROW()-29,1),IF($AO191<>\"\",HLOOKUP($AO191,$BY$30:$CC$230,ROW()-29,1),\"\"))","v":""},"□","□","□","□","□","□","□",null,{"$f":"IF($G$12=\"\",\"\",IF($BA191=\"\",\"\",HLOOKUP($G$12,別紙mast!$D$4:$K$7,3,FALSE)))","v":""},"",{"$f":"IF($G$12=\"\",\"\",IF($BA191=\"\",\"\",HLOOKUP($G$12,別紙mast!$D$9:$K$11,3,FALSE)))","v":""},"",null,{"$f":"IF($C191=\"\",\"\",IF($G$12=\"\",\"\",HLOOKUP($G$12,別紙mast!$D$4:$K$7,4,FALSE)))","v":""},null,"",null,null,null,null,null,null,"","","","","","","","",null,{"$f":"IF(OR(BP191=\"\",BT191=\"\"),\"\",IF(AND($BP191>=20,$BT191>=100,$BC191=\"○\",$BE191=\"○\"),\"○\",\"×\"))","v":""},{"$f":"IF(OR(BP191=\"\",BT191=\"\"),\"\",IF(AND($BP191>=20,$BT191>=100,$BC191=\"適\"),\"×\",IF(AND($BP191>=20,$BT191>=75,$BT191<100,$BC191=\"○\",$BE191=\"○\"),\"○\",\"×\")))","v":""},{"$f":"IF(OR(BP191=\"\",BT191=\"\"),\"\",IF(AND($BP191>=20,$BC191=\"○\",$BE191=\"○\"),\"○\",\"×\"))","v":""},{"$f":"IF(OR(BP191=\"\",BT191=\"\"),\"\",IF(AND($BP191>=20,$BT191>=50,$BT191<75,$BC191=\"○\",$BE191=\"○\"),\"○\",\"×\"))","v":""},"―",null,null,null,null,null,{"$f":"IF(OR($CE191=\"\",$BJ191=\"\"),\"\",$CE191*$J191)","v":""},{"$f":"IF(OR($CF191=\"\",$BJ191=\"\"),\"\",$CF191*$J191)","v":""},{"$f":"IF(OR($CG191=\"\",$BJ191=\"\"),\"\",$CG191*$J191)","v":""},{"$f":"IF(OR($CH191=\"\",$BJ191=\"\"),\"\",$CH191*$J191)","v":""},"","","","",{"$f":"IF($BJ191=\"\",\"\",IF($O$5=\"■\",0,SUM($BN191*$J191)))","v":""},{"$f":"IF($BJ191=\"\",\"\",IF($O$5=\"■\",0,SUM($BO191*$J191)))","v":""},"",{"$f":"IF($CW191=\"\",\"\",IF($O$5=\"■\",SUM($CW191-$DA191),SUM($CW191-$CZ191)))","v":""},null,null,null,null,null,{"$f":"IF($BJ191=\"\",\"\",IF(($BL191-$BJ191-$BN191)*0.001>=0,ROUNDUP(($BL191-$BJ191-$BN191)*0.001,1),ROUNDDOWN(($BL191-$BJ191-$BN191)*0.001,1)))&\"\"","v":""},{"$f":"IF($BJ191=\"\",\"\",IF(($BK191-$BJ191-$BN191)*0.001>=0,ROUNDUP(($BK191-$BJ191-$BN191)*0.001,1),ROUNDDOWN(($BK191-$BJ191-$BN191)*0.001,1)))&\"\"","v":""}]
[null,162,null,"",null,null,null,null,null,null,null,null,null,null,null,"□","□","□","□",null,null,null,"□","□","□","□",null,null,null,"□","□","□","□","□","□",null,"□",null,"□","□",null,null,null,null,"","□","□","□","□","□","□","□",null,{"$f":"IF($G$12=\"\",\"\",IF($BA192=\"\",\"\",HLOOKUP($G$12,別紙mast!$D$4:$K$7,3,FALSE)))","v":""},"",{"$f":"IF($G$12=\"\",\"\",IF($BA192=\"\",\"\",HLOOKUP($G$12,別紙mast!$D$9:$K$11,3,FALSE)))","v":""},"",null,{"$f":"IF($C192=\"\",\"\",IF($G$12=\"\",\"\",HLOOKUP($G$12,別紙mast!$D$4:$K$7,4,FALSE)))","v":""},null,"",null,null,null,null,null,null,"","","","","","","","",null,"","","","","―",null,null,null,null,null,"","","","","","","","","","","","",null,null,null,null,null,"",""]
[null,163,null,"",null,null,null,null,null,null,null,null,null,null,null,"□","□","□","□",null,null,null,"□","□","□","□",null,null,null,"□","□","□","□","□","□",null,"□",null,"□","□",null,null,null,null,"","□","□","□","□","□","□","□",null,{"$f":"IF($G$12=\"\",\"\",IF($BA193=\"\",\"\",HLOOKUP($G$12,別紙mast!$D$4:$K$7,3,FALSE)))","v":""},"",{"$f":"IF($G$12=\"\",\"\",IF($BA193=\"\",\"\",HLOOKUP($G$12,別紙mast!$D$9:$K$11,3,FALSE)))","v":""},"",null,{"$f":"IF($C193=\"\",\"\",IF($G$12=\"\",\"\",HLOOKUP($G$12,別紙mast!$D$4:$K$7,4,FALSE)))","v":""},null,"",null,null,null,null,null,null,"","","","","","","","",null,"","","","","―",null,null,null,null,null,"","","","","","","","","","","","",null,null,null,null,null,"",""]
[null,164,null,"",null,null,null,null,null,null,null,null,null,null,null,"□","□","□","□",null,null,null,"□","□","□","□",null,null,null,"□","□","□","□","□","□",null,"□",null,"□","□",null,null,null,null,"","□","□","□","□","□","□","□",null,{"$f":"IF($G$12=\"\",\"\",IF($BA194=\"\",\"\",HLOOKUP($G$12,別紙mast!$D$4:$K$7,3,FALSE)))","v":""},"",{"$f":"IF($G$12=\"\",\"\",IF($BA194=\"\",\"\",HLOOKUP($G$12,別紙mast!$D$9:$K$11,3,FALSE)))","v":""},"",null,{"$f":"IF($C194=\"\",\"\",IF($G$12=\"\",\"\",HLOOKUP($G$12,別紙mast!$D$4:$K$7,4,FALSE)))","v":""},null,"",null,null,null,null,null,null,"","","","","","","","",null,"","","","","―",null,null,null,null,null,"","","","","","","","","","","","",null,null,null,null,null,"",""]
[null,165,null,"",null,null,null,null,null,null,null,null,null,null,null,"□","□","□","□",null,null,null,"□","□","□","□",null,null,null,"□","□","□","□","□","□",null,"□",null,"□","□",null,null,null,null,"","□","□","□","□","□","□","□",null,{"$f":"IF($G$12=\"\",\"\",IF($BA195=\"\",\"\",HLOOKUP($G$12,別紙mast!$D$4:$K$7,3,FALSE)))","v":""},"",{"$f":"IF($G$12=\"\",\"\",IF($BA195=\"\",\"\",HLOOKUP($G$12,別紙mast!$D$9:$K$11,3,FALSE)))","v":""},"",null,{"$f":"IF($C195=\"\",\"\",IF($G$12=\"\",\"\",HLOOKUP($G$12,別紙mast!$D$4:$K$7,4,FALSE)))","v":""},null,"",null,null,null,null,null,null,"","","","","","","","",null,"","","","","―",null,null,null,null,null,"","","","","","","","","","","","",null,null,null,null,null,"",""]
[null,166,null,"",null,null,null,null,null,null,null,null,null,null,null,"□","□","□","□",null,null,null,"□","□","□","□",null,null,null,"□","□","□","□","□","□",null,"□",null,"□","□",null,null,null,null,"","□","□","□","□","□","□","□",null,{"$f":"IF($G$12=\"\",\"\",IF($BA196=\"\",\"\",HLOOKUP($G$12,別紙mast!$D$4:$K$7,3,FALSE)))","v":""},"",{"$f":"IF($G$12=\"\",\"\",IF($BA196=\"\",\"\",HLOOKUP($G$12,別紙mast!$D$9:$K$11,3,FALSE)))","v":""},"",null,{"$f":"IF($C196=\"\",\"\",IF($G$12=\"\",\"\",HLOOKUP($G$12,別紙mast!$D$4:$K$7,4,FALSE)))","v":""},null,"",null,null,null,null,null,null,"","","","","","","","",null,"","","","","―",null,null,null,null,null,"","","","","","","","","","","","",null,null,null,null,null,"",""]
[null,167,null,"",null,null,null,null,null,null,null,null,null,null,null,"□","□","□","□",null,null,null,"□","□","□","□",null,null,null,"□","□","□","□","□","□",null,"□",null,"□","□",null,null,null,null,"","□","□","□","□","□","□","□",null,{"$f":"IF($G$12=\"\",\"\",IF($BA197=\"\",\"\",HLOOKUP($G$12,別紙mast!$D$4:$K$7,3,FALSE)))","v":""},"",{"$f":"IF($G$12=\"\",\"\",IF($BA197=\"\",\"\",HLOOKUP($G$12,別紙mast!$D$9:$K$11,3,FALSE)))","v":""},"",null,{"$f":"IF($C197=\"\",\"\",IF($G$12=\"\",\"\",HLOOKUP($G$12,別紙mast!$D$4:$K$7,4,FALSE)))","v":""},null,"",null,null,null,null,null,null,"","","","","","","","",null,"","","","","―",null,null,null,null,null,"","","","","","","","","","","","",null,null,null,null,null,"",""]
[null,168,null,"",null,null,null,null,null,null,null,null,null,null,null,"□","□","□","□",null,null,null,"□","□","□","□",null,null,null,"□","□","□","□","□","□",null,"□",null,"□","□",null,null,null,null,"","□","□","□","□","□","□","□",null,{"$f":"IF($G$12=\"\",\"\",IF($BA198=\"\",\"\",HLOOKUP($G$12,別紙mast!$D$4:$K$7,3,FALSE)))","v":""},"",{"$f":"IF($G$12=\"\",\"\",IF($BA198=\"\",\"\",HLOOKUP($G$12,別紙mast!$D$9:$K$11,3,FALSE)))","v":""},"",null,{"$f":"IF($C198=\"\",\"\",IF($G$12=\"\",\"\",HLOOKUP($G$12,別紙mast!$D$4:$K$7,4,FALSE)))","v":""},null,"",null,null,null,null,null,null,"","","","","","","","",null,"","","","","―",null,null,null,null,null,"","","","","","","","","","","","",null,null,null,null,null,"",""]
[null,169,null,"",null,null,null,null,null,null,null,null,null,null,null,"□","□","□","□",null,null,null,"□","□","□","□",null,null,null,"□","□","□","□","□","□",null,"□",null,"□","□",null,null,null,null,"","□","□","□","□","□","□","□",null,{"$f":"IF($G$12=\"\",\"\",IF($BA199=\"\",\"\",HLOOKUP($G$12,別紙mast!$D$4:$K$7,3,FALSE)))","v":""},"",{"$f":"IF($G$12=\"\",\"\",IF($BA199=\"\",\"\",HLOOKUP($G$12,別紙mast!$D$9:$K$11,3,FALSE)))","v":""},"",null,{"$f":"IF($C199=\"\",\"\",IF($G$12=\"\",\"\",HLOOKUP($G$12,別紙mast!$D$4:$K$7,4,FALSE)))","v":""},null,"",null,null,null,null,null,null,"","","","","","","","",null,"","","","","―",null,null,null,null,null,"","","","","","","","","","","","",null,null,null,null,null,"",""]
[null,170,null,"",null,null,null,null,null,null,null,null,null,null,null,"□","□","□","□",null,null,null,"□","□","□","□",null,null,null,"□","□","□","□","□","□",null,"□",null,"□","□",null,null,null,null,"","□","□","□","□","□","□","□",null,{"$f":"IF($G$12=\"\",\"\",IF($BA200=\"\",\"\",HLOOKUP($G$12,別紙mast!$D$4:$K$7,3,FALSE)))","v":""},"",{"$f":"IF($G$12=\"\",\"\",IF($BA200=\"\",\"\",HLOOKUP($G$12,別紙mast!$D$9:$K$11,3,FALSE)))","v":""},"",null,{"$f":"IF($C200=\"\",\"\",IF($G$12=\"\",\"\",HLOOKUP($G$12,別紙mast!$D$4:$K$7,4,FALSE)))","v":""},null,"",null,null,null,null,null,null,"","","","","","","","",null,"","","","","―",null,null,null,null,null,"","","","","","","","","","","","",null,null,null,null,null,"",""]
[null,171,null,"",null,null,null,null,null,null,null,null,null,null,null,"□","□","□","□",null,null,null,"□","□","□","□",null,null,null,"□","□","□","□","□","□",null,"□",null,"□","□",null,null,null,null,"","□","□","□","□","□","□","□",null,{"$f":"IF($G$12=\"\",\"\",IF($BA201=\"\",\"\",HLOOKUP($G$12,別紙mast!$D$4:$K$7,3,FALSE)))","v":""},"",{"$f":"IF($G$12=\"\",\"\",IF($BA201=\"\",\"\",HLOOKUP($G$12,別紙mast!$D$9:$K$11,3,FALSE)))","v":""},"",null,{"$f":"IF($C201=\"\",\"\",IF($G$12=\"\",\"\",HLOOKUP($G$12,別紙mast!$D$4:$K$7,4,FALSE)))","v":""},null,"",null,null,null,null,null,null,"","","","","","","","",null,"","","","","―",null,null,null,null,null,"","","","","","","","","","","","",null,null,null,null,null,"",""]
[null,172,null,"",null,null,null,null,null,null,null,null,null,null,null,"□","□","□","□",null,null,null,"□","□","□","□",null,null,null,"□","□","□","□","□","□",null,"□",null,"□","□",null,null,null,null,"","□","□","□","□","□","□","□",null,{"$f":"IF($G$12=\"\",\"\",IF($BA202=\"\",\"\",HLOOKUP($G$12,別紙mast!$D$4:$K$7,3,FALSE)))","v":""},"",{"$f":"IF($G$12=\"\",\"\",IF($BA202=\"\",\"\",HLOOKUP($G$12,別紙mast!$D$9:$K$11,3,FALSE)))","v":""},"",null,{"$f":"IF($C202=\"\",\"\",IF($G$12=\"\",\"\",HLOOKUP($G$12,別紙mast!$D$4:$K$7,4,FALSE)))","v":""},null,"",null,null,null,null,null,null,"","","","","","","","",null,"","","","","―",null,null,null,null,null,"","","","","","","","","","","","",null,null,null,null,null,"",""]
[null,173,null,"",null,null,null,null,null,null,null,null,null,null,null,"□","□","□","□",null,null,null,"□","□","□","□",null,null,null,"□","□","□","□","□","□",null,"□",null,"□","□",null,null,null,null,"","□","□","□","□","□","□","□",null,{"$f":"IF($G$12=\"\",\"\",IF($BA203=\"\",\"\",HLOOKUP($G$12,別紙mast!$D$4:$K$7,3,FALSE)))","v":""},"",{"$f":"IF($G$12=\"\",\"\",IF($BA203=\"\",\"\",HLOOKUP($G$12,別紙mast!$D$9:$K$11,3,FALSE)))","v":""},"",null,{"$f":"IF($C203=\"\",\"\",IF($G$12=\"\",\"\",HLOOKUP($G$12,別紙mast!$D$4:$K$7,4,FALSE)))","v":""},null,"",null,null,null,null,null,null,"","","","","","","","",null,"","","","","―",null,null,null,null,null,"","","","","","","","","","","","",null,null,null,null,null,"",""]
[null,174,null,"",null,null,null,null,null,null,null,null,null,null,null,"□","□","□","□",null,null,null,"□","□","□","□",null,null,null,"□","□","□","□","□","□",null,"□",null,"□","□",null,null,null,null,"","□","□","□","□","□","□","□",null,{"$f":"IF($G$12=\"\",\"\",IF($BA204=\"\",\"\",HLOOKUP($G$12,別紙mast!$D$4:$K$7,3,FALSE)))","v":""},"",{"$f":"IF($G$12=\"\",\"\",IF($BA204=\"\",\"\",HLOOKUP($G$12,別紙mast!$D$9:$K$11,3,FALSE)))","v":""},"",null,{"$f":"IF($C204=\"\",\"\",IF($G$12=\"\",\"\",HLOOKUP($G$12,別紙mast!$D$4:$K$7,4,FALSE)))","v":""},null,"",null,null,null,null,null,null,"","","","","","","","",null,"","","","","―",null,null,null,null,null,"","","","","","","","","","","","",null,null,null,null,null,"",""]
[null,175,null,"",null,null,null,null,null,null,null,null,null,null,null,"□","□","□","□",null,null,null,"□","□","□","□",null,null,null,"□","□","□","□","□","□",null,"□",null,"□","□",null,null,null,null,"","□","□","□","□","□","□","□",null,{"$f":"IF($G$12=\"\",\"\",IF($BA205=\"\",\"\",HLOOKUP($G$12,別紙mast!$D$4:$K$7,3,FALSE)))","v":""},"",{"$f":"IF($G$12=\"\",\"\",IF($BA205=\"\",\"\",HLOOKUP($G$12,別紙mast!$D$9:$K$11,3,FALSE)))","v":""},"",null,{"$f":"IF($C205=\"\",\"\",IF($G$12=\"\",\"\",HLOOKUP($G$12,別紙mast!$D$4:$K$7,4,FALSE)))","v":""},null,"",null,null,null,null,null,null,"","","","","","","","",null,"","","","","―",null,null,null,null,null,"","","","","","","","","","","","",null,null,null,null,null,"",""]
[null,176,null,"",null,null,null,null,null,null,null,null,null,null,null,"□","□","□","□",null,null,null,"□","□","□","□",null,null,null,"□","□","□","□","□","□",null,"□",null,"□","□",null,null,null,null,"","□","□","□","□","□","□","□",null,{"$f":"IF($G$12=\"\",\"\",IF($BA206=\"\",\"\",HLOOKUP($G$12,別紙mast!$D$4:$K$7,3,FALSE)))","v":""},"",{"$f":"IF($G$12=\"\",\"\",IF($BA206=\"\",\"\",HLOOKUP($G$12,別紙mast!$D$9:$K$11,3,FALSE)))","v":""},"",null,{"$f":"IF($C206=\"\",\"\",IF($G$12=\"\",\"\",HLOOKUP($G$12,別紙mast!$D$4:$K$7,4,FALSE)))","v":""},null,"",null,null,null,null,null,null,"","","","","","","","",null,"","","","","―",null,null,null,null,null,"","","","","","","","","","","","",null,null,null,null,null,"",""]
[null,177,null,"",null,null,null,null,null,null,null,null,null,null,null,"□","□","□","□",null,null,null,"□","□","□","□",null,null,null,"□","□","□","□","□","□",null,"□",null,"□","□",null,null,null,null,"","□","□","□","□","□","□","□",null,{"$f":"IF($G$12=\"\",\"\",IF($BA207=\"\",\"\",HLOOKUP($G$12,別紙mast!$D$4:$K$7,3,FALSE)))","v":""},"",{"$f":"IF($G$12=\"\",\"\",IF($BA207=\"\",\"\",HLOOKUP($G$12,別紙mast!$D$9:$K$11,3,FALSE)))","v":""},"",null,{"$f":"IF($C207=\"\",\"\",IF($G$12=\"\",\"\",HLOOKUP($G$12,別紙mast!$D$4:$K$7,4,FALSE)))","v":""},null,"",null,null,null,null,null,null,"","","","","","","","",null,"","","","","―",null,null,null,null,null,"","","","","","","","","","","","",null,null,null,null,null,"",""]
[null,178,null,"",null,null,null,null,null,null,null,null,null,null,null,"□","□","□","□",null,null,null,"□","□","□","□",null,null,null,"□","□","□","□","□","□",null,"□",null,"□","□",null,null,null,null,"","□","□","□","□","□","□","□",null,{"$f":"IF($G$12=\"\",\"\",IF($BA208=\"\",\"\",HLOOKUP($G$12,別紙mast!$D$4:$K$7,3,FALSE)))","v":""},"",{"$f":"IF($G$12=\"\",\"\",IF($BA208=\"\",\"\",HLOOKUP($G$12,別紙mast!$D$9:$K$11,3,FALSE)))","v":""},"",null,{"$f":"IF($C208=\"\",\"\",IF($G$12=\"\",\"\",HLOOKUP($G$12,別紙mast!$D$4:$K$7,4,FALSE)))","v":""},null,"",null,null,null,null,null,null,"","","","","","","","",null,"","","","","―",null,null,null,null,null,"","","","","","","","","","","","",null,null,null,null,null,"",""]
[null,179,null,"",null,null,null,null,null,null,null,null,null,null,null,"□","□","□","□",null,null,null,"□","□","□","□",null,null,null,"□","□","□","□","□","□",null,"□",null,"□","□",null,null,null,null,"","□","□","□","□","□","□","□",null,{"$f":"IF($G$12=\"\",\"\",IF($BA209=\"\",\"\",HLOOKUP($G$12,別紙mast!$D$4:$K$7,3,FALSE)))","v":""},"",{"$f":"IF($G$12=\"\",\"\",IF($BA209=\"\",\"\",HLOOKUP($G$12,別紙mast!$D$9:$K$11,3,FALSE)))","v":""},"",null,{"$f":"IF($C209=\"\",\"\",IF($G$12=\"\",\"\",HLOOKUP($G$12,別紙mast!$D$4:$K$7,4,FALSE)))","v":""},null,"",null,null,null,null,null,null,"","","","","","","","",null,"","","","","―",null,null,null,null,null,"","","","","","","","","","","","",null,null,null,null,null,"",""]
[null,180,null,"",null,null,null,null,null,null,null,null,null,null,null,"□","□","□","□",null,null,null,"□","□","□","□",null,null,null,"□","□","□","□","□","□",null,"□",null,"□","□",null,null,null,null,"","□","□","□","□","□","□","□",null,{"$f":"IF($G$12=\"\",\"\",IF($BA210=\"\",\"\",HLOOKUP($G$12,別紙mast!$D$4:$K$7,3,FALSE)))","v":""},"",{"$f":"IF($G$12=\"\",\"\",IF($BA210=\"\",\"\",HLOOKUP($G$12,別紙mast!$D$9:$K$11,3,FALSE)))","v":""},"",null,{"$f":"IF($C210=\"\",\"\",IF($G$12=\"\",\"\",HLOOKUP($G$12,別紙mast!$D$4:$K$7,4,FALSE)))","v":""},null,"",null,null,null,null,null,null,"","","","","","","","",null,"","","","","―",null,null,null,null,null,"","","","","","","","","","","","",null,null,null,null,null,"",""]
[null,181,null,"",null,null,null,null,null,null,null,null,null,null,null,"□","□","□","□",null,null,null,"□","□","□","□",null,null,null,"□","□","□","□","□","□",null,"□",null,"□","□",null,null,null,null,"","□","□","□","□","□","□","□",null,{"$f":"IF($G$12=\"\",\"\",IF($BA211=\"\",\"\",HLOOKUP($G$12,別紙mast!$D$4:$K$7,3,FALSE)))","v":""},"",{"$f":"IF($G$12=\"\",\"\",IF($BA211=\"\",\"\",HLOOKUP($G$12,別紙mast!$D$9:$K$11,3,FALSE)))","v":""},"",null,{"$f":"IF($C211=\"\",\"\",IF($G$12=\"\",\"\",HLOOKUP($G$12,別紙mast!$D$4:$K$7,4,FALSE)))","v":""},null,"",null,null,null,null,null,null,"","","","","","","","",null,"","","","","―",null,null,null,null,null,"","","","","","","","","","","","",null,null,null,null,null,"",""]
[null,182,null,"",null,null,null,null,null,null,null,null,null,null,null,"□","□","□","□",null,null,null,"□","□","□","□",null,null,null,"□","□","□","□","□","□",null,"□",null,"□","□",null,null,null,null,"","□","□","□","□","□","□","□",null,{"$f":"IF($G$12=\"\",\"\",IF($BA212=\"\",\"\",HLOOKUP($G$12,別紙mast!$D$4:$K$7,3,FALSE)))","v":""},"",{"$f":"IF($G$12=\"\",\"\",IF($BA212=\"\",\"\",HLOOKUP($G$12,別紙mast!$D$9:$K$11,3,FALSE)))","v":""},"",null,{"$f":"IF($C212=\"\",\"\",IF($G$12=\"\",\"\",HLOOKUP($G$12,別紙mast!$D$4:$K$7,4,FALSE)))","v":""},null,"",null,null,null,null,null,null,"","","","","","","","",null,"","","","","―",null,null,null,null,null,"","","","","","","","","","","","",null,null,null,null,null,"",""]
[null,183,null,"",null,null,null,null,null,null,null,null,null,null,null,"□","□","□","□",null,null,null,"□","□","□","□",null,null,null,"□","□","□","□","□","□",null,"□",null,"□","□",null,null,null,null,"","□","□","□","□","□","□","□",null,{"$f":"IF($G$12=\"\",\"\",IF($BA213=\"\",\"\",HLOOKUP($G$12,別紙mast!$D$4:$K$7,3,FALSE)))","v":""},"",{"$f":"IF($G$12=\"\",\"\",IF($BA213=\"\",\"\",HLOOKUP($G$12,別紙mast!$D$9:$K$11,3,FALSE)))","v":""},"",null,{"$f":"IF($C213=\"\",\"\",IF($G$12=\"\",\"\",HLOOKUP($G$12,別紙mast!$D$4:$K$7,4,FALSE)))","v":""},null,"",null,null,null,null,null,null,"","","","","","","","",null,"","","","","―",null,null,null,null,null,"","","","","","","","","","","","",null,null,null,null,null,"",""]
[null,184,null,"",null,null,null,null,null,null,null,null,null,null,null,"□","□","□","□",null,null,null,"□","□","□","□",null,null,null,"□","□","□","□","□","□",null,"□",null,"□","□",null,null,null,null,"","□","□","□","□","□","□","□",null,{"$f":"IF($G$12=\"\",\"\",IF($BA214=\"\",\"\",HLOOKUP($G$12,別紙mast!$D$4:$K$7,3,FALSE)))","v":""},"",{"$f":"IF($G$12=\"\",\"\",IF($BA214=\"\",\"\",HLOOKUP($G$12,別紙mast!$D$9:$K$11,3,FALSE)))","v":""},"",null,{"$f":"IF($C214=\"\",\"\",IF($G$12=\"\",\"\",HLOOKUP($G$12,別紙mast!$D$4:$K$7,4,FALSE)))","v":""},null,"",null,null,null,null,null,null,"","","","","","","","",null,"","","","","―",null,null,null,null,null,"","","","","","","","","","","","",null,null,null,null,null,"",""]
[null,185,null,"",null,null,null,null,null,null,null,null,null,null,null,"□","□","□","□",null,null,null,"□","□","□","□",null,null,null,"□","□","□","□","□","□",null,"□",null,"□","□",null,null,null,null,"","□","□","□","□","□","□","□",null,{"$f":"IF($G$12=\"\",\"\",IF($BA215=\"\",\"\",HLOOKUP($G$12,別紙mast!$D$4:$K$7,3,FALSE)))","v":""},"",{"$f":"IF($G$12=\"\",\"\",IF($BA215=\"\",\"\",HLOOKUP($G$12,別紙mast!$D$9:$K$11,3,FALSE)))","v":""},"",null,{"$f":"IF($C215=\"\",\"\",IF($G$12=\"\",\"\",HLOOKUP($G$12,別紙mast!$D$4:$K$7,4,FALSE)))","v":""},null,"",null,null,null,null,null,null,"","","","","","","","",null,"","","","","―",null,null,null,null,null,"","","","","","","","","","","","",null,null,null,null,null,"",""]
[null,186,null,"",null,null,null,null,null,null,null,null,null,null,null,"□","□","□","□",null,null,null,"□","□","□","□",null,null,null,"□","□","□","□","□","□",null,"□",null,"□","□",null,null,null,null,"","□","□","□","□","□","□","□",null,{"$f":"IF($G$12=\"\",\"\",IF($BA216=\"\",\"\",HLOOKUP($G$12,別紙mast!$D$4:$K$7,3,FALSE)))","v":""},"",{"$f":"IF($G$12=\"\",\"\",IF($BA216=\"\",\"\",HLOOKUP($G$12,別紙mast!$D$9:$K$11,3,FALSE)))","v":""},"",null,{"$f":"IF($C216=\"\",\"\",IF($G$12=\"\",\"\",HLOOKUP($G$12,別紙mast!$D$4:$K$7,4,FALSE)))","v":""},null,"",null,null,null,null,null,null,"","","","","","","","",null,"","","","","―",null,null,null,null,null,"","","","","","","","","","","","",null,null,null,null,null,"",""]
[null,187,null,"",null,null,null,null,null,null,null,null,null,null,null,"□","□","□","□",null,null,null,"□","□","□","□",null,null,null,"□","□","□","□","□","□",null,"□",null,"□","□",null,null,null,null,"","□","□","□","□","□","□","□",null,{"$f":"IF($G$12=\"\",\"\",IF($BA217=\"\",\"\",HLOOKUP($G$12,別紙mast!$D$4:$K$7,3,FALSE)))","v":""},"",{"$f":"IF($G$12=\"\",\"\",IF($BA217=\"\",\"\",HLOOKUP($G$12,別紙mast!$D$9:$K$11,3,FALSE)))","v":""},"",null,{"$f":"IF($C217=\"\",\"\",IF($G$12=\"\",\"\",HLOOKUP($G$12,別紙mast!$D$4:$K$7,4,FALSE)))","v":""},null,"",null,null,null,null,null,null,"","","","","","","","",null,"","","","","―",null,null,null,null,null,"","","","","","","","","","","","",null,null,null,null,null,"",""]
[null,188,null,"",null,null,null,null,null,null,null,null,null,null,null,"□","□","□","□",null,null,null,"□","□","□","□",null,null,null,"□","□","□","□","□","□",null,"□",null,"□","□",null,null,null,null,"","□","□","□","□","□","□","□",null,{"$f":"IF($G$12=\"\",\"\",IF($BA218=\"\",\"\",HLOOKUP($G$12,別紙mast!$D$4:$K$7,3,FALSE)))","v":""},"",{"$f":"IF($G$12=\"\",\"\",IF($BA218=\"\",\"\",HLOOKUP($G$12,別紙mast!$D$9:$K$11,3,FALSE)))","v":""},"",null,{"$f":"IF($C218=\"\",\"\",IF($G$12=\"\",\"\",HLOOKUP($G$12,別紙mast!$D$4:$K$7,4,FALSE)))","v":""},null,"",null,null,null,null,null,null,"","","","","","","","",null,"","","","","―",null,null,null,null,null,"","","","","","","","","","","","",null,null,null,null,null,"",""]
[null,189,null,"",null,null,null,null,null,null,null,null,null,null,null,"□","□","□","□",null,null,null,"□","□","□","□",null,null,null,"□","□","□","□","□","□",null,"□",null,"□","□",null,null,null,null,"","□","□","□","□","□","□","□",null,{"$f":"IF($G$12=\"\",\"\",IF($BA219=\"\",\"\",HLOOKUP($G$12,別紙mast!$D$4:$K$7,3,FALSE)))","v":""},"",{"$f":"IF($G$12=\"\",\"\",IF($BA219=\"\",\"\",HLOOKUP($G$12,別紙mast!$D$9:$K$11,3,FALSE)))","v":""},"",null,{"$f":"IF($C219=\"\",\"\",IF($G$12=\"\",\"\",HLOOKUP($G$12,別紙mast!$D$4:$K$7,4,FALSE)))","v":""},null,"",null,null,null,null,null,null,"","","","","","","","",null,"","","","","―",null,null,null,null,null,"","","","","","","","","","","","",null,null,null,null,null,"",""]
[null,190,null,"",null,null,null,null,null,null,null,null,null,null,null,"□","□","□","□",null,null,null,"□","□","□","□",null,null,null,"□","□","□","□","□","□",null,"□",null,"□","□",null,null,null,null,"","□","□","□","□","□","□","□",null,{"$f":"IF($G$12=\"\",\"\",IF($BA220=\"\",\"\",HLOOKUP($G$12,別紙mast!$D$4:$K$7,3,FALSE)))","v":""},"",{"$f":"IF($G$12=\"\",\"\",IF($BA220=\"\",\"\",HLOOKUP($G$12,別紙mast!$D$9:$K$11,3,FALSE)))","v":""},"",null,{"$f":"IF($C220=\"\",\"\",IF($G$12=\"\",\"\",HLOOKUP($G$12,別紙mast!$D$4:$K$7,4,FALSE)))","v":""},null,"",null,null,null,null,null,null,"","","","","","","","",null,"","","","","―",null,null,null,null,null,"","","","","","","","","","","","",null,null,null,null,null,"",""]
[null,191,null,"",null,null,null,null,null,null,null,null,null,null,null,"□","□","□","□",null,null,null,"□","□","□","□",null,null,null,"□","□","□","□","□","□",null,"□",null,"□","□",null,null,null,null,"","□","□","□","□","□","□","□",null,{"$f":"IF($G$12=\"\",\"\",IF($BA221=\"\",\"\",HLOOKUP($G$12,別紙mast!$D$4:$K$7,3,FALSE)))","v":""},"",{"$f":"IF($G$12=\"\",\"\",IF($BA221=\"\",\"\",HLOOKUP($G$12,別紙mast!$D$9:$K$11,3,FALSE)))","v":""},"",null,{"$f":"IF($C221=\"\",\"\",IF($G$12=\"\",\"\",HLOOKUP($G$12,別紙mast!$D$4:$K$7,4,FALSE)))","v":""},null,"",null,null,null,null,null,null,"","","","","","","","",null,"","","","","―",null,null,null,null,null,"","","","","","","","","","","","",null,null,null,null,null,"",""]
[null,192,null,"",null,null,null,null,null,null,null,null,null,null,null,"□","□","□","□",null,null,null,"□","□","□","□",null,null,null,"□","□","□","□","□","□",null,"□",null,"□","□",null,null,null,null,"","□","□","□","□","□","□","□",null,{"$f":"IF($G$12=\"\",\"\",IF($BA222=\"\",\"\",HLOOKUP($G$12,別紙mast!$D$4:$K$7,3,FALSE)))","v":""},"",{"$f":"IF($G$12=\"\",\"\",IF($BA222=\"\",\"\",HLOOKUP($G$12,別紙mast!$D$9:$K$11,3,FALSE)))","v":""},"",null,{"$f":"IF($C222=\"\",\"\",IF($G$12=\"\",\"\",HLOOKUP($G$12,別紙mast!$D$4:$K$7,4,FALSE)))","v":""},null,"",null,null,null,null,null,null,"","","","","","","","",null,"","","","","―",null,null,null,null,null,"","","","","","","","","","","","",null,null,null,null,null,"",""]
[null,193,null,"",null,null,null,null,null,null,null,null,null,null,null,"□","□","□","□",null,null,null,"□","□","□","□",null,null,null,"□","□","□","□","□","□",null,"□",null,"□","□",null,null,null,null,{"$f":"IF(AND($AP$28=\"■\",$AO$31<>\"\"),HLOOKUP($AO$31,$BY$30:$CC$230,ROW()-29,1),IF($AO223<>\"\",HLOOKUP($AO223,$BY$30:$CC$230,ROW()-29,1),\"\"))","v":""},"□","□","□","□","□","□","□",null,{"$f":"IF($G$12=\"\",\"\",IF($BA223=\"\",\"\",HLOOKUP($G$12,別紙mast!$D$4:$K$7,3,FALSE)))","v":""},"",{"$f":"IF($G$12=\"\",\"\",IF($BA223=\"\",\"\",HLOOKUP($G$12,別紙mast!$D$9:$K$11,3,FALSE)))","v":""},"",null,{"$f":"IF($C223=\"\",\"\",IF($G$12=\"\",\"\",HLOOKUP($G$12,別紙mast!$D$4:$K$7,4,FALSE)))","v":""},null,"",null,null,null,null,null,null,{"$f":"IF($C223=\"\",\"\",TRUNC(($CS223/$CW223)*100))","v":""},"","","","","","","",null,{"$f":"IF(OR(BP223=\"\",BT223=\"\"),\"\",IF(AND($BP223>=20,$BT223>=100,$BC223=\"○\",$BE223=\"○\"),\"○\",\"×\"))","v":""},{"$f":"IF(OR(BP223=\"\",BT223=\"\"),\"\",IF(AND($BP223>=20,$BT223>=100,$BC223=\"適\"),\"×\",IF(AND($BP223>=20,$BT223>=75,$BT223<100,$BC223=\"○\",$BE223=\"○\"),\"○\",\"×\")))","v":""},{"$f":"IF(OR(BP223=\"\",BT223=\"\"),\"\",IF(AND($BP223>=20,$BC223=\"○\",$BE223=\"○\"),\"○\",\"×\"))","v":""},{"$f":"IF(OR(BP223=\"\",BT223=\"\"),\"\",IF(AND($BP223>=20,$BT223>=50,$BT223<75,$BC223=\"○\",$BE223=\"○\"),\"○\",\"×\"))","v":""},"―",null,null,null,null,null,{"$f":"IF(OR($CE223=\"\",$BJ223=\"\"),\"\",$CE223*$J223)","v":""},{"$f":"IF(OR($CF223=\"\",$BJ223=\"\"),\"\",$CF223*$J223)","v":""},{"$f":"IF(OR($CG223=\"\",$BJ223=\"\"),\"\",$CG223*$J223)","v":""},{"$f":"IF(OR($CH223=\"\",$BJ223=\"\"),\"\",$CH223*$J223)","v":""},"","","","",{"$f":"IF($BJ223=\"\",\"\",IF($O$5=\"■\",0,SUM($BN223*$J223)))","v":""},{"$f":"IF($BJ223=\"\",\"\",IF($O$5=\"■\",0,SUM($BO223*$J223)))","v":""},"",{"$f":"IF($CW223=\"\",\"\",IF($O$5=\"■\",SUM($CW223-$DA223),SUM($CW223-$CZ223)))","v":""},null,null,null,null,null,{"$f":"IF($BJ223=\"\",\"\",IF(($BL223-$BJ223-$BN223)*0.001>=0,ROUNDUP(($BL223-$BJ223-$BN223)*0.001,1),ROUNDDOWN(($BL223-$BJ223-$BN223)*0.001,1)))&\"\"","v":""},{"$f":"IF($BJ223=\"\",\"\",IF(($BK223-$BJ223-$BN223)*0.001>=0,ROUNDUP(($BK223-$BJ223-$BN223)*0.001,1),ROUNDDOWN(($BK223-$BJ223-$BN223)*0.001,1)))&\"\"","v":""}]
[null,194,null,"",null,null,null,null,null,null,null,null,null,null,null,"□","□","□","□",null,null,null,"□","□","□","□",null,null,null,"□","□","□","□","□","□",null,"□",null,"□","□",null,null,null,null,"","□","□","□","□","□","□","□",null,{"$f":"IF($G$12=\"\",\"\",IF($BA224=\"\",\"\",HLOOKUP($G$12,別紙mast!$D$4:$K$7,3,FALSE)))","v":""},{"$f":"IF(OR(AND($C224<>\"\",$Q$28=\"■\"),AND($C224<>\"\",$R$28=\"■\")),\"○\",IF(AND($BA224=\"\"),\"\",IF($BA224<=$BB224,\"○\",\"×\")))","v":""},{"$f":"IF($G$12=\"\",\"\",IF($BA224=\"\",\"\",HLOOKUP($G$12,別紙mast!$D$9:$K$11,3,FALSE)))","v":""},{"$f":"IF(AND($C224<>\"\",$R$28=\"■\"),\"○\",IF(AND($BD224=\"\"),\"\",IF($BA224<=$BD224,\"○\",\"×\")))","v":""},null,{"$f":"IF($C224=\"\",\"\",IF($G$12=\"\",\"\",HLOOKUP($G$12,別紙mast!$D$4:$K$7,4,FALSE)))","v":""},null,{"$f":"IF(OR(AND($C224<>\"\",$Q$28=\"■\"),AND($C224<>\"\",$R$28=\"■\")),\"○\",IF(AND(BG224=\"\"),\"\",IF(BF224<=BG224,\"○\",\"×\")))","v":""},null,null,null,null,null,null,"",{"$f":"IF($C224=\"\",\"\",$CY224)","v":""},{"$f":"IF($C224=\"\",\"\",IF(OR($O$5=\"■\",$AD$28=\"■\",$AD224=\"■\"),\"ー\",SUM(1-$BS224)))","v":""},{"$f":"IF($C224=\"\",\"\",IF(OR($O$5=\"■\",$AD$28=\"■\",$AD224=\"■\"),\"ー\",CX224))","v":""},{"$f":"IF($C224=\"\",\"\",TRUNC(($CT224/$CW224)*100))","v":""},{"$f":"IF($C224=\"\",\"\",IF(OR($O$5=\"■\",$AD$28=\"■\",$AD224=\"■\"),\"ー\",SUM((100-$BT224)/100)))","v":""},{"$f":"IF($D224=\"\",\"\",$D224)","v":""},{"$f":"IF($G224=\"\",\"\",$G224)","v":""},null,"","","","","―",null,null,null,null,null,"","","","",{"$f":"IF($C224=\"\",\"\",SUM($BJ224*$J224))","v":""},{"$f":"IF($C224=\"\",\"\",SUM($BK224*$J224))","v":""},{"$f":"IF($C224=\"\",\"\",IF($O$5=\"■\",SUM($BK224*$J224),SUM($BL224*$J224)))","v":""},{"$f":"IF($C224=\"\",\"\",SUM($BM224*$J224))","v":""},"","",{"$f":"IF($CV224=\"\",\"\",($CW224-$CV224))","v":""},"",null,null,null,null,null,"",""]
[null,195,null,"",null,null,null,null,null,null,null,null,null,null,null,"□","□","□","□",null,null,null,"□","□","□","□",null,null,null,"□","□","□","□","□","□",null,"□",null,"□","□",null,null,null,null,"","□","□","□","□","□","□","□",null,{"$f":"IF($G$12=\"\",\"\",IF($BA225=\"\",\"\",HLOOKUP($G$12,別紙mast!$D$4:$K$7,3,FALSE)))","v":""},"",{"$f":"IF($G$12=\"\",\"\",IF($BA225=\"\",\"\",HLOOKUP($G$12,別紙mast!$D$9:$K$11,3,FALSE)))","v":""},"",null,{"$f":"IF($C225=\"\",\"\",IF($G$12=\"\",\"\",HLOOKUP($G$12,別紙mast!$D$4:$K$7,4,FALSE)))","v":""},null,"",null,null,null,null,null,null,"","","","","","","","",null,"","","","","―",null,null,null,null,null,"","","","","","","","","","","","",null,null,null,null,null,"",""]
[null,196,null,"",null,null,null,null,null,null,null,null,null,null,null,"□","□","□","□",null,null,null,"□","□","□","□",null,null,null,"□","□","□","□","□","□",null,"□",null,"□","□",null,null,null,null,"","□","□","□","□","□","□","□",null,{"$f":"IF($G$12=\"\",\"\",IF($BA226=\"\",\"\",HLOOKUP($G$12,別紙mast!$D$4:$K$7,3,FALSE)))","v":""},"",{"$f":"IF($G$12=\"\",\"\",IF($BA226=\"\",\"\",HLOOKUP($G$12,別紙mast!$D$9:$K$11,3,FALSE)))","v":""},"",null,{"$f":"IF($C226=\"\",\"\",IF($G$12=\"\",\"\",HLOOKUP($G$12,別紙mast!$D$4:$K$7,4,FALSE)))","v":""},null,"",null,null,null,null,null,null,"","","","","","","","",null,"","","","","―",null,null,null,null,null,"","","","","","","","","","","","",null,null,null,null,null,"",""]
[null,197,null,"",null,null,null,null,null,null,null,null,null,null,null,"□","□","□","□",null,null,null,"□","□","□","□",null,null,null,"□","□","□","□","□","□",null,"□",null,"□","□",null,null,null,null,"","□","□","□","□","□","□","□",null,{"$f":"IF($G$12=\"\",\"\",IF($BA227=\"\",\"\",HLOOKUP($G$12,別紙mast!$D$4:$K$7,3,FALSE)))","v":""},"",{"$f":"IF($G$12=\"\",\"\",IF($BA227=\"\",\"\",HLOOKUP($G$12,別紙mast!$D$9:$K$11,3,FALSE)))","v":""},"",null,{"$f":"IF($C227=\"\",\"\",IF($G$12=\"\",\"\",HLOOKUP($G$12,別紙mast!$D$4:$K$7,4,FALSE)))","v":""},null,"",null,null,null,null,null,null,"","","","","","","","",null,"","","","","―",null,null,null,null,null,"","","","","","","","","","","","",null,null,null,null,null,"",""]
[null,198,null,"",null,null,null,null,null,null,null,null,null,null,null,"□","□","□","□",null,null,null,"□","□","□","□",null,null,null,"□","□","□","□","□","□",null,"□",null,"□","□",null,null,null,null,"","□","□","□","□","□","□","□",null,{"$f":"IF($G$12=\"\",\"\",IF($BA228=\"\",\"\",HLOOKUP($G$12,別紙mast!$D$4:$K$7,3,FALSE)))","v":""},"",{"$f":"IF($G$12=\"\",\"\",IF($BA228=\"\",\"\",HLOOKUP($G$12,別紙mast!$D$9:$K$11,3,FALSE)))","v":""},"",null,{"$f":"IF($C228=\"\",\"\",IF($G$12=\"\",\"\",HLOOKUP($G$12,別紙mast!$D$4:$K$7,4,FALSE)))","v":""},null,"",null,null,null,null,null,null,"","","","","","","","",null,"","","","","―",null,null,null,null,null,"","","","","","","","","","","","",null,null,null,null,null,"",""]
[null,199,null,"",null,null,null,null,null,null,null,null,null,null,null,"□","□","□","□",null,null,null,"□","□","□","□",null,null,null,"□","□","□","□","□","□",null,"□",null,"□","□",null,null,null,null,"","□","□","□","□","□","□","□",null,{"$f":"IF($G$12=\"\",\"\",IF($BA229=\"\",\"\",HLOOKUP($G$12,別紙mast!$D$4:$K$7,3,FALSE)))","v":""},"",{"$f":"IF($G$12=\"\",\"\",IF($BA229=\"\",\"\",HLOOKUP($G$12,別紙mast!$D$9:$K$11,3,FALSE)))","v":""},"",null,{"$f":"IF($C229=\"\",\"\",IF($G$12=\"\",\"\",HLOOKUP($G$12,別紙mast!$D$4:$K$7,4,FALSE)))","v":""},null,"",null,null,null,null,null,null,"","","","","","","","",null,"","","","","―",null,null,null,null,null,"","","","","","","","","","","","",null,null,null,null,null,"",""]
[null,200,null,"",null,null,null,null,null,null,null,null,null,null,null,"□","□","□","□",null,null,null,"□","□","□","□",null,null,null,"□","□","□","□","□","□",null,"□",null,"□","□",null,null,null,null,"","□","□","□","□","□","□","□",null,{"$f":"IF($G$12=\"\",\"\",IF($BA230=\"\",\"\",HLOOKUP($G$12,別紙mast!$D$4:$K$7,3,FALSE)))","v":""},"",{"$f":"IF($G$12=\"\",\"\",IF($BA230=\"\",\"\",HLOOKUP($G$12,別紙mast!$D$9:$K$11,3,FALSE)))","v":""},"",null,{"$f":"IF($C230=\"\",\"\",IF($G$12=\"\",\"\",HLOOKUP($G$12,別紙mast!$D$4:$K$7,4,FALSE)))","v":""},null,"",null,null,null,null,null,null,"","","","","","","","",null,"","","","","―",null,null,null,null,null,"","","","","","","","","","","","",null,null,null,null,null,"",""]
[null,null,null,null,null,null,null,null,null,null,null,null,null,null,null,null,null,null,null,null,null,null,null,null,null,null,null,null,null,null,null,null,null,null,null,null,null,null,null,null,null,null,null,null,null,null,null,null,null,null,null,null,null,null,null,null,null,null,null,null,null,null,null,null,null,null,null,null,null,null,null,null,null,null,null,null,null,null,null,null,null,null,null,null,null,null,null,null,null,null,null,null,null,null,null,null,"",{"$f":"IF($CW231=\"\",\"\",SUM($CW231-$CZ231))","v":""},null,{"$f":"IF($CM231=\"\",\"\",(($CO231-$CM231)/1000))","v":""},{"$f":"IF($CP231=\"\",\"\",(($CP231-$CM231))/1000)","v":""}]
[null,null,null,null,null,null,null,null,null,null,null,null,null,null,null,null,null,null,null,null,null,null,null,null,null,null,null,null,null,null,null,null,null,null,null,null,null,null,null,null,null,null,null,null,null,null,null,null,null,null,null,null,null,null,null,null,null,null,null,null,null,null,null,null,null,null,null,null,null,null,null,null,null,null,null,null,null,null,null,null,null,null,null,null,null,null,null,null,null,null,null,null,null,null,null,null,"",{"$f":"IF($CW232=\"\",\"\",SUM($CW232-$CZ232))","v":""},null,"",""]

{"sheet":"別紙解説","index":3,"n_rows":1,"n_cols":1,"rows_kept":1,"cut":false,"hidden":false,"merged":[[0,0,2,8]]}
["　別紙の入力方法について"]

{"sheet":"ZEH等チェック（戸建てのみ）","index":4,"n_rows":21,"n_cols":48,"rows_kept":21,"cut":false,"hidden":false,"merged":[[14,19,14,25],[15,19,17,25],[18,19,19,25],[18,11,18,18],[19,11,19,18],[14,15,14,18],[14,11,14,14],[15,15,15,18],[15,11,15,14],[16,11,16,14],[16,15,16,18],[17,11,17,14],[17,15,17,18],[8,19,8,25],[9,19,9,25],[10,19,10,25],[11,19,11,25],[8,4,8,18],[9,4,9,18],[10,4,10,18],[11,4,11,18],[6,4,6,18],[7,4,7,18],[1,2,1,12],[1,13,1,35],[6,2,6,3],[7,2,7,3],[5,19,5,25],[6,19,6,25],[7,19,7,25],[5,2,5,18],[2,2,3,25],[21,2,21,12],[13,2,13,14],[10,2,10,3],[11,2,11,3],[8,2,8,3],[9,2,9,3],[15,2,15,10],[16,2,16,10],[17,2,17,10],[18,2,18,10],[19,2,19,10]]}
[]
[null,null,"【参考｜BELS評価書表示チェック】",null,null,null,null,null,null,null,null,null,null,"※提出用図書ではありません。"]
[null,null,"ZEH等計算シート(評価協会公開)にて算出される数値とBELS評価書に表記される数値に誤差が生じることがあるため、ZEH等計算シートの削減率の数値と基準値とが一致する場合等は参考までにご確認ください。"]
[]
[null,null,"１．数値の入力",null,null,null,null,null,null,null,null,null,"□","再エネ設置なし",null,null,null,"□","ZEH等の表示を希望しない"]
[null,null,null,null,null,null,null,null,null,null,null,null,null,null,null,null,null,null,null,"入力欄"]
[null,null,"①",null,"その他の設備［MJ／年］",null,null,null,null,null,null,null,null,null,null,null,null,null,null,null,null,null,null,null,null,null,null,null,null,null,null,null,null,null,null,null,null,null,null,null,null,null,null,null,null,null,"削減量（再エネ除き）",{"$f":"IF(T9=\"\",\"\",(AV11-AV10))","v":""}]
[null,null,"②",null,"【再エネ含み】 設計一次エネルギー消費量［MJ／年］",null,null,null,null,null,null,null,null,null,null,null,null,null,null,null,null,null,null,null,null,null,null,null,null,null,null,null,null,null,null,null,null,null,null,null,null,null,null,null,null,null,"削減量（再エネ含み）",{"$f":"IF(T8=\"\",\"\",IF(M5=\"■\",SUM(AV11-AV14),SUM(AV11-AV12)))","v":""}]
[null,null,"③",null,"【再エネ除き】 設計一次エネルギー消費量［MJ／年］",null,null,null,null,null,null,null,null,null,null,null,null,null,null,null,null,null,null,null,null,null,null,null,null,null,null,null,null,null,null,null,null,null,null,null,null,null,null,null,null,null,"設計一次エネ（PV+CGS） [GJ/年]　換算",{"$f":"IF(T8=\"\",\"\",ROUNDUP(((T8-T7)/1000),1))","v":""}]
[null,null,"④",null," 基準一次エネルギー消費量［MJ／年］",null,null,null,null,null,null,null,null,null,null,null,null,null,null,null,null,null,null,null,null,null,null,null,null,null,null,null,null,null,null,null,null,null,null,null,null,null,null,null,null,null,"設計一次エネ（CGS） [GJ/年]　換算",{"$f":"IF(T8=\"\",\"\",IF(M5=\"■\",(ROUNDUP((T8-T7)/1000,1)),ROUNDUP((T9-T7)/1000,1))&\"\")","v":""}]
[null,null,"⑤",null,"太陽光発電設備（発電量）［MJ］",null,null,null,null,null,null,null,null,null,null,null,null,null,null,null,null,null,null,null,null,null,null,null,null,null,null,null,null,null,null,null,null,null,null,null,null,null,null,null,null,null,"基準一次エネ [GJ/年]換算",{"$f":"IF(T10=\"\",\"\",(ROUNDUP((T10-T7)/1000,1)))","v":""}]
[null,null,"⑥",null,"太陽光発電設備（売電量）［MJ］",null,null,null,null,null,null,null,null,null,null,null,null,null,null,null,null,null,null,null,null,null,null,null,null,null,null,null,null,null,null,null,null,null,null,null,null,null,null,null,null,null,"設計一次エネ（自家消費+売電） [GJ/年]　換算_再エネあり",{"$f":"IF(T9=\"\",\"\",IF((T9-T7-T11)*0.001>=0,ROUNDUP((T9-T7-T11)*0.001,1),ROUNDDOWN((T9-T7-T11)*0.001,1)))&\"\"","v":""}]
[]
[null,null,"２．結果※",null,null,null,null,null,null,null,null,null,null,null,null,null,null,null,null,null,null,null,null,null,null,null,null,null,null,null,null,null,null,null,null,null,null,null,null,null,null,null,null,null,null,null,"設計一次エネ（自家消費+売電） [GJ/年]　換算＿再エネなし",{"$f":"IF(T8=\"\",\"\",IF((T8-T7-T11)*0.001>=0,ROUNDUP((T8-T7-T11)*0.001,1),ROUNDDOWN((T8-T7-T11)*0.001,1)))&\"\"","v":""}]
[null,null,null,null,null,null,null,null,null,null,null,"削減率",null,null,null,"BEI値",null,null,null,null,null,null,null,null,null,null,null,null,null,null,null,null,null,null,null,null,null,null,null,null,null,null,null,null,null,null,"設計一次エネ（PV +CGS） [GJ/年]　（その他除き）",{"$f":"IF(T8=\"\",\"\",ROUNDUP((T8-T7)/1000,2))","v":""}]
[null,null,"再エネなし",null,null,null,null,null,null,null,null,{"$f":"IF(AV7=\"\",\"\",TRUNC((AV7/AV11)*100))","v":""},null,null,null,{"$f":"IF(T7=\"\",\"\",ROUNDUP((AV10/AV11),2))","v":""},null,null,null,"評価書 表面 に表示",null,null,null,null,null,null,null,null,null,null,null,null,null,null,null,null,null,null,null,null,null,null,null,null,null,null,"設計一次エネ（CGS） [GJ/年]　（その他除き）",{"$f":"IF(T9=\"\",\"\",ROUNDUP((T9-T7)/1000,2))","v":""}]
[null,null,"再エネあり（自家消費分）",null,null,null,null,null,null,null,null,{"$f":"IF(T7=\"\",\"\",IF(OR(M5=\"■\"),\"ー\",SUM(1-P17)))","v":""},null,null,null,{"$f":"IF(T7=\"\",\"\",IF(OR(M5=\"■\"),\"ー\",(ROUNDUP(AV9/AV11,2))))","v":""},null,null,null,null,null,null,null,null,null,null,null,null,null,null,null,null,null,null,null,null,null,null,null,null,null,null,null,null,null,null,"基準一次エネ [GJ/年]　（その他除き）",{"$f":"IF(T10=\"\",\"\",ROUNDUP(((T10-T7)/1000),2))","v":""}]
[null,null,"再エネあり（自家消費分+売電）",null,null,null,null,null,null,null,null,{"$f":"IF(T7=\"\",\"\",IF(OR(M5=\"■\"),\"ー\",TRUNC((AV8/AV11)*100)))","v":""},null,null,null,{"$f":"IF(T7=\"\",\"\",IF(OR(M5=\"■\"),\"ー\",SUM((100-L18)/100)))","v":""}]
[null,null,"　再エネ除く 削減率",null,null,null,null,null,null,null,null,{"$f":"IF(AV7=\"\",\"\",IF(R5=\"■\",\"ー\",TRUNC((AV7/AV11)*100)))","v":""},null,null,null,null,null,null,null,"評価書 裏面 に表示"]
[null,null,"　再エネ含む 削減率",null,null,null,null,null,null,null,null,{"$f":"IF(AV8=\"\",\"\",IF(R5=\"■\",\"ー\",TRUNC((AV8/AV11)*100)))","v":""}]
[null,null,"※結果に表示される数値を保証するものではございません。予めご了承ください。"]

{"sheet":"更新履歴","index":5,"n_rows":46,"n_cols":4,"rows_kept":46,"cut":false,"hidden":false,"merged":[]}
[]
[null,"●変更履歴"]
[null,"版","日付","内容"]
[null,"HPJ-555-1","2016-03-25","・新規作成"]
[null,"HPJ-555-2","2016-03-27","・第１面　ルームコンディショナー　⇒　ルームエアコンディショナーに修正"]
[null,null,null,"・別紙１、別紙２、別紙３を作成"]
[null,"HPJ-555-3","2018-05-15","・別紙３　8.参考情報　「二次エネルギー消費量に関する項目以外の情報」を追記"]
[null,"HPJ-555-4","2018-07-09","・第１面　住宅の種類　「店舗等併用住宅の住戸」、　「複合建築物（住宅部分全体）」の追加"]
[null,null,"（改定2018/6/15）","・別紙１、別紙２、別紙３　数値の注意事項　「小数点」⇒「小数」"]
[null,null,null,"・別紙１　住宅の種類　「店舗等併用住宅の住戸」の追加"]
[null,null,null,"・別紙１　3.　「ZEHマーク」、「ゼロエネ相当」等に関する事項　に修正"]
[null,null,null,"・別紙２　住宅の種類　「複合建築物（住宅部分全体）」の追加"]
[null,null,null,"・別紙２　3.　「ZEH-Mマーク」に関する事項　に修正"]
[null,null,null,"・別紙３シート　申請書第六面改定に伴う第六面部分全面修正、第６面・別紙３の印刷分離"]
[null,null,null,"・別紙３　住宅の種類　「複合建築物 住宅部分全体のみ」の追加"]
[null,"HPJ-555-5","2019-12-18","・第１面用　開口部の断熱性能等のプルダウン（2020/4/1以降の８地域変更分）を追加"]
[null,null,null,"同上プルダウン　2020/4/1以降利用ができないものにはその旨を追加"]
[null,null,null,"・別紙２"]
[null,null,null,"1．（１）外皮基準を住戸評価、住棟評価により数値が表示されるように修正"]
[null,null,null,"1．（１）８地域のηAC値の基準値を追加（2020/4/1以降の【 】内の数値を基準値とする旨追記）"]
[null,null,null,"2.　（１）共同住宅等の住戸部分を別紙3-2より引用されるように修正"]
[null,null,null,"2.　（２）共用部分の評価　対象・除外の追加"]
[null,null,null,"・別紙３について全面改訂（別紙３－１、３－２へ分割）"]
[null,null,null,"　　　住棟又は住宅部分の全体を評価する場合は、MJによる合計値での算定を行う必要がある"]
[null,null,null,"　　　ZEH-M用の各合計値等の欄の作成"]
[null,null,null,"・別紙１　3.　「ZEHマーク」、「ゼロエネ相当」等に関する事項"]
[null,null,null,"・別紙２　3.　「ZEH-Mマーク」に関する事項"]
[null,null,null,"・別紙３　３－１　3.　「ZEHマーク」、「ゼロエネ相当」等に関する事項、３－２内"]
[null,null,null,"　　　「再生可能エネルギー」　⇒　「再生可能エネルギー等」に修正"]
[]
[null,"HPJ-555-6","2022-11-07","・第一面　２．外皮に関する事項 及び ３．一次エネルギー消費量に関する事項 の適用基準に「誘導仕様基準」を追加"]
[null,null,null,"・別紙1　　１．　外壁、窓等を通しての熱の損失の防止に関する事項　及び　2.　一次エネルギー消費量に関する事項に\n　　　　　　　「誘導仕様基準」を追加"]
[]
[null,"HPJ-555-7","2023-03-15","・第一面　２．外皮に関する事項に「住戸間の温度差係数」に関する申告欄を追加"]
[]
[null,"HPJ-920-１","2023-04-25","・新規作成（戸建て用と分離）"]
[null,null,null,"・別紙２への転記を別紙３からの自動計算ではなく、手入力に変更（別紙３以外の集計表使用要望ありのため）"]
[null,"HPJ-920-２","2023-12-01","・UA値及びηAC値の最も性能が悪い値を表示するように変更"]
[]
[null,"HPJ-920-3","2024-04-01","・告示新設に伴う改訂"]
[]
[null,"HPJ-920-4","2024-10-10","・住戸のZEH判定を追加"]
[]
[null,"HPJ-920-5","2025-04-01","・戸建て版と共同版を統合"]
[null,"HPJ-920-5","2025-04-01","・（別紙）の入力省力化に伴う改訂"]
[null,"HPJ-920-7","2025-11-04","・（別紙）一次エネルギー消費量計算書の自動転記機能の追加"]

{"sheet":"master","index":6,"n_rows":100,"n_cols":19,"rows_kept":100,"cut":false,"hidden":true,"merged":[]}
[]
[null,"BELS（住宅用）/　設計内容説明書マスタ"]
[]
[null,"断熱材",null,"開口部の熱貫流率",null,"開口部の日射遮蔽仕様",null,"建築物の用途",null,"S造\n外装材の熱抵抗",null,null,"構造",null,"一部●●造",null,"共同集計表","太陽光発電設備の共有に関して","主たる廊下の形状"]
[]
[null,null,null,null,null,null,null,null,null,null,null,null,"（構造種別を選択）",null,"一部木造",null,"設計内容説明書(別紙)による","共有なし","大部分が屋外"]
[null,null,null,"---▼仕様基準",null,"---▼地域の区分が８地域の場合",null,"長屋",null,"---▼仕様基準",null,null,"木造（軸組構法）",null,"一部鉄骨造",null,null,"住戸、共用部で共有","大部分が屋内"]
[null,"該当箇所なし",null,"2.3以下",null,"開口部の日射熱取得率が0.52以下",null,"共同住宅",null,"0.5以上",null,null,"木造（枠組構法）",null,"一部鉄筋コンクリート造"]
[null,"グラスウール断熱材　10K相当",null,"3.5以下",null,"開口部の日射熱取得率が0.65以下",null,"■ 選択なし（自由記述）",null,"0.1以上0.5未満",null,null,"鉄骨造",null,"一部その他"]
[null,"グラスウール断熱材　16K相当",null,"4.7以下",null,"付属部材を設ける",null,null,null,"0.1未満",null,null,"鉄筋コンクリート造"]
[null,"グラスウール断熱材　20K相当",null,"---▼誘導仕様基準",null,"付属部材を設ける",null,null,null,"---▼誘導仕様基準",null,null,"その他"]
[null,"グラスウール断熱材　24K相当",null,"1.9以下",null,null,null,null,null,"0.5以上"]
[null,"グラスウール断熱材　32K相当",null,"2.3以下",null,null,null,null,null,"0.1以上0.5未満"]
[null,"高性能グラスウール断熱材　16K相当",null,"2.9以下",null,null,null,null,null,"0.1未満"]
[null,"高性能グラスウール断熱材　24K相当"]
[null,"高性能グラスウール断熱材　32K相当"]
[null,"高性能グラスウール断熱材　40K相当"]
[null,"高性能グラスウール断熱材　48K相当"]
[null,"吹込み用グラスウール　13K相当"]
[null,"吹込み用グラスウール　18K相当"]
[null,"吹込み用グラスウール　30K相当"]
[null,"吹込み用グラスウール　35K相当"]
[null,"吹付けロックウール"]
[null,"ロックウール断熱材（マット）"]
[null,"ロックウール断熱材（フェルト）"]
[null,"ロックウール断熱材（ボード）"]
[null,"吹込み用ロックウール　25K相当"]
[null,"吹込み用ロックウール　65K相当"]
[null,"吹込み用セルローズファイバー　25K"]
[null,"吹込み用セルローズファイバー　45K"]
[null,"吹込み用セルローズファイバー　55K"]
[null,"押出法ポリスチレンフォーム　保温板　1種"]
[null,"押出法ポリスチレンフォーム　保温板　2種"]
[null,"押出法ポリスチレンフォーム　保温板　3種"]
[null,"A種ポリエチレンフォーム　保温板　1種2号"]
[null,"A種ポリエチレンフォーム　保温板　2種"]
[null,"ビーズ法ポリスチレンフォーム　保温板　特号"]
[null,"ビーズ法ポリスチレンフォーム　保温板　1号"]
[null,"ビーズ法ポリスチレンフォーム　保温板　2号"]
[null,"ビーズ法ポリスチレンフォーム　保温板　3号"]
[null,"ビーズ法ポリスチレンフォーム　保温板　4号"]
[null,"硬質ウレタンフォーム　保温板　2種1号"]
[null,"硬質ウレタンフォーム　保温板　2種2号"]
[null,"吹付け硬質ウレタンフォームA種1"]
[null,"吹付け硬質ウレタンフォームA種1H"]
[null,"吹付け硬質ウレタンフォームA種3"]
[null,"フェノールフォーム　保温板　1種1号"]
[null,"フェノールフォーム　保温板　1種2号"]
[null,"---▼JIS A9521：2014 建築用断熱材"]
[null,"JIS値 ビーズ法ポリスチレンフォーム断熱材 1号"]
[null,"JIS値 ビーズ法ポリスチレンフォーム断熱材 2号"]
[null,"JIS値 ビーズ法ポリスチレンフォーム断熱材 3号"]
[null,"JIS値 ビーズ法ポリスチレンフォーム断熱材 4号"]
[null,"JIS値 押出法ポリスチレンフォーム断熱材 1種 bA"]
[null,"JIS値 押出法ポリスチレンフォーム断熱材 1種 bB"]
[null,"JIS値 押出法ポリスチレンフォーム断熱材 1種 bC"]
[null,"JIS値 押出法ポリスチレンフォーム断熱材 2種 bA"]
[null,"JIS値 押出法ポリスチレンフォーム断熱材 2種 bB"]
[null,"JIS値 押出法ポリスチレンフォーム断熱材 2種 bC"]
[null,"JIS値 押出法ポリスチレンフォーム断熱材 3種 aA"]
[null,"JIS値 押出法ポリスチレンフォーム断熱材 3種 aB"]
[null,"JIS値 押出法ポリスチレンフォーム断熱材 3種 aC"]
[null,"JIS値 押出法ポリスチレンフォーム断熱材 3種 aD"]
[null,"JIS値 押出法ポリスチレンフォーム断熱材 3種 bA"]
[null,"JIS値 押出法ポリスチレンフォーム断熱材 3種 bB"]
[null,"JIS値 押出法ポリスチレンフォーム断熱材 3種 bC"]
[null,"JIS値 押出法ポリスチレンフォーム断熱材 3種 bD"]
[null,"JIS値 硬質ウレタンフォーム断熱材 1種"]
[null,"JIS値 硬質ウレタンフォーム断熱材 2種 1号"]
[null,"JIS値 硬質ウレタンフォーム断熱材 2種 2号"]
[null,"JIS値 硬質ウレタンフォーム断熱材 2種 3号"]
[null,"JIS値 硬質ウレタンフォーム断熱材 2種 4号"]
[null,"JIS値 ポリエチレンフォーム断熱材 1種 1号"]
[null,"JIS値 ポリエチレンフォーム断熱材 1種 2号"]
[null,"JIS値 ポリエチレンフォーム断熱材 2種"]
[null,"JIS値 ポリエチレンフォーム断熱材 3種"]
[null,"JIS値 フェノールフォーム断熱材 1種 1号　AⅠ､AⅡ"]
[null,"JIS値 フェノールフォーム断熱材 1種 1号　BⅠ､BⅡ"]
[null,"JIS値 フェノールフォーム断熱材 1種 1号　CⅠ､CⅡ"]
[null,"JIS値 フェノールフォーム断熱材 1種 1号　DⅠ､DⅡ"]
[null,"JIS値 フェノールフォーム断熱材 1種 1号　EⅠ､EⅡ"]
[null,"JIS値 フェノールフォーム断熱材 1種 2号　AⅠ､AⅡ"]
[null,"JIS値 フェノールフォーム断熱材 1種 2号　BⅠ､BⅡ"]
[null,"JIS値 フェノールフォーム断熱材 1種 2号　CⅠ､CⅡ"]
[null,"JIS値 フェノールフォーム断熱材 1種 2号　DⅠ､DⅡ"]
[null,"JIS値 フェノールフォーム断熱材 1種 2号　EⅠ､EⅡ"]
[null,"JIS値 フェノールフォーム断熱材 1種 3号　AⅠ､AⅡ"]
[null,"JIS値 フェノールフォーム断熱材 1種 3号　BⅠ､BⅡ"]
[null,"JIS値 フェノールフォーム断熱材 1種 3号　CⅠ､CⅡ"]
[null,"JIS値 フェノールフォーム断熱材 1種 3号　DⅠ､DⅡ"]
[null,"JIS値 フェノールフォーム断熱材 1種 3号　EⅠ､EⅡ"]
[null,"JIS値 フェノールフォーム断熱材 2種 1号　AⅠ､AⅡ"]
[null,"JIS値 フェノールフォーム断熱材 2種 2号　AⅠ､AⅡ"]
[null,"JIS値 フェノールフォーム断熱材 2種 3号　AⅠ､AⅡ"]
[null,"JIS値 フェノールフォーム断熱材 3種 1号　AⅠ､AⅡ"]
[null,"---▼JIS A9526：2013 建築物断熱用吹付け硬質ウレタンフォーム"]
[null,"JIS値 建築物断熱用吹付け硬質ウレタンフォームA種1"]
[null,"JIS値 建築物断熱用吹付け硬質ウレタンフォームA種2"]
[null,"JIS値 建築物断熱用吹付け硬質ウレタンフォームA種3"]
[null,"JIS値 建築物断熱用吹付け硬質ウレタンフォームB種"]

{"sheet":"別紙mast","index":7,"n_rows":14,"n_cols":15,"rows_kept":14,"cut":false,"hidden":false,"merged":[]}
[null,null,null,null,null,null,null,null,null,null,null,null,null,null," ５．「ZEH」に関する事項"]
[null,"外皮性能の基準値",null,"地域区分"]
[null,null,null,1,2,3,4,5,6,7,8,null,null,null,"記載なし"]
[null,null,null,"１地域","２地域","３地域","４地域","５地域","６地域","７地域","８地域",null,null,null,"『ZEH』"]
[null,"住戸評価",null,1,2,3,4,5,6,7,8,null,null,null,"NearlｙZEH"]
[null,"外皮平均熱貫流率","UA",0.46,0.46,0.56000000000000005,0.75,0.87,0.87,0.87,"－",null,null,null,"ZEH Oriented"]
[null,"外皮平均日射熱取得率","ηAC","－","－","－","－",3,2.8,2.7,6.7,null,null,null,"ZEH Ready"]
[null,null,null,1,2,3,4,5,6,7,8]
[null,null,null,"１地域","２地域","３地域","４地域","５地域","６地域","７地域","８地域"]
[null,"住戸評価",null,1,2,3,4,5,6,7,8]
[null,"ZEH外皮基準","UA",0.4,0.4,0.5,0.6,0.6,0.6,0.6,"－"]
[null,"住棟評価"]
[null,"外皮平均熱貫流率","UA"]
[null,"外皮平均日射熱取得率","ηAC"]