{"text_format":"1","workbook":"xlsx","n_sheets":8,"sheets":["作成要領","第１面","別紙（共同住宅のみ）","別紙解説","ZEH等チェック（戸建てのみ）","更新履歴","master","別紙mast"],"not_rendered":{"charts":0,"images":5,"macros":1,"external_links":2,"defined_names":18,"comments":2,"pivot_tables":0},"unopened":[],"bounds":{"document_bytes":16777216,"sheet_cells":100000,"rows_first":2000,"rows_last":500,"rows_between":2000,"halvings":0,"cell_chars":16384,"cell_head_chars":4096},"cells_cut":0,"cells_raw":0,"read":"whole","date_system":"1900"}

{"sheet":"作成要領","index":0,"n_rows":26,"n_cols":5,"rows_kept":26,"cut":false,"hidden":false,"merged":[[25,2,25,10],[12,4,13,10],[3,8,3,11],[23,2,23,10],[24,2,24,10]]}
[]
[]
[]
[null,"　　－「設計内容説明書」作成ツールについて－　　　"]
[]
[null,null,"１．設計内容説明書"]
[null,null,"１）一戸建ての住宅、共同住宅等 及び 複合建築物の住宅部分 を対象にした設計内容説明書です。"]
[]
[null,null,"２．入力について"]
[null,null,"　★共通事項"]
[null,null,"●","黄色ｾﾙ","　は、文字や数値を直接入力します。"]
[null,null,"●","青色ｾﾙ","　は、原則として、プルダウンメニューから選択します。直接入力も可能です｡"]
[null,null,"●","黄緑セル","　は、住戸の「一次エネルギー消費量計算結果(住宅版)」（PDF) または、\n　　共用部の「エネルギー消費性能計算プログラム(非住宅版)標準入力法」（PDF)の結果を貼付けるセルです。\n　　※貼付け方法については、「別紙解説」を参照ください。"]
[]
[null,null,"●","プルダウンメニューに適当な文字や数値がない場合は、セルに直接入力してください。"]
[null,null,"●","灰色のセルは入力不要です"]
[null,null,"●","設計の内容を示す数値や仕様の他、それらが示されている「記載図書」も必ず入力してください。"]
[]
[null,null,"３．提出について"]
[null,null,null,"申請対象の用途に応じて必要な資料を提出してください。"]
[]
[]
[null,null,"４．その他"]
[null,null,"※　本ツールの使用に起因する一切の不利益に関して、ハウスプラス住宅保証(株)はその責任を負いません。\n　　使用者の責任においてご活用ください。　　　"]
[null,null,"※　本ツールは、ハウスプラス住宅保証(株)にBELLSの申請することを目的に作成しています。\n　　上記の目的以外に当社の許可なく、本ツールを複写または加工し、一般に公開または配布することを禁じます。"]
[null,null,"※　本シート(別紙）の集計結果と評価書に相違が生じる場合がございます。\n　　本シートの集計結果と評価書に相違が生じる場合は、評価書の内容は優先されます。"]

{"sheet":"第１面","index":1,"n_rows":63,"n_cols":40,"rows_kept":63,"cut":false,"hidden":false,"merged":[[2,1,2,5],[2,6,2,34],[3,1,3,5],[3,6,3,34],[5,1,6,3],[5,4,6,6],[5,7,5,32],[5,33,6,34],[6,7,6,10],[6,11,6,28],[24,4,27,10],[6,29,6,32],[6,36,6,39],[7,1,13,3],[7,4,8,10],[7,12,7,16],[9,4,11,10],[12,4,13,10],[12,12,12,17],[12,19,12,24],[13,17,13,27],[14,1,21,3],[18,16,18,27],[19,4,19,34],[20,4,20,10],[22,4,23,10],[28,4,28,34],[29,4,30,10],[31,4,33,10],[32,12,33,14],[34,1,40,3],[38,16,38,27],[39,4,39,34],[40,4,41,10],[60,4,62,10],[42,4,43,10],[45,4,46,10],[48,4,49,10],[51,4,52,10],[54,4,55,10],[57,4,59,10]]}
[]
[null,"設計内容説明書",null,null,null,null,null,null,null,null,null,null,null,null,null,null,null,null,null,null,null,null,null,null,null,null,null,null,null,null,null,null,null,null,"※欄は設計者等が確認･記載する欄です"]
[null,"住宅の名称※"]
[null,"設計者の氏名※"]
[]
[null,"確認事項",null,null,"確認\n項目※",null,null,"設計内容説明欄※",null,null,null,null,null,null,null,null,null,null,null,null,null,null,null,null,null,null,null,null,null,null,null,null,null,"確認欄"]
[null,null,null,null,null,null,null,"項目",null,null,null,null,null,null,null,null,null,null,null,null,null,null,null,null,null,null,null,null,null,"記載図書",null,null,null,null,null,null,"地域の区分"]
[null,"建物等の概要",null,null,"地域の区分",null,null,null,null,null,null,null,null,null,null,null,null,null,null,null,null,null,null,null,null,null,null,null,null,"□","案内図",null,null,null,null,null,{"$f":"IF(M8=\"■\",1,0)","v":0},{"$f":"IF(P8=\"■\",2,0)","v":0},{"$f":"IF(T8=\"■\",3,0)","v":0},{"$f":"IF(X8=\"■\",4,0)","v":0}]
[null,null,null,null,null,null,null,null,null,null,null,null,null,null,null,null,null,null,null,null,null,null,null,null,null,null,null,null,null,"□","仕様書・仕上表",null,null,null,null,null,{"$f":"IF(L9=\"■\",5,0)","v":0},{"$f":"IF(P9=\"■\",6,0)","v":0},{"$f":"IF(T9=\"■\",7,0)","v":0},{"$f":"IF(X9=\"■\",8,0)","v":0}]
[null,null,null,null,"共用部\n※共同住宅で共用部が存する場合のみ選択",null,null,null,null,null,null,"□","計算対象外",null,null,null,null,null,null,null,null,null,null,null,null,null,null,null,null,"□"]
[null,null,null,null,null,null,null,null,null,null,null,"□","計算対象",null,null,null,null,null,null,null,null,null,null,null,null,null,null,null,null,"□"]
[null,null,null,null,null,null,null,null,null,null,null,null,null,null,null,null,null,null,null,null,null,null,null,null,null,null,null,null,null,"□"]
[null,null,null,null,"構造",null,null,null,null,null,null,null,null,null,null,null,null,null,null,null,null,null,null,null,null,null,null,null,null,"□"]
[null,null,null,null,null,null,null,null,null,null,null,null,"その他の場合",null,null,null,"（",null,null,null,null,null,null,null,null,null,null,null,"）","□"]
[null,"外皮の概要",null,null,"評価手法等",null,null,null,null,null,null,"□","性能基準（計算）",null,null,null,null,null,null,null,null,null,null,null,null,null,null,null,null,"□","仕様書"]
[null,null,null,null,null,null,null,null,null,null,null,"□","仕様基準",null,null,null,null,null,null,null,null,null,null,null,null,null,null,null,null,"□"]
[null,null,null,null,null,null,null,null,null,null,null,"□","誘導仕様基準",null,null,null,null,null,null,null,null,null,null,null,null,null,null,null,null,"□"]
[null,null,null,null,null,null,null,null,null,null,null,"□","その他（共同住宅等の場合）",null,null,null,null,null,null,null,null,null,null,null,null,null,null,null,null,"□"]
[null,null,null,null,null,null,null,null,null,null,null,null,"その他の場合（",null,null,null,null,null,null,null,null,null,null,null,null,null,null,null,"）","□"]
[null,null,null,null,"外皮性能基準（計算）"]
[null,null,null,null,"外皮平均熱貫流率",null,null,null,null,null,null,"・","外皮平均熱貫流率（UA値）",null,null,null,null,null,null,null,null,null,null,null,null,null,null,null,null,"□","外皮計算書"]
[null,null,null,null,null,null,null,null,null,null,null,null,null,"設計値",null,{"$f":"IF(L15=\"■\",\"■\",\"□\")","v":"□"},"UA値計算書による",null,null,null,null,null,null,null,null,null,null,null,null,"□","仕様書・仕上表"]
[null,null,null,null,"平均日射熱取得率\n（冷房期）",null,null,null,null,null,null,"・","冷房期の平均日射熱取得率（ηAC値）",null,null,null,null,null,null,null,null,null,null,null,null,null,null,null,null,"□","平面図"]
[null,null,null,null,null,null,null,null,null,null,null,null,null,"設計値",null,{"$f":"IF(L15=\"■\",\"■\",\"□\")","v":"□"},"ηAC値計算書による",null,null,null,null,null,null,null,null,null,null,null,null,"□","矩計図"]
[null,null,null,null,"住戸間の温度差係数\n※共同住宅等の場合のみ",null,null,null,null,null,null,"・住戸間の温度差係数",null,null,null,null,null,null,null,null,null,null,null,null,null,null,null,null,null,"□","部位詳細図"]
[null,null,null,null,null,null,null,null,null,null,null,null,"□","「0.05 または 0.15」を適用する",null,null,null,null,null,null,null,null,null,null,null,null,null,null,null,"□"]
[null,null,null,null,null,null,null,null,null,null,null,null,"□","「0.0」を適用する",null,null,null,null,null,null,null,null,null,null,null,null,null,null,null,"□"]
[]
[null,null,null,null,"仕様基準 または 誘導仕様基準"]
[null,null,null,null,"躯体の断熱性能等",null,null,null,null,null,null,"□","熱貫流率の基準に適合",null,null,null,null,null,null,null,null,null,null,null,null,null,null,null,null,"□","仕様書"]
[null,null,null,null,null,null,null,null,null,null,null,"□","断熱材の熱抵抗値の基準に適合",null,null,null,null,null,null,null,null,null,null,null,null,null,null,null,null,"□","平面図"]
[null,null,null,null,"開口部の断熱性能等",null,null,null,null,null,null,"□","開口部の断熱性能等の基準に適合",null,null,null,null,null,null,null,null,null,null,null,null,null,null,null,null,"□","矩計図"]
[null,null,null,null,null,null,null,null,null,null,null,null,"緩和措置",null,null,"□","２％緩和適用（窓のみ対象）",null,null,null,null,null,null,null,null,null,null,null,null,"□","部位詳細図"]
[null,null,null,null,null,null,null,null,null,null,null,null,null,null,null,"□","４％緩和適用（天窓以外の窓のみ対象）",null,null,null,null,null,null,null,null,null,null,null,null,"□"]
[null,"設備の概要",null,null,"評価手法等",null,null,null,null,null,null,"□","性能基準（計算）",null,null,null,null,null,null,null,null,null,null,null,null,null,null,null,null,"□","計算書"]
[null,null,null,null,null,null,null,null,null,null,null,"□","仕様基準",null,null,null,null,null,null,null,null,null,null,null,null,null,null,null,null,"□"]
[null,null,null,null,null,null,null,null,null,null,null,"□","誘導仕様基準",null,null,null,null,null,null,null,null,null,null,null,null,null,null,null,null,"□"]
[null,null,null,null,null,null,null,null,null,null,null,"□","その他（共同住宅等の場合）",null,null,null,null,null,null,null,null,null,null,null,null,null,null,null,null,"□"]
[null,null,null,null,null,null,null,null,null,null,null,null,"その他の場合（",null,null,null,null,null,null,null,null,null,null,null,null,null,null,null,"）","□"]
[null,null,null,null,"一次エネルギー消費量性能基準（計算）"]
[null,null,null,null,"床面積",null,null,null,null,null,null,{"$f":"IF(L35=\"■\",\"■\",\"□\")","v":"□"},"一次エネルギー消費量計算結果表による",null,null,null,null,null,null,null,null,null,null,null,null,null,null,null,null,"□","床面積算定表"]
[null,null,null,null,null,null,null,null,null,null,null,null,null,null,null,null,null,null,null,null,null,null,null,null,null,null,null,null,null,"□","各階平面図"]
[null,null,null,null,"外皮の性能値",null,null,null,null,null,null,{"$f":"IF(L35=\"■\",\"■\",\"□\")","v":"□"},"一次エネルギー消費量計算結果表による",null,null,null,null,null,null,null,null,null,null,null,null,null,null,null,null,"□","計算書"]
[null,null,null,null,null,null,null,null,null,null,null,null,null,null,null,null,null,null,null,null,null,null,null,null,null,null,null,null,null,"□","仕様書"]
[null,null,null,null,null,null,null,null,null,null,null,null,null,null,null,null,null,null,null,null,null,null,null,null,null,null,null,null,null,"□"]
[null,null,null,null,"空気調和設備",null,null,null,null,null,null,{"$f":"IF(L35=\"■\",\"■\",\"□\")","v":"□"},"一次エネルギー消費量計算結果表による",null,null,null,null,null,null,null,null,null,null,null,null,null,null,null,null,"□","計算書"]
[null,null,null,null,null,null,null,null,null,null,null,null,null,null,null,null,null,null,null,null,null,null,null,null,null,null,null,null,null,"□","仕様書"]
[null,null,null,null,null,null,null,null,null,null,null,null,null,null,null,null,null,null,null,null,null,null,null,null,null,null,null,null,null,"□"]
[null,null,null,null,"空気調和設備以外の機械換気設備",null,null,null,null,null,null,{"$f":"IF(L35=\"■\",\"■\",\"□\")","v":"□"},"一次エネルギー消費量計算結果表による",null,null,null,null,null,null,null,null,null,null,null,null,null,null,null,null,"□","計算書"]
[null,null,null,null,null,null,null,null,null,null,null,null,null,null,null,null,null,null,null,null,null,null,null,null,null,null,null,null,null,"□","仕様書"]
[null,null,null,null,null,null,null,null,null,null,null,null,null,null,null,null,null,null,null,null,null,null,null,null,null,null,null,null,null,"□"]
[null,null,null,null,"換気設備",null,null,null,null,null,null,{"$f":"IF(L35=\"■\",\"■\",\"□\")","v":"□"},"一次エネルギー消費量計算結果表による",null,null,null,null,null,null,null,null,null,null,null,null,null,null,null,null,"□","計算書"]
[null,null,null,null,null,null,null,null,null,null,null,null,null,null,null,null,null,null,null,null,null,null,null,null,null,null,null,null,null,"□","仕様書"]
[null,null,null,null,null,null,null,null,null,null,null,null,null,null,null,null,null,null,null,null,null,null,null,null,null,null,null,null,null,"□"]
[null,null,null,null,"給湯設備",null,null,null,null,null,null,{"$f":"IF(L35=\"■\",\"■\",\"□\")","v":"□"},"一次エネルギー消費量計算結果表による",null,null,null,null,null,null,null,null,null,null,null,null,null,null,null,null,"□","計算書"]
[null,null,null,null,null,null,null,null,null,null,null,null,null,null,null,null,null,null,null,null,null,null,null,null,null,null,null,null,null,"□","仕様書"]
[null,null,null,null,null,null,null,null,null,null,null,null,null,null,null,null,null,null,null,null,null,null,null,null,null,null,null,null,null,"□"]
[null,null,null,null,"照明設備",null,null,null,null,null,null,{"$f":"IF(L35=\"■\",\"■\",\"□\")","v":"□"},"一次エネルギー消費量計算結果表による",null,null,null,null,null,null,null,null,null,null,null,null,null,null,null,null,"□","計算書"]
[null,null,null,null,null,null,null,null,null,null,null,null,null,null,null,null,null,null,null,null,null,null,null,null,null,null,null,null,null,"□","仕様書"]
[null,null,null,null,null,null,null,null,null,null,null,null,null,null,null,null,null,null,null,null,null,null,null,null,null,null,null,null,null,"□"]
[null,null,null,null,"空気調和設備以外のエネルギー消費性能の確保に資する建築設備",null,null,null,null,null,null,{"$f":"IF(L35=\"■\",\"■\",\"□\")","v":"□"},"一次エネルギー消費量計算結果表による",null,null,null,null,null,null,null,null,null,null,null,null,null,null,null,null,"□","計算書"]
[null,null,null,null,null,null,null,null,null,null,null,null,null,null,null,null,null,null,null,null,null,null,null,null,null,null,null,null,null,"□","各階平面図"]
[null,null,null,null,null,null,null,null,null,null,null,null,null,null,null,null,null,null,null,null,null,null,null,null,null,null,null,null,null,"□","仕様書・仕上表"]

{"sheet":"別紙（共同住宅のみ）","index":2,"n_rows":232,"n_cols":125,"rows_kept":232,"cut":false,"hidden":false,"merged":[[12,29,12,33],[11,29,11,33],[12,21,12,28],[11,21,11,28],[3,29,3,33],[19,96,19,104],[13,64,13,71],[2,64,2,71],[1,56,1,71],[14,34,14,37],[15,34,15,37],[9,34,9,41],[1,34,1,55],[3,69,3,70],[4,69,4,70],[5,69,5,70],[6,69,6,70],[9,69,9,70],[10,69,10,70],[19,70,29,70],[19,69,29,69],[11,69,11,70],[12,69,12,70],[13,42,13,55],[13,56,13,61],[13,62,13,63],[3,71,4,71],[5,34,6,36],[7,34,8,36],[10,34,10,37],[11,34,11,37],[13,34,13,37],[231,40,231,44],[232,40,232,44],[229,6,229,8],[229,9,229,10],[229,11,229,14],[229,19,229,21],[229,26,229,28],[227,58,227,59],[228,6,228,8],[228,9,228,10],[228,11,228,14],[228,19,228,21],[228,26,228,28],[228,40,228,43],[228,58,228,59],[227,6,227,8],[227,9,227,10],[227,11,227,14],[227,19,227,21],[227,26,227,28],[227,40,227,43],[229,40,229,43],[229,58,229,59],[230,40,230,44],[224,40,224,43],[224,58,224,59],[226,58,226,59],[225,40,225,43],[225,58,225,59],[223,6,223,8],[223,9,223,10],[223,11,223,14],[223,19,223,21],[223,26,223,28],[223,40,223,43],[226,6,226,8],[226,9,226,10],[226,11,226,14],[226,19,226,21],[226,26,226,28],[226,40,226,43],[225,6,225,8],[225,9,225,10],[225,11,225,14],[225,19,225,21],[225,26,225,28],[223,58,223,59],[224,6,224,8],[224,9,224,10],[224,11,224,14],[224,19,224,21],[224,26,224,28],[222,6,222,8],[222,9,222,10],[222,11,222,14],[222,19,222,21],[222,26,222,28],[222,40,222,43],[221,6,221,8],[221,9,221,10],[221,11,221,14],[221,19,221,21],[221,26,221,28],[219,58,219,59],[220,6,220,8],[220,9,220,10],[220,11,220,14],[220,19,220,21],[220,26,220,28],[220,40,220,43],[220,58,220,59],[219,6,219,8],[219,9,219,10],[219,11,219,14],[219,19,219,21],[219,26,219,28],[219,40,219,43],[222,58,222,59],[221,40,221,43],[221,58,221,59],[218,6,218,8],[218,9,218,10],[218,11,218,14],[218,19,218,21],[218,26,218,28],[218,40,218,43],[217,6,217,8],[217,9,217,10],[217,11,217,14],[217,19,217,21],[217,26,217,28],[215,58,215,59],[216,6,216,8],[216,9,216,10],[216,11,216,14],[216,19,216,21],[216,26,216,28],[216,40,216,43],[216,58,216,59],[215,6,215,8],[215,9,215,10],[215,11,215,14],[215,19,215,21],[215,26,215,28],[215,40,215,43],[218,58,218,59],[217,40,217,43],[217,58,217,59],[214,6,214,8],[214,9,214,10],[214,11,214,14],[214,19,214,21],[214,26,214,28],[214,40,214,43],[213,6,213,8],[213,9,213,10],[213,11,213,14],[213,19,213,21],[213,26,213,28],[211,58,211,59],[212,6,212,8],[212,9,212,10],[212,11,212,14],[212,19,212,21],[212,26,212,28],[212,40,212,43],[212,58,212,59],[211,6,211,8],[211,9,211,10],[211,11,211,14],[211,19,211,21],[211,26,211,28],[211,40,211,43],[214,58,214,59],[213,40,213,43],[213,58,213,59],[210,6,210,8],[210,9,210,10],[210,11,210,14],[210,19,210,21],[210,26,210,28],[210,40,210,43],[209,6,209,8],[209,9,209,10],[209,11,209,14],[209,19,209,21],[209,26,209,28],[207,58,207,59],[208,6,208,8],[208,9,208,10],[208,11,208,14],[208,19,208,21],[208,26,208,28],[208,40,208,43],[208,58,208,59],[207,6,207,8],[207,9,207,10],[207,11,207,14],[207,19,207,21],[207,26,207,28],[207,40,207,43],[210,58,210,59],[209,40,209,43],[209,58,209,59],[206,6,206,8],[206,9,206,10],[206,11,206,14],[206,19,206,21],[206,26,206,28],[206,40,206,43],[205,6,205,8],[205,9,205,10],[205,11,205,14],[205,19,205,21],[205,26,205,28],[203,58,203,59],[204,6,204,8],[204,9,204,10],[204,11,204,14],[204,19,204,21],[204,26,204,28],[204,40,204,43],[204,58,204,59],[203,6,203,8],[203,9,203,10],[203,11,203,14],[203,19,203,21],[203,26,203,28],[203,40,203,43],[206,58,206,59],[205,40,205,43],[205,58,205,59],[202,6,202,8],[202,9,202,10],[202,11,202,14],[202,19,202,21],[202,26,202,28],[202,40,202,43],[201,6,201,8],[201,9,201,10],[201,11,201,14],[201,19,201,21],[201,26,201,28],[199,58,199,59],[200,6,200,8],[200,9,200,10],[200,11,200,14],[200,19,200,21],[200,26,200,28],[200,40,200,43],[200,58,200,59],[199,6,199,8],[199,9,199,10],[199,11,199,14],[199,19,199,21],[199,26,199,28],[199,40,199,43],[202,58,202,59],[201,40,201,43],[201,58,201,59],[193,11,193,14],[193,19,193,21],[193,26,193,28],[197,58,197,59],[198,6,198,8],[198,9,198,10],[198,11,198,14],[198,19,198,21],[198,26,198,28],[198,40,198,43],[197,6,197,8],[197,9,197,10],[197,11,197,14],[197,19,197,21],[197,26,197,28],[195,58,195,59],[196,6,196,8],[196,9,196,10],[196,11,196,14],[196,19,196,21],[196,26,196,28],[196,40,196,43],[196,58,196,59],[198,58,198,59],[197,40,197,43],[191,58,191,59],[192,6,192,8],[192,9,192,10],[192,11,192,14],[192,19,192,21],[192,26,192,28],[192,40,192,43],[192,58,192,59],[190,58,190,59],[191,6,191,8],[191,9,191,10],[191,11,191,14],[191,19,191,21],[191,26,191,28],[191,40,191,43],[194,58,194,59],[195,6,195,8],[195,9,195,10],[195,11,195,14],[195,19,195,21],[195,26,195,28],[195,40,195,43],[193,40,193,43],[193,58,193,59],[194,6,194,8],[194,9,194,10],[194,11,194,14],[194,19,194,21],[194,26,194,28],[194,40,194,43],[193,6,193,8],[193,9,193,10],[185,11,185,14],[185,19,185,21],[185,26,185,28],[189,40,189,43],[189,58,189,59],[190,6,190,8],[190,9,190,10],[190,11,190,14],[190,19,190,21],[190,26,190,28],[190,40,190,43],[189,6,189,8],[189,9,189,10],[189,11,189,14],[189,19,189,21],[189,26,189,28],[187,58,187,59],[188,6,188,8],[188,9,188,10],[188,11,188,14],[188,19,188,21],[188,26,188,28],[188,40,188,43],[188,58,188,59],[183,58,183,59],[184,6,184,8],[184,9,184,10],[184,11,184,14],[184,19,184,21],[184,26,184,28],[184,40,184,43],[184,58,184,59],[182,58,182,59],[183,6,183,8],[183,9,183,10],[183,11,183,14],[183,19,183,21],[183,26,183,28],[183,40,183,43],[186,58,186,59],[187,6,187,8],[187,9,187,10],[187,11,187,14],[187,19,187,21],[187,26,187,28],[187,40,187,43],[185,40,185,43],[185,58,185,59],[186,6,186,8],[186,9,186,10],[186,11,186,14],[186,19,186,21],[186,26,186,28],[186,40,186,43],[185,6,185,8],[185,9,185,10],[177,11,177,14],[177,19,177,21],[177,26,177,28],[181,40,181,43],[181,58,181,59],[182,6,182,8],[182,9,182,10],[182,11,182,14],[182,19,182,21],[182,26,182,28],[182,40,182,43],[181,6,181,8],[181,9,181,10],[181,11,181,14],[181,19,181,21],[181,26,181,28],[179,58,179,59],[180,6,180,8],[180,9,180,10],[180,11,180,14],[180,19,180,21],[180,26,180,28],[180,40,180,43],[180,58,180,59],[175,58,175,59],[176,6,176,8],[176,9,176,10],[176,11,176,14],[176,19,176,21],[176,26,176,28],[176,40,176,43],[176,58,176,59],[174,58,174,59],[175,6,175,8],[175,9,175,10],[175,11,175,14],[175,19,175,21],[175,26,175,28],[175,40,175,43],[178,58,178,59],[179,6,179,8],[179,9,179,10],[179,11,179,14],[179,19,179,21],[179,26,179,28],[179,40,179,43],[177,40,177,43],[177,58,177,59],[178,6,178,8],[178,9,178,10],[178,11,178,14],[178,19,178,21],[178,26,178,28],[178,40,178,43],[177,6,177,8],[177,9,177,10],[169,11,169,14],[169,19,169,21],[169,26,169,28],[173,40,173,43],[173,58,173,59],[174,6,174,8],[174,9,174,10],[174,11,174,14],[174,19,174,21],[174,26,174,28],[174,40,174,43],[173,6,173,8],[173,9,173,10],[173,11,173,14],[173,19,173,21],[173,26,173,28],[171,58,171,59],[172,6,172,8],[172,9,172,10],[172,11,172,14],[172,19,172,21],[172,26,172,28],[172,40,172,43],[172,58,172,59],[167,58,167,59],[168,6,168,8],[168,9,168,10],[168,11,168,14],[168,19,168,21],[168,26,168,28],[168,40,168,43],[168,58,168,59],[166,58,166,59],[167,6,167,8],[167,9,167,10],[167,11,167,14],[167,19,167,21],[167,26,167,28],[167,40,167,43],[170,58,170,59],[171,6,171,8],[171,9,171,10],[171,11,171,14],[171,19,171,21],[171,26,171,28],[171,40,171,43],[169,40,169,43],[169,58,169,59],[170,6,170,8],[170,9,170,10],[170,11,170,14],[170,19,170,21],[170,26,170,28],[170,40,170,43],[169,6,169,8],[169,9,169,10],[161,11,161,14],[161,19,161,21],[161,26,161,28],[165,40,165,43],[165,58,165,59],[166,6,166,8],[166,9,166,10],[166,11,166,14],[166,19,166,21],[166,26,166,28],[166,40,166,43],[165,6,165,8],[165,9,165,10],[165,11,165,14],[165,19,165,21],[165,26,165,28],[163,58,163,59],[164,6,164,8],[164,9,164,10],[164,11,164,14],[164,19,164,21],[164,26,164,28],[164,40,164,43],[164,58,164,59],[159,58,159,59],[160,6,160,8],[160,9,160,10],[160,11,160,14],[160,19,160,21],[160,26,160,28],[160,40,160,43],[160,58,160,59],[158,58,158,59],[159,6,159,8],[159,9,159,10],[159,11,159,14],[159,19,159,21],[159,26,159,28],[159,40,159,43],[162,58,162,59],[163,6,163,8],[163,9,163,10],[163,11,163,14],[163,19,163,21],[163,26,163,28],[163,40,163,43],[161,40,161,43],[161,58,161,59],[162,6,162,8],[162,9,162,10],[162,11,162,14],[162,19,162,21],[162,26,162,28],[162,40,162,43],[161,6,161,8],[161,9,161,10],[153,11,153,14],[153,19,153,21],[153,26,153,28],[157,40,157,43],[157,58,157,59],[158,6,158,8],[158,9,158,10],[158,11,158,14],[158,19,158,21],[158,26,158,28],[158,40,158,43],[157,6,157,8],[157,9,157,10],[157,11,157,14],[157,19,157,21],[157,26,157,28],[155,58,155,59],[156,6,156,8],[156,9,156,10],[156,11,156,14],[156,19,156,21],[156,26,156,28],[156,40,156,43],[156,58,156,59],[151,58,151,59],[152,6,152,8],[152,9,152,10],[152,11,152,14],[152,19,152,21],[152,26,152,28],[152,40,152,43],[152,58,152,59],[150,58,150,59],[151,6,151,8],[151,9,151,10],[151,11,151,14],[151,19,151,21],[151,26,151,28],[151,40,151,43],[154,58,154,59],[155,6,155,8],[155,9,155,10],[155,11,155,14],[155,19,155,21],[155,26,155,28],[155,40,155,43],[153,40,153,43],[153,58,153,59],[154,6,154,8],[154,9,154,10],[154,11,154,14],[154,19,154,21],[154,26,154,28],[154,40,154,43],[153,6,153,8],[153,9,153,10],[145,11,145,14],[145,19,145,21],[145,26,145,28],[149,40,149,43],[149,58,149,59],[150,6,150,8],[150,9,150,10],[150,11,150,14],[150,19,150,21],[150,26,150,28],[150,40,150,43],[149,6,149,8],[149,9,149,10],[149,11,149,14],[149,19,149,21],[149,26,149,28],[147,58,147,59],[148,6,148,8],[148,9,148,10],[148,11,148,14],[148,19,148,21],[148,26,148,28],[148,40,148,43],[148,58,148,59],[143,58,143,59],[144,6,144,8],[144,9,144,10],[144,11,144,14],[144,19,144,21],[144,26,144,28],[144,40,144,43],[144,58,144,59],[142,58,142,59],[143,6,143,8],[143,9,143,10],[143,11,143,14],[143,19,143,21],[143,26,143,28],[143,40,143,43],[146,58,146,59],[147,6,147,8],[147,9,147,10],[147,11,147,14],[147,19,147,21],[147,26,147,28],[147,40,147,43],[145,40,145,43],[145,58,145,59],[146,6,146,8],[146,9,146,10],[146,11,146,14],[146,19,146,21],[146,26,146,28],[146,40,146,43],[145,6,145,8],[145,9,145,10],[137,11,137,14],[137,19,137,21],[137,26,137,28],[141,40,141,43],[141,58,141,59],[142,6,142,8],[142,9,142,10],[142,11,142,14],[142,19,142,21],[142,26,142,28],[142,40,142,43],[141,6,141,8],[141,9,141,10],[141,11,141,14],[141,19,141,21],[141,26,141,28],[139,58,139,59],[140,6,140,8],[140,9,140,10],[140,11,140,14],[140,19,140,21],[140,26,140,28],[140,40,140,43],[140,58,140,59],[135,58,135,59],[136,6,136,8],[136,9,136,10],[136,11,136,14],[136,19,136,21],[136,26,136,28],[136,40,136,43],[136,58,136,59],[134,58,134,59],[135,6,135,8],[135,9,135,10],[135,11,135,14],[135,19,135,21],[135,26,135,28],[135,40,135,43],[138,58,138,59],[139,6,139,8],[139,9,139,10],[139,11,139,14],[139,19,139,21],[139,26,139,28],[139,40,139,43],[137,40,137,43],[137,58,137,59],[138,6,138,8],[138,9,138,10],[138,11,138,14],[138,19,138,21],[138,26,138,28],[138,40,138,43],[137,6,137,8],[137,9,137,10],[129,11,129,14],[129,19,129,21],[129,26,129,28],[133,40,133,43],[133,58,133,59],[134,6,134,8],[134,9,134,10],[134,11,134,14],[134,19,134,21],[134,26,134,28],[134,40,134,43],[133,6,133,8],[133,9,133,10],[133,11,133,14],[133,19,133,21],[133,26,133,28],[131,58,131,59],[132,6,132,8],[132,9,132,10],[132,11,132,14],[132,19,132,21],[132,26,132,28],[132,40,132,43],[132,58,132,59],[127,58,127,59],[128,6,128,8],[128,9,128,10],[128,11,128,14],[128,19,128,21],[128,26,128,28],[128,40,128,43],[128,58,128,59],[126,58,126,59],[127,6,127,8],[127,9,127,10],[127,11,127,14],[127,19,127,21],[127,26,127,28],[127,40,127,43],[130,58,130,59],[131,6,131,8],[131,9,131,10],[131,11,131,14],[131,19,131,21],[131,26,131,28],[131,40,131,43],[129,40,129,43],[129,58,129,59],[130,6,130,8],[130,9,130,10],[130,11,130,14],[130,19,130,21],[130,26,130,28],[130,40,130,43],[129,6,129,8],[129,9,129,10],[121,11,121,14],[121,19,121,21],[121,26,121,28],[125,40,125,43],[125,58,125,59],[126,6,126,8],[126,9,126,10],[126,11,126,14],[126,19,126,21],[126,26,126,28],[126,40,126,43],[125,6,125,8],[125,9,125,10],[125,11,125,14],[125,19,125,21],[125,26,125,28],[123,58,123,59],[124,6,124,8],[124,9,124,10],[124,11,124,14],[124,19,124,21],[124,26,124,28],[124,40,124,43],[124,58,124,59],[119,58,119,59],[120,6,120,8],[120,9,120,10],[120,11,120,14],[120,19,120,21],[120,26,120,28],[120,40,120,43],[120,58,120,59],[118,58,118,59],[119,6,119,8],[119,9,119,10],[119,11,119,14],[119,19,119,21],[119,26,119,28],[119,40,119,43],[122,58,122,59],[123,6,123,8],[123,9,123,10],[123,11,123,14],[123,19,123,21],[123,26,123,28],[123,40,123,43],[121,40,121,43],[121,58,121,59],[122,6,122,8],[122,9,122,10],[122,11,122,14],[122,19,122,21],[122,26,122,28],[122,40,122,43],[121,6,121,8],[121,9,121,10],[113,11,113,14],[113,19,113,21],[113,26,113,28],[117,40,117,43],[117,58,117,59],[118,6,118,8],[118,9,118,10],[118,11,118,14],[118,19,118,21],[118,26,118,28],[118,40,118,43],[117,6,117,8],[117,9,117,10],[117,11,117,14],[117,19,117,21],[117,26,117,28],[115,58,115,59],[116,6,116,8],[116,9,116,10],[116,11,116,14],[116,19,116,21],[116,26,116,28],[116,40,116,43],[116,58,116,59],[111,58,111,59],[112,6,112,8],[112,9,112,10],[112,11,112,14],[112,19,112,21],[112,26,112,28],[112,40,112,43],[112,58,112,59],[110,58,110,59],[111,6,111,8],[111,9,111,10],[111,11,111,14],[111,19,111,21],[111,26,111,28],[111,40,111,43],[114,58,114,59],[115,6,115,8],[115,9,115,10],[115,11,115,14],[115,19,115,21],[115,26,115,28],[115,40,115,43],[113,40,113,43],[113,58,113,59],[114,6,114,8],[114,9,114,10],[114,11,114,14],[114,19,114,21],[114,26,114,28],[114,40,114,43],[113,6,113,8],[113,9,113,10],[105,11,105,14],[105,19,105,21],[105,26,105,28],[109,40,109,43],[109,58,109,59],[110,6,110,8],[110,9,110,10],[110,11,110,14],[110,19,110,21],[110,26,110,28],[110,40,110,43],[109,6,109,8],[109,9,109,10],[109,11,109,14],[109,19,109,21],[109,26,109,28],[107,58,107,59],[108,6,108,8],[108,9,108,10],[108,11,108,14],[108,19,108,21],[108,26,108,28],[108,40,108,43],[108,58,108,59],[103,58,103,59],[104,6,104,8],[104,9,104,10],[104,11,104,14],[104,19,104,21],[104,26,104,28],[104,40,104,43],[104,58,104,59],[102,58,102,59],[103,6,103,8],[103,9,103,10],[103,11,103,14],[103,19,103,21],[103,26,103,28],[103,40,103,43],[106,58,106,59],[107,6,107,8],[107,9,107,10],[107,11,107,14],[107,19,107,21],[107,26,107,28],[107,40,107,43],[105,40,105,43],[105,58,105,59],[106,6,106,8],[106,9,106,10],[106,11,106,14],[106,19,106,21],[106,26,106,28],[106,40,106,43],[105,6,105,8],[105,9,105,10],[97,11,97,14],[97,19,97,21],[97,26,97,28],[101,40,101,43],[101,58,101,59],[102,6,102,8],[102,9,102,10],[102,11,102,14],[102,19,102,21],[102,26,102,28],[102,40,102,43],[101,6,101,8],[101,9,101,10],[101,11,101,14],[101,19,101,21],[101,26,101,28],[99,58,99,59],[100,6,100,8],[100,9,100,10],[100,11,100,14],[100,19,100,21],[100,26,100,28],[100,40,100,43],[100,58,100,59],[95,58,95,59],[96,6,96,8],[96,9,96,10],[96,11,96,14],[96,19,96,21],[96,26,96,28],[96,40,96,43],[96,58,96,59],[94,58,94,59],[95,6,95,8],[95,9,95,10],[95,11,95,14],[95,19,95,21],[95,26,95,28],[95,40,95,43],[98,58,98,59],[99,6,99,8],[99,9,99,10],[99,11,99,14],[99,19,99,21],[99,26,99,28],[99,40,99,43],[97,40,97,43],[97,58,97,59],[98,6,98,8],[98,9,98,10],[98,11,98,14],[98,19,98,21],[98,26,98,28],[98,40,98,43],[97,6,97,8],[97,9,97,10],[89,11,89,14],[89,19,89,21],[89,26,89,28],[93,40,93,43],[93,58,93,59],[94,6,94,8],[94,9,94,10],[94,11,94,14],[94,19,94,21],[94,26,94,28],[94,40,94,43],[93,6,93,8],[93,9,93,10],[93,11,93,14],[93,19,93,21],[93,26,93,28],[91,58,91,59],[92,6,92,8],[92,9,92,10]],"merged_total":1700,"flags":["merged_cut"]}
[null,"BELS　申請書第五面　兼　設計内容（現況）説明書　＜住棟及び住戸評価用＞　（※は必須入力項目です）",null,null,null,null,null,null,null,null,null,null,null,null,null,null,null,null,null,null,null,null,null,null,null,null,null,null,null,null,null,null,null,null,null,null,null,null,null,null,null,null,null,null,null,null,null,null,null,null,null,null,null,null,null,null,null,null,null,null,null,null,null,null,null,null,null,null,null,null,null,null,null,null,null,null,null,null,null,null,null,null,null,null,null,null,null,null,null,null,null,null,null,null,null,null,null,null,null,null,null,null,null,null,null,null,"住宅部分全体の計算式",null,"共用部計算式",null,null,"廊下の形状による判定"]
[null,"住宅の種類 ※",null,null,null,null,"□","共同住宅等の住棟 または 複合建築物の住宅部分全体",null,null,null,null,null,null,null,null,null,null,null,null,"共用部",null,null,null,null,null,null,null,null,null,null,null,null,null,"住宅部分全体",null,null,null,null,null,null,null,null,null,null,null,null,null,null,null,null,null,null,null,null,null,"住棟（住戸部分全体+共用部）",null,null,null,null,null,null,null,null,null,null,null,null,null,null,null,null,null,null,null,null,null,null,null,null,null,null,null,null,null,null,null,null,null,null,null,null,null,null,null,null,null,null,null,null,null,null,null,null,null,"その他の設備　[MJ/年]",{"$f":"IF($CM$31=\"\",\"\",SUM($CM$31:$CM$230))","v":""},"その他除くGJ","(その他除く）設計一次エネ（PV+CGS） [GJ/年]",{"$f":"IF($AD$10=\"\",\"\",$AD$10)","v":""},"共用部再エネ（MJ)",{"$f":"AD6*1000","v":0},null,null,"BELSに関して記載する数値は以下のとおりとします。"]
[null,null,null,null,null,null,"□","共同住宅等 または 複合建築物の住戸",null,null,null,null,null,null,null,null,null,null,null,null,"太陽光発電設備の共有に関して",null,null,null,null,null,null,null,null,null,null,null,null,null,"エネルギー消費性能",null,null,null,null,null,null,null,"一次エネルギー消費性能",null,null,null,null,null,null,null,null,null,null,null,null,null,"エネルギー消費性能",null,null,null,null,null,null,null,"一次エネルギー消費性能",null,null,null,null,null,null,null,null,null,null,null,null,null,null,null,null,null,null,null,null,null,null,null,null,null,null,null,null,null,null,null,null,null,null,null,null,null,null,null,null,null,"設計一次エネ（PV+CGS） [MJ/年]",{"$f":"IF($CN31=\"\",\"\",SUM(CN31:CN230))","v":""},null,"(その他除く）基準一次エネ（PV+CGS） [GJ/年]",{"$f":"IF($AD$11=\"\",\"\",$AD$11)","v":""},"共用部設計一次エネ（MJ)",{"$f":"AD8*1000","v":0},null,null,"ＵＡ　",null,null,null,null,null,null,null,null,"小数第二位未満を切り上げた数値を記載してください。"]
[null,"共用部※",null,null,null,null,"□","対象",null,"□",null,"対象外",null,null,null,null,null,null,null,null,"主たる廊下の形状",null,null,null,null,null,null,null,null,null,null,null,null,null,"再エネなし",null,null,"削減率",{"$f":"IF(C31=\"\",\"\",TRUNC(((1-$AM$5)*100),2))","v":""},null,null,null,"省エネ基準",null,null,null,"設計一次エネ消費量",null,null,null,null,null,{"$f":"IF(C31=\"\",\"\",($DD$14))","v":""},null,{"$f":"IF($BA$4=\"\",\"\",IF($BA$4<=$BA$5,\"達成\",\"非達成\"))","v":""},null,"再エネなし",null,null,null,null,"削減率",{"$f":"IF(C31=\"\",\"\",IF($BK$5=\"\",\"\",TRUNC(((1-$BK$5)*100),2)))","v":""},null,"省エネ基準",null,"設計一次エネ消費量",null,null,{"$f":"IF($G$4=\"□\",\"\",(($DD$14+DG8)))","v":""},null,{"$f":"IF($BR$4=\"\",\"\",IF($BR$4<=$BR$5,\"達成\",\"非達成\"))","v":""},null,null,null,null,null,null,null,null,null,null,null,null,null,null,null,null,null,null,null,null,null,null,null,null,null,null,null,null,null,null,null,null,null,null,"設計一次エネ（CGS） [MJ/年]",{"$f":"IF($CO$31=\"\",\"\",SUM($CO$31:$CO$230))","v":""},null,"(その他除く）設計一次エネ（CGS） [GJ/年]",{"$f":"IF($AD$12=\"\",\"\",$AD$12)","v":""},"共用部判定",{"$f":"IF(AND(AD4=\"大部分が屋内\",AD3=\"共有あり\",$K$32*0.3<=DD11),AD8*0.3,IF(AND(AD4=\"大部分が屋内\",AD3=\"共有あり\",AD8*0.3>DD11),DD11,IF(AND(AD4=\"大部分が屋内\",AD3=\"共有なし\",AD8*0.3<=AD6),AD8*0.3,IF(AND(AD4=\"大部分が屋内\",AD3=\"共有なし\",AD8*0.3>AD6),AD6,0))))","v":0},null,null,"ηＡＣ　",null,null,null,null,null,null,null,null,"小数第一位未満を切り上げた数値を記載してください。"]
[null,"太陽光の有無※",null,null,null,null,"□","有",null,"□",null,"無",null,"(","□","全住戸に設置なし）",null,null,null,null,null,null,null,null,null,null,null,null,null,null,null,null,null,null,null,null,null,"BEI値",{"$f":"IF(G12=\"\",\"\",IF($BJ$31=\"\",\"\",ROUNDUP(($DD$7/$DD$8),2)))","v":""},null,null,null,null,null,null,null,"基準一次エネ消費量",null,null,null,null,null,{"$f":"IF(C31=\"\",\"\",($DD$15))","v":""},null,null,null,null,null,null,null,null,"BEI値",{"$f":"IF($G$4=\"□\",\"\",ROUNDUP((($DD$7+$AD$8)/($DD$8+$AD$9)),2))","v":""},null,null,null,"基準一次エネ消費量",null,null,{"$f":"IF($G$4=\"□\",\"\",(($DD$15+$AD$9)))","v":""},null,null,null,null,null,null,null,null,null,null,null,null,null,null,null,null,null,null,null,null,null,null,null,null,null,null,null,null,null,null,null,null,null,null,null,null,"基準一次エネ [MJ/年]",{"$f":"IF($CP$31=\"\",\"\",SUM($CP$31:$CP$230))","v":""},null,"(その他除く）基準一次エネ（CGS） [GJ/年]",{"$f":"IF($AD$7=\"\",\"\",ROUNDUP(AD13,1))","v":""},null,null,null,null,"ＢＥＩ　",null,null,null,null,null,null,null,null,"小数第二位未満を切り上げた数値を記載してください。"]
[null,"住宅の名称 ※",null,null,null,null,{"$f":"IF(第１面!G3=\"\",\"\",第１面!G3)","v":""},null,null,null,null,null,null,null,null,null,null,null,null,null,"太陽光発電(PV)［GJ/年］",null,null,null,null,null,null,null,null,null,null,null,null,null,"再エネあり\n（自家消費分）",null,null,"削減率",{"$f":"IF(C31=\"\",\"\",IF($J$5=\"■\",\"ー\",SUM(1-$AM$7)))","v":""},null,null,null,"誘導基準\n※参考値",null,null,null,"設計一次エネ消費量",null,null,null,null,null,{"$f":"IF(C31=\"\",\"\",($DD$16))","v":""},null,{"$f":"IF($BA$6=\"\",\"\",IF($BA$6<=$BA$7,\"達成\",\"非達成\"))","v":""},null,"再エネあり\n（自家消費分）",null,null,null,null,"削減率",{"$f":"IF($G$4=\"□\",\"\",IF($G$12=\"\",\"\",IF($J$5=\"■\",\"ー\",(1-$BK$7))))","v":""},null,"誘導基準\n※参考値",null,"設計一次エネ消費量",null,null,{"$f":"IF($G$4=\"□\",\"\",(($DD$16+$AD$8)))","v":""},null,{"$f":"IF($BR$6=\"\",\"\",IF($BR$6<=$BR$7,\"達成\",\"非達成\"))","v":""},null,null,null,null,null,null,null,null,null,null,null,null,null,null,null,null,null,null,null,null,null,null,null,null,null,null,null,null,null,null,null,null,null,null,"設計一次エネ（PV +CGS） [GJ/年]　（その他除き）",{"$f":"IF(DD2=\"\",\"\",ROUNDUP(($DD$3-$DD$2)/1000,2))","v":""},"削減量（再エネ除き）",null,{"$f":"SUM(($DG$3+$DD$8)-($DG$4+$DD$7))","v":{"$error":"#VALUE!"}},null,null,null,null,"設計・基準一次エネルギー消費量",null,null,null,null,null,null,null,null,"小数以下一位未満を切り上げた数値を記載してください。 "]
[null,"合計住戸数※",null,null,null,null,{"$f":"IF(J31=\"\",\"\",SUM(J31:K230))","v":""},null,null,"戸",{"$f":"IF(G7=\"\",\"エラー：1.住戸番号の右横の住戸数を入力してください\",\"\")","v":"エラー：1.住戸番号の右横の住戸数を入力してください"},null,null,null,null,null,null,null,null,null,"設計一次エネ（PV+CGS）[GJ/年]",null,null,null,null,null,null,null,null,null,null,null,null,null,null,null,null,"BEI値",{"$f":"IF(C31=\"\",\"\",IF(J5=\"■\",\"ー\",(ROUNDUP($DD$6/$DD$8,2))))","v":""},null,null,null,null,null,null,null,"基準一次エネ消費量",null,null,null,null,null,{"$f":"IF(C31=\"\",\"\",($DD$17))","v":""},null,null,null,null,null,null,null,null,"BEI値",{"$f":"IF(G4=\"□\",\"\",IF(J5=\"■\",\"ー\",(ROUNDUP(($DD$6+DG8)/($DD$8+$AD$9),2))))","v":""},null,null,null,"基準一次エネ消費量",null,null,{"$f":"IF($G$4=\"□\",\"\",($DD$17+$DG$17))","v":""},null,null,null,null,null,null,null,null,null,null,null,null,null,null,null,null,null,null,null,null,null,null,null,null,null,null,null,null,null,null,null,null,null,null,null,null,"設計一次エネ（CGS） [GJ/年]　（その他除き）",{"$f":"IF(DD2=\"\",\"\",ROUNDUP(($DD$4-$DD$2)/1000,2))","v":""},"削減量（再エネ含む）",null,{"$f":"SUM(($DG$3+$DD$8)-($DG$2+$DD$9))","v":{"$error":"#VALUE!"}},null,null,null,null,"削減率",null,null,null,null,null,null,null,null,"1未満の端数があるときは、これを切り捨てた数値を記載してください。"]
[null,"ZEH-M",null,null,null,null,"□","『ZEH-M』",null,null,null,null,null,null,null,null,null,null,null,null,"設計一次エネ（CGS）[GJ/年]",null,null,null,null,null,null,null,null,null,null,null,null,null,"再エネあり\n（自家消費分\n+売電分）",null,null,"削減率",{"$f":"IF(C31=\"\",\"\",IF($J$5=\"■\",\"ー\",TRUNC(($DD$13/$DD$8)*100)))","v":""},null,null,null,"断熱性能",null,null,null,null,null,null,null,null,null,null,null,null,null,"再エネあり\n（自家消費分\n+売電分）",null,null,null,null,"削減率",{"$f":"IF(C31=\"\",\"\",IF($BK$5=\"\",\"\",IF($J$5=\"■\",\"ー\",TRUNC(($DG$7/($DG$3+$DD$8))*100))))","v":""},null,"断熱性能",null,null,null,null,null,null,null,null,null,null,null,null,null,null,null,null,null,null,null,null,null,null,null,null,null,null,null,null,null,null,null,null,null,null,null,null,null,null,null,null,null,"基準一次エネ [GJ/年]　（その他除き）",{"$f":"IF($DD$5=\"\",\"\",ROUNDUP((($DD$5-$DD$2)/1000),2))","v":""},"設計一次エネ（自家消費のみ）",null,{"$f":"AD8+DI4","v":0}]
[null,null,null,null,null,null,"□","ZEH-M　Ready",null,null,null,null,null,null,null,null,null,null,null,null,"基準一次エネ[GJ/年]",null,null,null,null,null,null,null,null,null,null,null,null,null,null,null,null,"BEI値",{"$f":"IF(C31=\"\",\"\",IF($J$5=\"■\",\"ー\",SUM((100-$AM$8)/100)))","v":""},null,null,null,null,null,null,null,null,null,"設計",null,null,null,"基準",null,"判定",null,null,null,null,null,null,"BEI値",{"$f":"IF(G4=\"□\",\"\",IF(C31=\"\",\"\",IF($J$5=\"■\",\"ー\",SUM((100-$BK$8)/100))))","v":""},null,null,null,null,"設計",null,"基準",null,"判定",null,null,null,null,null,null,null,null,null,null,null,null,null,null,null,null,null,null,null,null,null,null,null,null,null,null,null,null,null,null,null,null,null,null,"設計一次エネ（自家消費+売電） [GJ/年]　換算",{"$f":"IF($DD$3=\"\",\"\",ROUNDUP((($DD$3-$DD$2-DD11)/1000),2))","v":""},"省エネ基準｜設計一次［GJ/年］",null,{"$f":"IF(AD7=\"\",\"\",AD7)","v":""}]
[null,null,null,null,null,null,"□","Nearly　ZEH-M",null,null,null,null,null,null,null,null,null,null,null,null,"その他除き","設計一次エネ（省エネ基準）[GJ/年]",null,null,null,null,null,null,null,null,null,null,null,null,"断熱性能",null,null,null,null,null,null,null,"省エネ基準",null,null,null,"UA値",null,{"$f":"IF(C31=\"\",\"\",MAX($BA$31:$BA$230))","v":""},null,null,null,{"$f":"IF(C31=\"\",\"\",HLOOKUP($G$12,別紙mast!$D$4:$K$7,3,FALSE))","v":""},null,{"$f":"IF(OR($BA$10=\"\",$AW$10=\"\"),\"\",IF($AW$10<=$BA$10,\"達成\",\"非達成\"))","v":""},null,"断熱性能",null,null,null,null,null,null,null,"省エネ基準",null,"UA値",{"$f":"IF($G$4=\"□\",\"\",IF($G$13=\"□\",\"\",MAX($BA$31:$BA$230)))","v":""},null,{"$f":"IF($G$12=\"\",\"\",IF(G13=\"■\",HLOOKUP($G$12,[2]別紙mast!$D$4:$K$7,3,FALSE),\"\"))","v":""},null,{"$f":"IF(OR($BR$10=\"\",$BP$10=\"\"),\"\",IF($BP$10=\"\",\"\",IF($BP$10<=$BR$10,\"達成\",\"非達成\")))","v":""},null,null,null,null,null,null,null,null,null,null,null,null,null,null,null,null,null,null,null,null,null,null,null,null,null,null,null,null,null,null,null,null,null,null,"太陽光発電設備（発電量）［MJ］",{"$f":"IF($CQ$31=\"\",\"\",SUM($CQ$31:$CQ$230))","v":""},"誘導基準｜設計一次［GJ/年］",null,""]
[null,null,null,null,null,null,"□","ZEH-M　Oriented",null,null,null,null,null,null,null,null,null,null,null,null,null,"基準一次エネ（省エネ基準）[GJ/年]",null,null,null,null,null,null,null,null,null,null,null,null,"　UA値（最低値）",null,null,null,{"$f":"IF(C31=\"\",\"\",MAX($BA$31:$BA$230))","v":""},null,null,null,null,null,null,null,"ηAC値",null,{"$f":"IF(C31=\"\",\"\",MAX($BF$31:$BF$230))","v":""},null,null,null,{"$f":"IF(C31=\"\",\"\",IF($G$13=\"■\",HLOOKUP($G$12,別紙mast!$D$4:$K$7,4,FALSE),\"\"))","v":""},null,{"$f":"IF(OR($BA$11=\"\",$AW$11=\"\"),\"\",IF($AW$11<=$BA$11,\"達成\",\"非達成\"))","v":""},null,"　UA値（最低値）",null,null,null,null,null,{"$f":"IF($G$4=\"□\",\"\",IF($G$13=\"□\",\"\",MAX($BA$31:$BA$230)))","v":""},null,null,null,"ηAC値",{"$f":"IF($G$4=\"□\",\"\",IF($G$13=\"□\",\"\",MAX($BF$31:$BF$230)))","v":""},null,{"$f":"IF($G$12=\"\",\"\",IF(G13=\"■\",HLOOKUP($G$12,[2]別紙mast!$D$4:$K$7,4,FALSE),\"\"))","v":""},null,{"$f":"IF(OR($BR$11=\"\",$BP$11=\"\"),\"\",IF($BP$11=\"\",\"\",IF($BP$11<=$BR$11,\"達成\",\"非達成\")))","v":""},null,null,null,null,null,null,null,null,null,null,null,null,null,null,null,null,null,null,null,null,null,null,null,null,null,null,null,null,null,null,null,null,null,null,"太陽光発電設備（売電量）［MJ］",{"$f":"IF($CR$31=\"\",\"\",SUM($CR$31:$CR$230))","v":""},"基準一次エネ［GJ/年］",null,""]
[null,"地域の区分※",null,null,null,null,{"$f":"IF(第１面!M8=\"\",\"\",第１面!M8)","v":""},null,null,null,null,null,null,"※第1面の選択を反映します。",null,null,null,null,null,null,null,"設計一次エネ（誘導基準）[GJ/年]",null,null,null,null,null,null,null,null,null,null,null,null,"　ηAC値（最低値）",null,null,null,{"$f":"IF(C31=\"\",\"\",MAX($BF$31:$BF$230))","v":""},null,null,null,"誘導基準",null,null,null,"UA値",null,{"$f":"IF(C31=\"\",\"\",MAX($BA$31:$BA$230))","v":""},null,null,null,{"$f":"IF(C31=\"\",\"\",IF($G$13=\"■\",HLOOKUP($G$12,別紙mast!$D$9:$K$11,3,FALSE),\"\"))","v":""},null,{"$f":"IF(OR($BA$12=\"\",$AW$12=\"\"),\"\",IF($AW$12<=$BA$12,\"達成\",\"非達成\"))","v":""},null,"　ηAC値（最低値）",null,null,null,null,null,{"$f":"IF($G$4=\"□\",\"\",IF($G$13=\"□\",\"\",MAX($BF$31:$BF$230)))","v":""},null,"誘導基準",null,"UA値",{"$f":"IF($G$4=\"□\",\"\",IF($G$13=\"□\",\"\",MAX($BA$31:$BA$230)))","v":""},null,{"$f":"IF($G$12=\"\",\"\",IF(G13=\"■\",HLOOKUP($G$12,[2]別紙mast!$D$9:$K$11,3,FALSE),\"\"))","v":""},null,{"$f":"IF(OR($BR$12=\"\",$BP$12=\"\"),\"\",IF($BP$12=\"\",\"\",IF($BP$12<=$BR$12,\"達成\",\"非達成\")))","v":""},null,null,null,null,null,null,null,null,null,null,null,null,null,null,null,null,null,null,null,null,null,null,null,null,null,null,null,null,null,null,null,null,null,null,"削減量（再エネ除き）",{"$f":"IF($DD$7=\"\",\"\",($DD$8-$DD$7))","v":""},"省エネ基準","設計一次エネ消費量（その他除き）［GJ/年］",""]
[null,"記載図書",null,null,null,null,"□","外皮性能計算書",null,null,null,null,null,null,null,null,null,null,null,null,null,"基準一次エネ（誘導基準）[GJ/年]",null,null,null,null,null,null,null,null,null,null,null,null,"特記項目",null,null,null,null,null,null,null,null,null,null,null,"ηAC値",null,{"$f":"IF(C31=\"\",\"\",MAX($BF$31:$BF$230))","v":""},null,null,null,{"$f":"IF(C31=\"\",\"\",IF($G$13=\"■\",HLOOKUP($G$12,別紙mast!$D$4:$K$7,4,FALSE),\"\"))","v":""},null,{"$f":"IF(OR($BA$13=\"\",$AW$13=\"\"),\"\",IF($AW$13<=$BA$13,\"達成\",\"非達成\"))","v":""},null,"特記事項",null,null,null,null,null,null,null,null,null,"ηAC値",{"$f":"IF($G$4=\"□\",\"\",IF($G$13=\"□\",\"\",MAX($BF$31:$BF$230)))","v":""},null,{"$f":"IF($G$12=\"\",\"\",IF(G13=\"■\",HLOOKUP($G$12,[2]別紙mast!$D$4:$K$7,4,FALSE),\"\"))","v":""},null,{"$f":"IF(OR($BR$13=\"\",$BP$13=\"\"),\"\",IF($BP$13=\"\",\"\",IF($BP$13<=$BR$13,\"達成\",\"非達成\")))","v":""},null,null,null,null,null,null,null,null,null,null,null,null,null,null,null,null,null,null,null,null,null,null,null,null,null,null,null,null,null,null,null,null,null,null,"削減量（再エネ含み）",{"$f":"IF($DD$8=\"\",\"\",SUM($DD$8-$DD$9))","v":""},null,"基準一次エネ消費量（その他除き）［GJ/年］",""]
[null,null,null,null,null,null,"□","一次エネルギー消費量計算書",null,null,null,null,null,null,null,null,null,null,null,null,null,null,null,null,null,null,null,null,null,null,null,null,null,null,"　再エネ除く 削減率",null,null,null,{"$f":"IF(C31=\"\",\"\",TRUNC(($DD$12/$DD$8)*100))","v":""},null,null,null,"総合判定",null,null,null,null,null,null,null,null,null,null,null,null,null,"　再エネ除く 削減率",null,null,null,null,null,{"$f":"IF($G$4=\"□\",\"\",TRUNC(($DG$6/($DG$3+$DD$8))*100))","v":""},null,"総合判定",null,null,null,null,null,null,null,null,null,null,null,null,null,null,null,null,null,null,null,null,null,null,null,null,null,null,null,null,null,null,null,null,null,null,null,null,null,null,null,null,null,"設計一次エネ（省エネ基準）[GJ/(戸・年)]",{"$f":"IF(C31=\"\",\"\",SUM(CI31:CI230))","v":""},"誘導基準","設計一次エネ消費量（その他除き）［GJ/年］",""]
[null,null,null,null,null,null,"□",null,null,null,null,null,null,null,null,null,null,null,null,null,null,null,null,null,null,null,null,null,null,null,null,null,null,null,"　再エネ含む 削減率",null,null,null,{"$f":"IF(C31=\"\",\"\",TRUNC(($DD$13/$DD$8)*100))","v":""},null,null,null,"省エネ基準",null,null,null,null,null,null,null,null,null,{"$f":"IF($AW$10=\"\",\"\",IF(AND($BC$4=\"達成\",$BC$10=\"達成\",$BC$11=\"達成\"),\"達成\",\"非達成\"))","v":""},null,null,null,"　再エネ含む 削減率",null,null,null,null,null,{"$f":"IF($G$4=\"□\",\"\",TRUNC(($DG$7/($DG$3+$DD$8))*100))","v":""},null,"省エネ基準",null,null,null,null,{"$f":"IF($BP$10=\"\",\"\",IF(AND($BT$4=\"達成\",$BT$10=\"達成\",$BT$11=\"達成\"),\"達成\",\"非達成\"))","v":""},null,null,null,null,null,null,null,null,null,null,null,null,null,null,null,null,null,null,null,null,null,null,null,null,null,null,null,null,null,null,null,null,null,null,null,null,"基準一次エネ（省エネ基準）[GJ/(戸・年)]",{"$f":"IF(C31=\"\",\"\",SUM(CJ31:CJ230))","v":""},null,"基準一次エネ消費量（その他除き）［GJ/年］",""]
[null,null,null,null,null,null,"□",null,null,null,null,null,null,null,null,null,null,null,null,null,null,null,null,null,null,null,null,null,null,null,null,null,null,null,"　ZEH　強化外皮 判定",null,null,null,{"$f":"IF(G12=\"\",\"\",IF(OR($BA$31=\"\",G11=\"\"),\"\",IF(COUNTIF(BE31:BE230,\"×\")>0,\"NG\",\"適合\")))","v":""},null,null,null,"誘導基準",null,null,null,null,null,null,null,null,null,{"$f":"IF($AW$10=\"\",\"\",IF(AND($BC$6=\"達成\",$BC$12=\"達成\",$BC$13=\"達成\"),\"達成\",\"非達成\"))","v":""},null,null,null,"　ZEH　強化外皮 判定",null,null,null,null,null,{"$f":"IF(OR($BA$31=\"\",$G$4=\"□\"),\"\",IF(COUNTIF(BE31:BE230,\"×\")>0,\"NG\",\"適合\"))","v":""},null,"誘導基準",null,null,null,null,{"$f":"IF(BP10=\"\",\"\",IF(AND(BT6=\"達成\",BT12=\"達成\",BT13=\"達成\"),\"達成\",\"非達成\"))","v":""},null,null,null,null,null,null,null,null,null,null,null,null,null,null,null,null,null,null,null,null,null,null,null,null,null,null,null,null,null,null,null,null,null,null,null,null,"設計一次エネ（誘導基準）[GJ/(戸・年)]",{"$f":"IF(C31=\"\",\"\",SUM(CK31:CK230))","v":""},"その他［GJ/年］",null,{"$f":"AD7-AD10","v":0}]
[null,"（注意）一次エネルギー消費量計算書のパターンごとに入力し、住戸数を入力することで消費量等に自動で住戸数を乗じて計算します。（住戸数が１の場合は、１を入力します。）",null,null,null,null,null,null,null,null,null,null,null,null,null,null,null,null,null,null,null,null,null,null,null,null,null,null,null,null,null,null,null,null,null,null,null,null,null,null,null,null,null,null,null,null,null,null,null,null,null,null,null,null,null,null,null,null,null,null,null,null,null,null,null,null,null,null,null,null,null,null,null,null,null,null,null,null,null,null,null,null,null,null,null,null,null,null,null,null,null,null,null,null,null,null,null,null,null,null,null,null,null,null,null,null,"基準一次エネ（誘導基準）[GJ/(戸・年)]",{"$f":"IF(C31=\"\",\"\",SUM(CL31:CL230))","v":""},"基準一次［GJ/年］｜誘導基準(その他含み）",null,{"$f":"(((AD9-DG16)*0.8)+DG16)","v":0}]
[null,null,"テキストデータの貼付\n_一次エネルギー消費量計算結果※","部屋タイプ※",null,null," 1.住戸の番号※",null,null,"　住戸数※",null,null,null,null,null,"３.評価手法に関する事項※",null,null,null,null,null,null,null,null,null,null,null,null,null," ４.一次エネルギー消費量に関する事項※",null,null,null,null,null,null,null,null,null,null," ５．「ZEH」に関する\n　　　事項※",null,null,null,null,"６.参考情報に関する事項※",null,null,null,null,null,null,"断熱性能（外皮性能）※",null,null,null,null,null,null,null,null,"エネルギー消費性能※",null,null,null,null,null,"削減率及びBEI",null,null,null,null,null,"部屋タイプ"," 1.住戸の番号"]
[null,null,null,null,null,null,null,null,null,null,null,null,"全住戸)"]
[null,null,null,null,null,null,null,null,null,null,null,null,null,null,null,"評価手法\n断熱性能（外皮性能）",null,null,null,null,null,null,"評価手法\n一次エネルギー消費量",null,null,null,null,null,null,"再エネ設備に関すること",null,null,null,null,null,null,null,null,"エネルギー消費\n性能の多段階表示",null,null,null,null,null,null,"二次エネルギー消費量等に関する項目以外の情報",null,null,"目安高熱費に\n関すること",null,null,null," UA値　設計値　[ｗ/㎡･K]"," UA値　基準値（省エネ基準）　\n[ｗ/㎡･K]"," UA値　基準値（省エネ基準）　判定"," UA値　基準値（誘導基準・ZEH外皮）\n　[ｗ/㎡･K]"," UA値　基準値（誘導基準・ZEH外皮）　判定"," ηAC値　設計値"," ηAC値　基準値",null," ηAC値　基準値　判定",1,2,3,4,5,6,"　再エネなし 削減率","　再エネなし BEI","　再エネあり 削減率　(自家消費分）","　再エネあり　 BEI　　(自家消費分）","　再エネあり 削減率　(自家消費分+売電分）","　再エネあり　 BEI　　(自家消費分+売電分）",null,null,null,null,null,null,null,null,null,"一次エネ消費量[GJ/年]",null,null,null,null,null,null,null,"MJ×住戸数",null,null,null,null,null,"ZEH判定"]
[null,null,null,null,null,null,null,null,null,null,null,null,null,null,null,null,null,null,null,null,null,null,null,null,null,null,null,null,null,null,null,null,null,null,null,null,null,null,null,null,null,null,null,null,null,null,null,null,null,null,null,null,null,null,null,null,null,null,null,null,null,"　その他の設備\n　[MJ/年]","　設計一次エネルギー消費量\n（PV および CGS 対象） 　[MJ/年]","　設計一次エネルギー消費量\n（CGS 対象） 　[MJ/年]","　基準一エネルギー消費量\n　[MJ/年]","　 太陽光発電設備（発電量）［MJ］"," 　太陽光発電設備（売電量）［MJ］",null,null,null,null,null,null,null,null,null,null,null,null,null,null,null,"一次エネ計算書から自動転記（2.判定）",null,null,null,"×住戸数",null,null,null,null,null,null,null,null,null,null,null,"一次エネ計算書から自動転記（3.BEI）"]
[null,null,null,null,null,null,null,null,null,null,null,null,"□",null,null,null,null,null,null,null,null,null,null,null,null,null,null,null,null,"再エネ設備の種類"]
[null,null,null,null,null,null,null,null,null,null,null,null,"("]
[null,null,null,null,null,null,null,null,null,null,null," 2.申請対象となる住戸の存する\n　　建築物の用途建築基準法施行規則\n　（昭和25年建設省令第40号）\n　　別紙の表の用途の区分※",null,null,null,null,null,null,null,null,null,null,null,null,null,null,null,null,null,null,null,null,null,null,null,null,null,null,null,null,null,null,null,null,null,null,null,null,null,null,null,null,null,null,null,null,null,null,null,null,null,null,null,null,null,null,null,null,null,null,null,null,null,null,null,null,null,null,null,null,null,null,"　設計一次エネルギー消費量\n（省エネ基準） 　[GJ/年]","　基準一次エネルギー消費量\n（省エネ基準） 　[GJ/年]","　設計一次エネルギー消費量\n（誘導基準） 　[GJ/年]","　基準一次エネルギー消費量\n（誘導基準） 　[GJ/年]","　設計一次エネルギー消費量\n（省エネ基準） 　[GJ/年]","　基準一次エネルギー消費量\n（省エネ基準） 　[GJ/年]","　設計一次エネルギー消費量\n（誘導基準） 　[GJ/年]",null,"　その他の設備\n[MJ/年]","　設計一次エネルギー消費量\n（PV および CGS 対象） 　[MJ/年]","　設計一次エネルギー消費量\n（CGS 対象） 　[MJ/年]","　基準一エネルギー消費量\n　[MJ/年]"," 太陽光発電設備（発電量）［MJ］"," 太陽光発電設備（売電量）［MJ］","削減量（再エネ除き）","削減量（再エネ含み）","設計一次エネ（その他除く） [GJ/(戸・年)]\n＿省エネ基準","設計一次エネ（その他除く） [GJ/(戸・年)]　\n_誘導基準","基準一次エネ [GJ/(戸・年)]　","BEI","誘導BEI","設計一次エネ（自家消費+売電） [GJ/年]　換算_再エネありの場合","設計一次エネ（自家消費+売電） [GJ/年]　換算＿再エネなしの場合"]
[null,null,null,null,null,null,null,null,null,null,null,null,null,null,null,"全住戸)","全住戸)","全住戸)"," 大臣認定方法"," 大臣認定方法\n（評価方法の名称）",null,null,"全住戸)","全住戸)","全住戸)"," 大臣認定方法"," 大臣認定方法\n（評価方法の名称）",null,null,"全住戸)","全住戸)",null,null,null,null,null,"再エネ設備の容量の表示",null,"全住戸)","全住戸)",null,"全住戸)",null,null,"判定","全住戸)","全住戸)","全住戸)","全住戸)","全住戸)",null,null,null,null,null,null,null,null,null,null,null,null,null,null,null,null,null,null,null,null,null,null,null,null,null,null,null,null,null,null,null,null,null,null,null,null,null,null,null,"　基準一次エネルギー消費量\n（誘導基準） 　[GJ/年]"]
[null,null,null,null,null,null,null,null,null,null,null,null,null,null,null,null,null,null,null,null,null,null,null,null,null,null,null,null,null,null,null,"太陽光発電設備","太陽熱利用設備","木質燃料ストーブ（ペレットストーブ）","その他","その他の設備の種類",null,"再エネ設備の容量\n（任意）",null,null,null,null,null,null,null,null,null,null,null,null,"都市ガス 又は オール電化","液化石油ガス（LPガス）"]
[]
[null,null,null,null,null,null,null,null,null,null,null,null,null,null,null,"□","□","□",null,null,null,null,"□","□","□",null,null,null,null,{"$f":"IF(O5=\"■\",\"■\",\"□\")","v":"□"},"□",null,null,null,null,null,null,null,"□","□",null,"□",null,null,null,"□","□","□","□","□"]
[null,null,null,null,null,null,null,null,null,null,null,null,null,null,null,"(","(","(",null,null,null,null,"(","(","(",null,null,null,null,"(","(",null,null,null,null,null,null,null,"(","(",null,"(",null,null,null,"(","(","(","(","("]
[null,null,null,null,null,null,null,null,null,null,null,null,null,null,null,"性能基準"," 仕様基準"," 誘導仕様基準",null,null,null,null,"性能基準"," 仕様基準"," 誘導仕様基準",null,null,null,null,"再エネ設備 なし","再エネ設備 あり",null,null,null,null,null,null,null,"４段階表示(再エネ考慮なし)","６段階表示(再エネ考慮あり)","表示を希望する\n評価項目",null,null,null,null," 記載しない"," 別紙による"," 第五面 参考情報と同じ","希望しない","希望する",null,null,null,null,null,null,null,null,null,null,null,null,null,null,null,null,null,null,null,null,null,null,null,null,null,null,"『ZEH』","NearlｙZEH","ZEH Oriented","ZEH Ready","記載しない"]
[null,1,null,"",null,null,null,null,null,null,null,null,null,null,null,"□","□","□","□",null,null,null,"□","□","□","□",null,null,null,"□","□","□","□","□","□",null,"□",null,"□","□",null,null,null,null,{"$f":"IF(AND($AP$28=\"■\",$AO$31<>\"\"),HLOOKUP($AO$31,$BY$30:$CC$230,ROW()-29,1),IF($AO31<>\"\",HLOOKUP($AO31,$BY$30:$CC$230,ROW()-29,1),\"\"))","v":""},"□","□","□","□","□","□","□",null,{"$f":"IF($G$12=\"\",\"\",IF($BA31=\"\",\"\",HLOOKUP($G$12,別紙mast!$D$4:$K$7,3,FALSE)))","v":""},{"$f":"IF(OR(AND($C31<>\"\",$Q$28=\"■\"),AND($C31<>\"\",$R$28=\"■\")),\"○\",IF(AND($BA31=\"\"),\"\",IF($BA31<=$BB31,\"○\",\"×\")))","v":""},{"$f":"IF($G$12=\"\",\"\",IF($BA31=\"\",\"\",HLOOKUP($G$12,別紙mast!$D$9:$K$11,3,FALSE)))","v":""},{"$f":"IF(AND($C31<>\"\",$R$28=\"■\"),\"○\",IF(AND($BD31=\"\"),\"\",IF($BA31<=$BD31,\"○\",\"×\")))","v":""},null,{"$f":"IF($C31=\"\",\"\",IF($G$12=\"\",\"\",HLOOKUP($G$12,別紙mast!$D$4:$K$7,4,FALSE)))","v":""},null,{"$f":"IF(OR(AND($C31<>\"\",$Q$28=\"■\"),AND($C31<>\"\",$R$28=\"■\")),\"○\",IF(AND(BG31=\"\"),\"\",IF(BF31<=BG31,\"○\",\"×\")))","v":""},null,null,null,null,null,null,{"$f":"IF($C31=\"\",\"\",TRUNC(($CS31/$CW31)*100))","v":""},{"$f":"IF($C31=\"\",\"\",$CY31)","v":""},{"$f":"IF($C31=\"\",\"\",IF(OR($O$5=\"■\",$AD$28=\"■\",$AD31=\"■\"),\"ー\",SUM(1-$BS31)))","v":""},{"$f":"IF($C31=\"\",\"\",IF(OR($O$5=\"■\",$AD$28=\"■\",$AD31=\"■\"),\"ー\",CX31))","v":""},{"$f":"IF($C31=\"\",\"\",TRUNC(($CT31/$CW31)*100))","v":""},{"$f":"IF($C31=\"\",\"\",IF(OR($O$5=\"■\",$AD$28=\"■\",$AD31=\"■\"),\"ー\",SUM((100-$BT31)/100)))","v":""},{"$f":"IF($D31=\"\",\"\",$D31)","v":""},{"$f":"IF($G31=\"\",\"\",$G31)","v":""},null,{"$f":"IF(OR(BP31=\"\",BT31=\"\"),\"\",IF(AND($BP31>=20,$BT31>=100,$BC31=\"○\",$BE31=\"○\"),\"○\",\"×\"))","v":""},{"$f":"IF(OR(BP31=\"\",BT31=\"\"),\"\",IF(AND($BP31>=20,$BT31>=100,$BC31=\"適\"),\"×\",IF(AND($BP31>=20,$BT31>=75,$BT31<100,$BC31=\"○\",$BE31=\"○\"),\"○\",\"×\")))","v":""},{"$f":"IF(OR(BP31=\"\",BT31=\"\"),\"\",IF(AND($BP31>=20,$BC31=\"○\",$BE31=\"○\"),\"○\",\"×\"))","v":""},{"$f":"IF(OR(BP31=\"\",BT31=\"\"),\"\",IF(AND($BP31>=20,$BT31>=50,$BT31<75,$BC31=\"○\",$BE31=\"○\"),\"○\",\"×\"))","v":""},"―",null,null,null,null,null,{"$f":"IF(OR($CE31=\"\",$BJ31=\"\"),\"\",$CE31*$J31)","v":""},{"$f":"IF(OR($CF31=\"\",$BJ31=\"\"),\"\",$CF31*$J31)","v":""},{"$f":"IF(OR($CG31=\"\",$BJ31=\"\"),\"\",$CG31*$J31)","v":""},{"$f":"IF(OR($CH31=\"\",$BJ31=\"\"),\"\",$CH31*$J31)","v":""},{"$f":"IF($C31=\"\",\"\",SUM($BJ31*$J31))","v":""},{"$f":"IF($C31=\"\",\"\",SUM($BK31*$J31))","v":""},{"$f":"IF($C31=\"\",\"\",IF($O$5=\"■\",SUM($BK31*$J31),SUM($BL31*$J31)))","v":""},{"$f":"IF($C31=\"\",\"\",SUM($BM31*$J31))","v":""},{"$f":"IF($BJ31=\"\",\"\",IF($O$5=\"■\",0,SUM($BN31*$J31)))","v":""},{"$f":"IF($BJ31=\"\",\"\",IF($O$5=\"■\",0,SUM($BO31*$J31)))","v":""},{"$f":"IF($CV31=\"\",\"\",($CW31-$CV31))","v":""},{"$f":"IF($CW31=\"\",\"\",IF($O$5=\"■\",SUM($CW31-$DA31),SUM($CW31-$CZ31)))","v":""},null,null,null,null,null,{"$f":"IF($BJ31=\"\",\"\",IF(($BL31-$BJ31-$BN31)*0.001>=0,ROUNDUP(($BL31-$BJ31-$BN31)*0.001,1),ROUNDDOWN(($BL31-$BJ31-$BN31)*0.001,1)))&\"\"","v":""},{"$f":"IF($BJ31=\"\",\"\",IF(($BK31-$BJ31-$BN31)*0.001>=0,ROUNDUP(($BK31-$BJ31-$BN31)*0.001,1),ROUNDDOWN(($BK31-$BJ31-$BN31)*0.001,1)))&\"\"","v":""}]
[null,2,null,"",null,null,null,null,null,null,null,null,null,null,null,"□","□","□","□",null,null,null,"□","□","□","□",null,null,null,"□","□","□","□","□","□",null,"□",null,"□","□",null,null,null,null,{"$f":"IF(AND($AP$28=\"■\",$AO$31<>\"\"),HLOOKUP($AO$31,$BY$30:$CC$230,ROW()-29,1),IF($AO32<>\"\",HLOOKUP($AO32,$BY$30:$CC$230,ROW()-29,1),\"\"))","v":""},"□","□","□","□","□","□","□",null,{"$f":"IF($G$12=\"\",\"\",IF($BA32=\"\",\"\",HLOOKUP($G$12,別紙mast!$D$4:$K$7,3,FALSE)))","v":""},{"$f":"IF(OR(AND($C32<>\"\",$Q$28=\"■\"),AND($C32<>\"\",$R$28=\"■\")),\"○\",IF(AND($BA32=\"\"),\"\",IF($BA32<=$BB32,\"○\",\"×\")))","v":""},{"$f":"IF($G$12=\"\",\"\",IF($BA32=\"\",\"\",HLOOKUP($G$12,別紙mast!$D$9:$K$11,3,FALSE)))","v":""},{"$f":"IF(AND($C32<>\"\",$R$28=\"■\"),\"○\",IF(AND($BD32=\"\"),\"\",IF($BA32<=$BD32,\"○\",\"×\")))","v":""},null,{"$f":"IF($C32=\"\",\"\",IF($G$12=\"\",\"\",HLOOKUP($G$12,別紙mast!$D$4:$K$7,4,FALSE)))","v":""},null,{"$f":"IF(OR(AND($C32<>\"\",$Q$28=\"■\"),AND($C32<>\"\",$R$28=\"■\")),\"○\",IF(AND(BG32=\"\"),\"\",IF(BF32<=BG32,\"○\",\"×\")))","v":""},null,null,null,null,null,null,"",{"$f":"IF($C32=\"\",\"\",$CY32)","v":""},{"$f":"IF($C32=\"\",\"\",IF(OR($O$5=\"■\",$AD$28=\"■\",$AD32=\"■\"),\"ー\",SUM(1-$BS32)))","v":""},{"$f":"IF($C32=\"\",\"\",IF(OR($O$5=\"■\",$AD$28=\"■\",$AD32=\"■\"),\"ー\",CX32))","v":""},{"$f":"IF($C32=\"\",\"\",TRUNC(($CT32/$CW32)*100))","v":""},{"$f":"IF($C32=\"\",\"\",IF(OR($O$5=\"■\",$AD$28=\"■\",$AD32=\"■\"),\"ー\",SUM((100-$BT32)/100)))","v":""},{"$f":"IF($D32=\"\",\"\",$D32)","v":""},{"$f":"IF($G32=\"\",\"\",$G32)","v":""},null,"","","","","―",null,null,null,null,null,{"$f":"IF(OR($CE32=\"\",$BJ32=\"\"),\"\",$CE32*$J32)","v":""},"","","",{"$f":"IF($C32=\"\",\"\",SUM($BJ32*$J32))","v":""},{"$f":"IF($C32=\"\",\"\",SUM($BK32*$J32))","v":""},{"$f":"IF($C32=\"\",\"\",IF($O$5=\"■\",SUM($BK32*$J32),SUM($BL32*$J32)))","v":""},{"$f":"IF($C32=\"\",\"\",SUM($BM32*$J32))","v":""},{"$f":"IF($BJ32=\"\",\"\",IF($O$5=\"■\",0,SUM($BN32*$J32)))","v":""},"",{"$f":"IF($CV32=\"\",\"\",($CW32-$CV32))","v":""},"",null,null,null,null,null,{"$f":"IF($BJ32=\"\",\"\",IF(($BL32-$BJ32-$BN32)*0.001>=0,ROUNDUP(($BL32-$BJ32-$BN32)*0.001,1),ROUNDDOWN(($BL32-$BJ32-$BN32)*0.001,1)))&\"\"","v":""},{"$f":"IF($BJ32=\"\",\"\",IF(($BK32-$BJ32-$BN32)*0.001>=0,ROUNDUP(($BK32-$BJ32-$BN32)*0.001,1),ROUNDDOWN(($BK32-$BJ32-$BN32)*0.001,1)))&\"\"","v":""}]
[null,3,null,"",null,null,null,null,null,null,null,null,null,null,null,"□","□","□","□",null,null,null,"□","□","□","□",null,null,null,"□","□","□","□","□","□",null,"□",null,"□","□",null,null,null,null,"","□","□","□","□","□","□","□",null,{"$f":"IF($G$12=\"\",\"\",IF($BA33=\"\",\"\",HLOOKUP($G$12,別紙mast!$D$4:$K$7,3,FALSE)))","v":""},{"$f":"IF(OR(AND($C33<>\"\",$Q$28=\"■\"),AND($C33<>\"\",$R$28=\"■\")),\"○\",IF(AND($BA33=\"\"),\"\",IF($BA33<=$BB33,\"○\",\"×\")))","v":""},{"$f":"IF($G$12=\"\",\"\",IF($BA33=\"\",\"\",HLOOKUP($G$12,別紙mast!$D$9:$K$11,3,FALSE)))","v":""},{"$f":"IF(AND($C33<>\"\",$R$28=\"■\"),\"○\",IF(AND($BD33=\"\"),\"\",IF($BA33<=$BD33,\"○\",\"×\")))","v":""},null,{"$f":"IF($C33=\"\",\"\",IF($G$12=\"\",\"\",HLOOKUP($G$12,別紙mast!$D$4:$K$7,4,FALSE)))","v":""},null,{"$f":"IF(OR(AND($C33<>\"\",$Q$28=\"■\"),AND($C33<>\"\",$R$28=\"■\")),\"○\",IF(AND(BG33=\"\"),\"\",IF(BF33<=BG33,\"○\",\"×\")))","v":""},null,null,null,null,null,null,"","","","","","","","",null,"","","","","―",null,null,null,null,null,"","","","","","","","","","","","",null,null,null,null,null,"",{"$f":"IF($BJ33=\"\",\"\",IF(($BK33-$BJ33-$BN33)*0.001>=0,ROUNDUP(($BK33-$BJ33-$BN33)*0.001,1),ROUNDDOWN(($BK33-$BJ33-$BN33)*0.001,1)))&\"\"","v":""}]
[null,4,null,"",null,null,null,null,null,null,null,null,null,null,null,"□","□","□","□",null,null,null,"□","□","□","□",null,null,null,"□","□","□","□","□","□",null,"□",null,"□","□",null,null,null,null,"","□","□","□","□","□","□","□",null,{"$f":"IF($G$12=\"\",\"\",IF($BA34=\"\",\"\",HLOOKUP($G$12,別紙mast!$D$4:$K$7,3,FALSE)))","v":""},"",{"$f":"IF($G$12=\"\",\"\",IF($BA34=\"\",\"\",HLOOKUP($G$12,別紙mast!$D$9:$K$11,3,FALSE)))","v":""},"",null,{"$f":"IF($C34=\"\",\"\",IF($G$12=\"\",\"\",HLOOKUP($G$12,別紙mast!$D$4:$K$7,4,FALSE)))","v":""},null,"",null,null,null,null,null,null,"","","","","","","","",null,"","","","","―",null,null,null,null,null,"","","","","","","","","","","","",null,null,null,null,null,"",""]
[null,5,null,"",null,null,null,null,null,null,null,null,null,null,null,"□","□","□","□",null,null,null,"□","□","□","□",null,null,null,"□","□","□","□","□","□",null,"□",null,"□","□",null,null,null,null,"","□","□","□","□","□","□","□",null,{"$f":"IF($G$12=\"\",\"\",IF($BA35=\"\",\"\",HLOOKUP($G$12,別紙mast!$D$4:$K$7,3,FALSE)))","v":""},"",{"$f":"IF($G$12=\"\",\"\",IF($BA35=\"\",\"\",HLOOKUP($G$12,別紙mast!$D$9:$K$11,3,FALSE)))","v":""},"",null,{"$f":"IF($C35=\"\",\"\",IF($G$12=\"\",\"\",HLOOKUP($G$12,別紙mast!$D$4:$K$7,4,FALSE)))","v":""},null,"",null,null,null,null,null,null,"",{"$f":"IF($C35=\"\",\"\",$CY35)","v":""},{"$f":"IF($C35=\"\",\"\",IF(OR($O$5=\"■\",$AD$28=\"■\",$AD35=\"■\"),\"ー\",SUM(1-$BS35)))","v":""},{"$f":"IF($C35=\"\",\"\",IF(OR($O$5=\"■\",$AD$28=\"■\",$AD35=\"■\"),\"ー\",CX35))","v":""},{"$f":"IF($C35=\"\",\"\",TRUNC(($CT35/$CW35)*100))","v":""},"","","",null,"","","","","―",null,null,null,null,null,"","","","","","","","","","","","",null,null,null,null,null,"",""]
[null,6,null,"",null,null,null,null,null,null,null,null,null,null,null,"□","□","□","□",null,null,null,"□","□","□","□",null,null,null,"□","□","□","□","□","□",null,"□",null,"□","□",null,null,null,null,"","□","□","□","□","□","□","□",null,{"$f":"IF($G$12=\"\",\"\",IF($BA36=\"\",\"\",HLOOKUP($G$12,別紙mast!$D$4:$K$7,3,FALSE)))","v":""},"",{"$f":"IF($G$12=\"\",\"\",IF($BA36=\"\",\"\",HLOOKUP($G$12,別紙mast!$D$9:$K$11,3,FALSE)))","v":""},"",null,{"$f":"IF($C36=\"\",\"\",IF($G$12=\"\",\"\",HLOOKUP($G$12,別紙mast!$D$4:$K$7,4,FALSE)))","v":""},null,"",null,null,null,null,null,null,"","","","","","","","",null,"","","","","―",null,null,null,null,null,"","","","","","","","","","","","",null,null,null,null,null,"",""]
[null,7,null,"",null,null,null,null,null,null,null,null,null,null,null,"□","□","□","□",null,null,null,"□","□","□","□",null,null,null,"□","□","□","□","□","□",null,"□",null,"□","□",null,null,null,null,"","□","□","□","□","□","□","□",null,{"$f":"IF($G$12=\"\",\"\",IF($BA37=\"\",\"\",HLOOKUP($G$12,別紙mast!$D$4:$K$7,3,FALSE)))","v":""},"",{"$f":"IF($G$12=\"\",\"\",IF($BA37=\"\",\"\",HLOOKUP($G$12,別紙mast!$D$9:$K$11,3,FALSE)))","v":""},"",null,{"$f":"IF($C37=\"\",\"\",IF($G$12=\"\",\"\",HLOOKUP($G$12,別紙mast!$D$4:$K$7,4,FALSE)))","v":""},null,"",null,null,null,null,null,null,"","","","","","","","",null,"","","","","―",null,null,null,null,null,"","","","","","","","","","","","",null,null,null,null,null,"",""]
[null,8,null,"",null,null,null,null,null,null,null,null,null,null,null,"□","□","□","□",null,null,null,"□","□","□","□",null,null,null,"□","□","□","□","□","□",null,"□",null,"□","□",null,null,null,null,"","□","□","□","□","□","□","□",null,{"$f":"IF($G$12=\"\",\"\",IF($BA38=\"\",\"\",HLOOKUP($G$12,別紙mast!$D$4:$K$7,3,FALSE)))","v":""},"",{"$f":"IF($G$12=\"\",\"\",IF($BA38=\"\",\"\",HLOOKUP($G$12,別紙mast!$D$9:$K$11,3,FALSE)))","v":""},"",null,{"$f":"IF($C38=\"\",\"\",IF($G$12=\"\",\"\",HLOOKUP($G$12,別紙mast!$D$4:$K$7,4,FALSE)))","v":""},null,"",null,null,null,null,null,null,"","","","","","","","",null,"","","","","―",null,null,null,null,null,"","","","","","","","","","","","",null,null,null,null,null,"",""]
[null,9,null,"",null,null,null,null,null,null,null,null,null,null,null,"□","□","□","□",null,null,null,"□","□","□","□",null,null,null,"□","□","□","□","□","□",null,"□",null,"□","□",null,null,null,null,"","□","□","□","□","□","□","□",null,{"$f":"IF($G$12=\"\",\"\",IF($BA39=\"\",\"\",HLOOKUP($G$12,別紙mast!$D$4:$K$7,3,FALSE)))","v":""},"",{"$f":"IF($G$12=\"\",\"\",IF($BA39=\"\",\"\",HLOOKUP($G$12,別紙mast!$D$9:$K$11,3,FALSE)))","v":""},"",null,{"$f":"IF($C39=\"\",\"\",IF($G$12=\"\",\"\",HLOOKUP($G$12,別紙mast!$D$4:$K$7,4,FALSE)))","v":""},null,"",null,null,null,null,null,null,"","","","","","","","",null,"","","","","―",null,null,null,null,null,"","","","","","","","","","","","",null,null,null,null,null,"",""]
[null,10,null,"",null,null,null,null,null,null,null,null,null,null,null,"□","□","□","□",null,null,null,"□","□","□","□",null,null,null,"□","□","□","□","□","□",null,"□",null,"□","□",null,null,null,null,"","□","□","□","□","□","□","□",null,{"$f":"IF($G$12=\"\",\"\",IF($BA40=\"\",\"\",HLOOKUP($G$12,別紙mast!$D$4:$K$7,3,FALSE)))","v":""},"",{"$f":"IF($G$12=\"\",\"\",IF($BA40=\"\",\"\",HLOOKUP($G$12,別紙mast!$D$9:$K$11,3,FALSE)))","v":""},"",null,{"$f":"IF($C40=\"\",\"\",IF($G$12=\"\",\"\",HLOOKUP($G$12,別紙mast!$D$4:$K$7,4,FALSE)))","v":""},null,"",null,null,null,null,null,null,"","","","","","","","",null,"","","","","―",null,null,null,null,null,"","","","","","","","","","","","",null,null,null,null,null,"",""]
[null,11,null,"",null,null,null,null,null,null,null,null,null,null,null,"□","□","□","□",null,null,null,"□","□","□","□",null,null,null,"□","□","□","□","□","□",null,"□",null,"□","□",null,null,null,null,"","□","□","□","□","□","□","□",null,{"$f":"IF($G$12=\"\",\"\",IF($BA41=\"\",\"\",HLOOKUP($G$12,別紙mast!$D$4:$K$7,3,FALSE)))","v":""},"",{"$f":"IF($G$12=\"\",\"\",IF($BA41=\"\",\"\",HLOOKUP($G$12,別紙mast!$D$9:$K$11,3,FALSE)))","v":""},"",null,{"$f":"IF($C41=\"\",\"\",IF($G$12=\"\",\"\",HLOOKUP($G$12,別紙mast!$D$4:$K$7,4,FALSE)))","v":""},null,"",null,null,null,null,null,null,"","","","","","","","",null,"","","","","―",null,null,null,null,null,"","","","","","","","","","","","",null,null,null,null,null,"",""]
[null,12,null,"",null,null,null,null,null,null,null,null,null,null,null,"□","□","□","□",null,null,null,"□","□","□","□",null,null,null,"□","□","□","□","□","□",null,"□",null,"□","□",null,null,null,null,"","□","□","□","□","□","□","□",null,{"$f":"IF($G$12=\"\",\"\",IF($BA42=\"\",\"\",HLOOKUP($G$12,別紙mast!$D$4:$K$7,3,FALSE)))","v":""},"",{"$f":"IF($G$12=\"\",\"\",IF($BA42=\"\",\"\",HLOOKUP($G$12,別紙mast!$D$9:$K$11,3,FALSE)))","v":""},"",null,{"$f":"IF($C42=\"\",\"\",IF($G$12=\"\",\"\",HLOOKUP($G$12,別紙mast!$D$4:$K$7,4,FALSE)))","v":""},null,"",null,null,null,null,null,null,"","","","","","","","",null,"","","","","―",null,null,null,null,null,"","","","","","","","","","","","",null,null,null,null,null,"",""]
[null,13,null,"",null,null,null,null,null,null,null,null,null,null,null,"□","□","□","□",null,null,null,"□","□","□","□",null,null,null,"□","□","□","□","□","□",null,"□",null,"□","□",null,null,null,null,"","□","□","□","□","□","□","□",null,{"$f":"IF($G$12=\"\",\"\",IF($BA43=\"\",\"\",HLOOKUP($G$12,別紙mast!$D$4:$K$7,3,FALSE)))","v":""},"",{"$f":"IF($G$12=\"\",\"\",IF($BA43=\"\",\"\",HLOOKUP($G$12,別紙mast!$D$9:$K$11,3,FALSE)))","v":""},"",null,{"$f":"IF($C43=\"\",\"\",IF($G$12=\"\",\"\",HLOOKUP($G$12,別紙mast!$D$4:$K$7,4,FALSE)))","v":""},null,"",null,null,null,null,null,null,"","","","","","","","",null,"","","","","―",null,null,null,null,null,"","","","","","","","","","","","",null,null,null,null,null,"",""]
[null,14,null,"",null,null,null,null,null,null,null,null,null,null,null,"□","□","□","□",null,null,null,"□","□","□","□",null,null,null,"□","□","□","□","□","□",null,"□",null,"□","□",null,null,null,null,"","□","□","□","□","□","□","□",null,{"$f":"IF($G$12=\"\",\"\",IF($BA44=\"\",\"\",HLOOKUP($G$12,別紙mast!$D$4:$K$7,3,FALSE)))","v":""},"",{"$f":"IF($G$12=\"\",\"\",IF($BA44=\"\",\"\",HLOOKUP($G$12,別紙mast!$D$9:$K$11,3,FALSE)))","v":""},"",null,{"$f":"IF($C44=\"\",\"\",IF($G$12=\"\",\"\",HLOOKUP($G$12,別紙mast!$D$4:$K$7,4,FALSE)))","v":""},null,"",null,null,null,null,null,null,"","","","","","","","",null,"","","","","―",null,null,null,null,null,"","","","","","","","","","","","",null,null,null,null,null,"",""]
[null,15,null,"",null,null,null,null,null,null,null,null,null,null,null,"□","□","□","□",null,null,null,"□","□","□","□",null,null,null,"□","□","□","□","□","□",null,"□",null,"□","□",null,null,null,null,"","□","□","□","□","□","□","□",null,{"$f":"IF($G$12=\"\",\"\",IF($BA45=\"\",\"\",HLOOKUP($G$12,別紙mast!$D$4:$K$7,3,FALSE)))","v":""},"",{"$f":"IF($G$12=\"\",\"\",IF($BA45=\"\",\"\",HLOOKUP($G$12,別紙mast!$D$9:$K$11,3,FALSE)))","v":""},"",null,{"$f":"IF($C45=\"\",\"\",IF($G$12=\"\",\"\",HLOOKUP($G$12,別紙mast!$D$4:$K$7,4,FALSE)))","v":""},null,"",null,null,null,null,null,null,"","","","","","","","",null,"","","","","―",null,null,null,null,null,"","","","","","","","","","","","",null,null,null,null,null,"",""]
[null,16,null,"",null,null,null,null,null,null,null,null,null,null,null,"□","□","□","□",null,null,null,"□","□","□","□",null,null,null,"□","□","□","□","□","□",null,"□",null,"□","□",null,null,null,null,"","□","□","□","□","□","□","□",null,{"$f":"IF($G$12=\"\",\"\",IF($BA46=\"\",\"\",HLOOKUP($G$12,別紙mast!$D$4:$K$7,3,FALSE)))","v":""},"",{"$f":"IF($G$12=\"\",\"\",IF($BA46=\"\",\"\",HLOOKUP($G$12,別紙mast!$D$9:$K$11,3,FALSE)))","v":""},"",null,{"$f":"IF($C46=\"\",\"\",IF($G$12=\"\",\"\",HLOOKUP($G$12,別紙mast!$D$4:$K$7,4,FALSE)))","v":""},null,"",null,null,null,null,null,null,"","","","","","","","",null,"","","","","―",null,null,null,null,null,"","","","","","","","","","","","",null,null,null,null,null,"",""]
[null,17,null,"",null,null,null,null,null,null,null,null,null,null,null,"□","□","□","□",null,null,null,"□","□","□","□",null,null,null,"□","□","□","□","□","□",null,"□",null,"□","□",null,null,null,null,"","□","□","□","□","□","□","□",null,{"$f":"IF($G$12=\"\",\"\",IF($BA47=\"\",\"\",HLOOKUP($G$12,別紙mast!$D$4:$K$7,3,FALSE)))","v":""},"",{"$f":"IF($G$12=\"\",\"\",IF($BA47=\"\",\"\",HLOOKUP($G$12,別紙mast!$D$9:$K$11,3,FALSE)))","v":""},"",null,{"$f":"IF($C47=\"\",\"\",IF($G$12=\"\",\"\",HLOOKUP($G$12,別紙mast!$D$4:$K$7,4,FALSE)))","v":""},null,"",null,null,null,null,null,null,"","","","","","","","",null,"","","","","―",null,null,null,null,null,"","","","","","","","","","","","",null,null,null,null,null,"",""]
[null,18,null,"",null,null,null,null,null,null,null,null,null,null,null,"□","□","□","□",null,null,null,"□","□","□","□",null,null,null,"□","□","□","□","□","□",null,"□",null,"□","□",null,null,null,null,"","□","□","□","□","□","□","□",null,{"$f":"IF($G$12=\"\",\"\",IF($BA48=\"\",\"\",HLOOKUP($G$12,別紙mast!$D$4:$K$7,3,FALSE)))","v":""},"",{"$f":"IF($G$12=\"\",\"\",IF($BA48=\"\",\"\",HLOOKUP($G$12,別紙mast!$D$9:$K$11,3,FALSE)))","v":""},"",null,{"$f":"IF($C48=\"\",\"\",IF($G$12=\"\",\"\",HLOOKUP($G$12,別紙mast!$D$4:$K$7,4,FALSE)))","v":""},null,"",null,null,null,null,null,null,"","","","","","","","",null,"","","","","―",null,null,null,null,null,"","","","","","","","","","","","",null,null,null,null,null,"",""]
[null,19,null,"",null,null,null,null,null,null,null,null,null,null,null,"□","□","□","□",null,null,null,"□","□","□","□",null,null,null,"□","□","□","□","□","□",null,"□",null,"□","□",null,null,null,null,"","□","□","□","□","□","□","□",null,{"$f":"IF($G$12=\"\",\"\",IF($BA49=\"\",\"\",HLOOKUP($G$12,別紙mast!$D$4:$K$7,3,FALSE)))","v":""},"",{"$f":"IF($G$12=\"\",\"\",IF($BA49=\"\",\"\",HLOOKUP($G$12,別紙mast!$D$9:$K$11,3,FALSE)))","v":""},"",null,{"$f":"IF($C49=\"\",\"\",IF($G$12=\"\",\"\",HLOOKUP($G$12,別紙mast!$D$4:$K$7,4,FALSE)))","v":""},null,"",null,null,null,null,null,null,"","","","","","","","",null,"","","","","―",null,null,null,null,null,"","","","","","","","","","","","",null,null,null,null,null,"",""]
[null,20,null,"",null,null,null,null,null,null,null,null,null,null,null,"□","□","□","□",null,null,null,"□","□","□","□",null,null,null,"□","□","□","□","□","□",null,"□",null,"□","□",null,null,null,null,"","□","□","□","□","□","□","□",null,{"$f":"IF($G$12=\"\",\"\",IF($BA50=\"\",\"\",HLOOKUP($G$12,別紙mast!$D$4:$K$7,3,FALSE)))","v":""},"",{"$f":"IF($G$12=\"\",\"\",IF($BA50=\"\",\"\",HLOOKUP($G$12,別紙mast!$D$9:$K$11,3,FALSE)))","v":""},"",null,{"$f":"IF($C50=\"\",\"\",IF($G$12=\"\",\"\",HLOOKUP($G$12,別紙mast!$D$4:$K$7,4,FALSE)))","v":""},null,"",null,null,null,null,null,null,"","","","","","","","",null,"","","","","―",null,null,null,null,null,"","","","","","","","","","","","",null,null,null,null,null,"",""]
[null,21,null,"",null,null,null,null,null,null,null,null,null,null,null,"□","□","□","□",null,null,null,"□","□","□","□",null,null,null,"□","□","□","□","□","□",null,"□",null,"□","□",null,null,null,null,"","□","□","□","□","□","□","□",null,{"$f":"IF($G$12=\"\",\"\",IF($BA51=\"\",\"\",HLOOKUP($G$12,別紙mast!$D$4:$K$7,3,FALSE)))","v":""},"",{"$f":"IF($G$12=\"\",\"\",IF($BA51=\"\",\"\",HLOOKUP($G$12,別紙mast!$D$9:$K$11,3,FALSE)))","v":""},"",null,{"$f":"IF($C51=\"\",\"\",IF($G$12=\"\",\"\",HLOOKUP($G$12,別紙mast!$D$4:$K$7,4,FALSE)))","v":""},null,"",null,null,null,null,null,null,"","","","","","","","",null,"","","","","―",null,null,null,null,null,"","","","","","","","","","","","",null,null,null,null,null,"",""]
[null,22,null,"",null,null,null,null,null,null,null,null,null,null,null,"□","□","□","□",null,null,null,"□","□","□","□",null,null,null,"□","□","□","□","□","□",null,"□",null,"□","□",null,null,null,null,"","□","□","□","□","□","□","□",null,{"$f":"IF($G$12=\"\",\"\",IF($BA52=\"\",\"\",HLOOKUP($G$12,別紙mast!$D$4:$K$7,3,FALSE)))","v":""},"",{"$f":"IF($G$12=\"\",\"\",IF($BA52=\"\",\"\",HLOOKUP($G$12,別紙mast!$D$9:$K$11,3,FALSE)))","v":""},"",null,{"$f":"IF($C52=\"\",\"\",IF($G$12=\"\",\"\",HLOOKUP($G$12,別紙mast!$D$4:$K$7,4,FALSE)))","v":""},null,"",null,null,null,null,null,null,"","","","","","","","",null,"","","","","―",null,null,null,null,null,"","","","","","","","","","","","",null,null,null,null,null,"",""]
[null,23,null,"",null,null,null,null,null,null,null,null,null,null,null,"□","□","□","□",null,null,null,"□","□","□","□",null,null,null,"□","□","□","□","□","□",null,"□",null,"□","□",null,null,null,null,"","□","□","□","□","□","□","□",null,{"$f":"IF($G$12=\"\",\"\",IF($BA53=\"\",\"\",HLOOKUP($G$12,別紙mast!$D$4:$K$7,3,FALSE)))","v":""},"",{"$f":"IF($G$12=\"\",\"\",IF($BA53=\"\",\"\",HLOOKUP($G$12,別紙mast!$D$9:$K$11,3,FALSE)))","v":""},"",null,{"$f":"IF($C53=\"\",\"\",IF($G$12=\"\",\"\",HLOOKUP($G$12,別紙mast!$D$4:$K$7,4,FALSE)))","v":""},null,"",null,null,null,null,null,null,"","","","","","","","",null,"","","","","―",null,null,null,null,null,"","","","","","","","","","","","",null,null,null,null,null,"",""]
[null,24,null,"",null,null,null,null,null,null,null,null,null,null,null,"□","□","□","□",null,null,null,"□","□","□","□",null,null,null,"□","□","□","□","□","□",null,"□",null,"□","□",null,null,null,null,"","□","□","□","□","□","□","□",null,{"$f":"IF($G$12=\"\",\"\",IF($BA54=\"\",\"\",HLOOKUP($G$12,別紙mast!$D$4:$K$7,3,FALSE)))","v":""},"",{"$f":"IF($G$12=\"\",\"\",IF($BA54=\"\",\"\",HLOOKUP($G$12,別紙mast!$D$9:$K$11,3,FALSE)))","v":""},"",null,{"$f":"IF($C54=\"\",\"\",IF($G$12=\"\",\"\",HLOOKUP($G$12,別紙mast!$D$4:$K$7,4,FALSE)))","v":""},null,"",null,null,null,null,null,null,"","","","","","","","",null,"","","","","―",null,null,null,null,null,"","","","","","","","","","","","",null,null,null,null,null,"",""]
[null,25,null,"",null,null,null,null,null,null,null,null,null,null,null,"□","□","□","□",null,null,null,"□","□","□","□",null,null,null,"□","□","□","□","□","□",null,"□",null,"□","□",null,null,null,null,"","□","□","□","□","□","□","□",null,{"$f":"IF($G$12=\"\",\"\",IF($BA55=\"\",\"\",HLOOKUP($G$12,別紙mast!$D$4:$K$7,3,FALSE)))","v":""},"",{"$f":"IF($G$12=\"\",\"\",IF($BA55=\"\",\"\",HLOOKUP($G$12,別紙mast!$D$9:$K$11,3,FALSE)))","v":""},"",null,{"$f":"IF($C55=\"\",\"\",IF($G$12=\"\",\"\",HLOOKUP($G$12,別紙mast!$D$4:$K$7,4,FALSE)))","v":""},null,"",null,null,null,null,null,null,"","","","","","","","",null,"","","","","―",null,null,null,null,null,"","","","","","","","","","","","",null,null,null,null,null,"",""]
[null,26,null,"",null,null,null,null,null,null,null,null,null,null,null,"□","□","□","□",null,null,null,"□","□","□","□",null,null,null,"□","□","□","□","□","□",null,"□",null,"□","□",null,null,null,null,"","□","□","□","□","□","□","□",null,{"$f":"IF($G$12=\"\",\"\",IF($BA56=\"\",\"\",HLOOKUP($G$12,別紙mast!$D$4:$K$7,3,FALSE)))","v":""},"",{"$f":"IF($G$12=\"\",\"\",IF($BA56=\"\",\"\",HLOOKUP($G$12,別紙mast!$D$9:$K$11,3,FALSE)))","v":""},"",null,{"$f":"IF($C56=\"\",\"\",IF($G$12=\"\",\"\",HLOOKUP($G$12,別紙mast!$D$4:$K$7,4,FALSE)))","v":""},null,"",null,null,null,null,null,null,"","","","","","","","",null,"","","","","―",null,null,null,null,null,"","","","","","","","","","","","",null,null,null,null,null,"",""]
[null,27,null,"",null,null,null,null,null,null,null,null,null,null,null,"□","□","□","□",null,null,null,"□","□","□","□",null,null,null,"□","□","□","□","□","□",null,"□",null,"□","□",null,null,null,null,"","□","□","□","□","□","□","□",null,{"$f":"IF($G$12=\"\",\"\",IF($BA57=\"\",\"\",HLOOKUP($G$12,別紙mast!$D$4:$K$7,3,FALSE)))","v":""},"",{"$f":"IF($G$12=\"\",\"\",IF($BA57=\"\",\"\",HLOOKUP($G$12,別紙mast!$D$9:$K$11,3,FALSE)))","v":""},"",null,{"$f":"IF($C57=\"\",\"\",IF($G$12=\"\",\"\",HLOOKUP($G$12,別紙mast!$D$4:$K$7,4,FALSE)))","v":""},null,"",null,null,null,null,null,null,"","","","","","","","",null,"","","","","―",null,null,null,null,null,"","","","","","","","","","","","",null,null,null,null,null,"",""]
[null,28,null,"",null,null,null,null,null,null,null,null,null,null,null,"□","□","□","□",null,null,null,"□","□","□","□",null,null,null,"□","□","□","□","□","□",null,"□",null,"□","□",null,null,null,null,"","□","□","□","□","□","□","□",null,{"$f":"IF($G$12=\"\",\"\",IF($BA58=\"\",\"\",HLOOKUP($G$12,別紙mast!$D$4:$K$7,3,FALSE)))","v":""},"",{"$f":"IF($G$12=\"\",\"\",IF($BA58=\"\",\"\",HLOOKUP($G$12,別紙mast!$D$9:$K$11,3,FALSE)))","v":""},"",null,{"$f":"IF($C58=\"\",\"\",IF($G$12=\"\",\"\",HLOOKUP($G$12,別紙mast!$D$4:$K$7,4,FALSE)))","v":""},null,"",null,null,null,null,null,null,"","","","","","","","",null,"","","","","―",null,null,null,null,null,"","","","","","","","","","","","",null,null,null,null,null,"",""]
[null,29,null,"",null,null,null,null,null,null,null,null,null,null,null,"□","□","□","□",null,null,null,"□","□","□","□",null,null,null,"□","□","□","□","□","□",null,"□",null,"□","□",null,null,null,null,"","□","□","□","□","□","□","□",null,{"$f":"IF($G$12=\"\",\"\",IF($BA59=\"\",\"\",HLOOKUP($G$12,別紙mast!$D$4:$K$7,3,FALSE)))","v":""},"",{"$f":"IF($G$12=\"\",\"\",IF($BA59=\"\",\"\",HLOOKUP($G$12,別紙mast!$D$9:$K$11,3,FALSE)))","v":""},"",null,{"$f":"IF($C59=\"\",\"\",IF($G$12=\"\",\"\",HLOOKUP($G$12,別紙mast!$D$4:$K$7,4,FALSE)))","v":""},null,"",null,null,null,null,null,null,"","","","","","","","",null,"","","","","―",null,null,null,null,null,"","","","","","","","","","","","",null,null,null,null,null,"",""]
[null,30,null,"",null,null,null,null,null,null,null,null,null,null,null,"□","□","□","□",null,null,null,"□","□","□","□",null,null,null,"□","□","□","□","□","□",null,"□",null,"□","□",null,null,null,null,"","□","□","□","□","□","□","□",null,{"$f":"IF($G$12=\"\",\"\",IF($BA60=\"\",\"\",HLOOKUP($G$12,別紙mast!$D$4:$K$7,3,FALSE)))","v":""},"",{"$f":"IF($G$12=\"\",\"\",IF($BA60=\"\",\"\",HLOOKUP($G$12,別紙mast!$D$9:$K$11,3,FALSE)))","v":""},"",null,{"$f":"IF($C60=\"\",\"\",IF($G$12=\"\",\"\",HLOOKUP($G$12,別紙mast!$D$4:$K$7,4,FALSE)))","v":""},null,"",null,null,null,null,null,null,"","","","","","","","",null,"","","","","―",null,null,null,null,null,"","","","","","","","","","","","",null,null,null,null,null,"",""]
[null,31,null,"",null,null,null,null,null,null,null,null,null,null,null,"□","□","□","□",null,null,null,"□","□","□","□",null,null,null,"□","□","□","□","□","□",null,"□",null,"□","□",null,null,null,null,"","□","□","□","□","□","□","□",null,{"$f":"IF($G$12=\"\",\"\",IF($BA61=\"\",\"\",HLOOKUP($G$12,別紙mast!$D$4:$K$7,3,FALSE)))","v":""},"",{"$f":"IF($G$12=\"\",\"\",IF($BA61=\"\",\"\",HLOOKUP($G$12,別紙mast!$D$9:$K$11,3,FALSE)))","v":""},"",null,{"$f":"IF($C61=\"\",\"\",IF($G$12=\"\",\"\",HLOOKUP($G$12,別紙mast!$D$4:$K$7,4,FALSE)))","v":""},null,"",null,null,null,null,null,null,"","","","","","","","",null,"","","","","―",null,null,null,null,null,"","","","","","","","","","","","",null,null,null,null,null,"",""]
[null,32,null,"",null,null,null,null,null,null,null,null,null,null,null,"□","□","□","□",null,null,null,"□","□","□","□",null,null,null,"□","□","□","□","□","□",null,"□",null,"□","□",null,null,null,null,"","□","□","□","□","□","□","□",null,{"$f":"IF($G$12=\"\",\"\",IF($BA62=\"\",\"\",HLOOKUP($G$12,別紙mast!$D$4:$K$7,3,FALSE)))","v":""},"",{"$f":"IF($G$12=\"\",\"\",IF($BA62=\"\",\"\",HLOOKUP($G$12,別紙mast!$D$9:$K$11,3,FALSE)))","v":""},"",null,{"$f":"IF($C62=\"\",\"\",IF($G$12=\"\",\"\",HLOOKUP($G$12,別紙mast!$D$4:$K$7,4,FALSE)))","v":""},null,"",null,null,null,null,null,null,"","","","","","","","",null,"","","","","―",null,null,null,null,null,"","","","","","","","","","","","",null,null,null,null,null,"",""]
[null,33,null,"",null,null,null,null,null,null,null,null,null,null,null,"□","□","□","□",null,null,null,"□","□","□","□",null,null,null,"□","□","□","□","□","□",null,"□",null,"□","□",null,null,null,null,{"$f":"IF(AND($AP$28=\"■\",$AO$31<>\"\"),HLOOKUP($AO$31,$BY$30:$CC$230,ROW()-29,1),IF($AO63<>\"\",HLOOKUP($AO63,$BY$30:$CC$230,ROW()-29,1),\"\"))","v":""},"□","□","□","□","□","□","□",null,{"$f":"IF($G$12=\"\",\"\",IF($BA63=\"\",\"\",HLOOKUP($G$12,別紙mast!$D$4:$K$7,3,FALSE)))","v":""},"",{"$f":"IF($G$12=\"\",\"\",IF($BA63=\"\",\"\",HLOOKUP($G$12,別紙mast!$D$9:$K$11,3,FALSE)))","v":""},"",null,{"$f":"IF($C63=\"\",\"\",IF($G$12=\"\",\"\",HLOOKUP($G$12,別紙mast!$D$4:$K$7,4,FALSE)))","v":""},null,"",null,null,null,null,null,null,"","","","","","","","",null,{"$f":"IF(OR(BP63=\"\",BT63=\"\"),\"\",IF(AND($BP63>=20,$BT63>=100,$BC63=\"○\",$BE63=\"○\"),\"○\",\"×\"))","v":""},{"$f":"IF(OR(BP63=\"\",BT63=\"\"),\"\",IF(AND($BP63>=20,$BT63>=100,$BC63=\"適\"),\"×\",IF(AND($BP63>=20,$BT63>=75,$BT63<100,$BC63=\"○\",$BE63=\"○\"),\"○\",\"×\")))","v":""},{"$f":"IF(OR(BP63=\"\",BT63=\"\"),\"\",IF(AND($BP63>=20,$BC63=\"○\",$BE63=\"○\"),\"○\",\"×\"))","v":""},{"$f":"IF(OR(BP63=\"\",BT63=\"\"),\"\",IF(AND($BP63>=20,$BT63>=50,$BT63<75,$BC63=\"○\",$BE63=\"○\"),\"○\",\"×\"))","v":""},"―",null,null,null,null,null,{"$f":"IF(OR($CE63=\"\",$BJ63=\"\"),\"\",$CE63*$J63)","v":""},{"$f":"IF(OR($CF63=\"\",$BJ63=\"\"),\"\",$CF63*$J63)","v":""},{"$f":"IF(OR($CG63=\"\",$BJ63=\"\"),\"\",$CG63*$J63)","v":""},{"$f":"IF(OR($CH63=\"\",$BJ63=\"\"),\"\",$CH63*$J63)","v":""},"","","","",{"$f":"IF($BJ63=\"\",\"\",IF($O$5=\"■\",0,SUM($BN63*$J63)))","v":""},{"$f":"IF($BJ63=\"\",\"\",IF($O$5=\"■\",0,SUM($BO63*$J63)))","v":""},"",{"$f":"IF($CW63=\"\",\"\",IF($O$5=\"■\",SUM($CW63-$DA63),SUM($CW63-$CZ63)))","v":""},null,null,null,null,null,{"$f":"IF($BJ63=\"\",\"\",IF(($BL63-$BJ63-$BN63)*0.001>=0,ROUNDUP(($BL63-$BJ63-$BN63)*0.001,1),ROUNDDOWN(($BL63-$BJ63-$BN63)*0.001,1)))&\"\"","v":""},{"$f":"IF($BJ63=\"\",\"\",IF(($BK63-$BJ63-$BN63)*0.001>=0,ROUNDUP(($BK63-$BJ63-$BN63)*0.001,1),ROUNDDOWN(($BK63-$BJ63-$BN63)*0.001,1)))&\"\"","v":""}]
[null,34,null,"",null,null,null,null,null,null,null,null,null,null,null,"□","□","□","□",null,null,null,"□","□","□","□",null,null,null,"□","□","□","□","□","□",null,"□",null,"□","□",null,null,null,null,"","□","□","□","□","□","□","□",null,{"$f":"IF($G$12=\"\",\"\",IF($BA64=\"\",\"\",HLOOKUP($G$12,別紙mast!$D$4:$K$7,3,FALSE)))","v":""},"",{"$f":"IF($G$12=\"\",\"\",IF($BA64=\"\",\"\",HLOOKUP($G$12,別紙mast!$D$9:$K$11,3,FALSE)))","v":""},"",null,{"$f":"IF($C64=\"\",\"\",IF($G$12=\"\",\"\",HLOOKUP($G$12,別紙mast!$D$4:$K$7,4,FALSE)))","v":""},null,"",null,null,null,null,null,null,"","","","","","","","",null,"","","","","―",null,null,null,null,null,"","","","","","","","","","","","",null,null,null,null,null,"",""]
[null,35,null,"",null,null,null,null,null,null,null,null,null,null,null,"□","□","□","□",null,null,null,"□","□","□","□",null,null,null,"□","□","□","□","□","□",null,"□",null,"□","□",null,null,null,null,"","□","□","□","□","□","□","□",null,{"$f":"IF($G$12=\"\",\"\",IF($BA65=\"\",\"\",HLOOKUP($G$12,別紙mast!$D$4:$K$7,3,FALSE)))","v":""},"",{"$f":"IF($G$12=\"\",\"\",IF($BA65=\"\",\"\",HLOOKUP($G$12,別紙mast!$D$9:$K$11,3,FALSE)))","v":""},"",null,{"$f":"IF($C65=\"\",\"\",IF($G$12=\"\",\"\",HLOOKUP($G$12,別紙mast!$D$4:$K$7,4,FALSE)))","v":""},null,"",null,null,null,null,null,null,"","","","","","","","",null,"","","","","―",null,null,null,null,null,"","","","","","","","","","","","",null,null,null,null,null,"",""]
[null,36,null,"",null,null,null,null,null,null,null,null,null,null,null,"□","□","□","□",null,null,null,"□","□","□","□",null,null,null,"□","□","□","□","□","□",null,"□",null,"□","□",null,null,null,null,"","□","□","□","□","□","□","□",null,{"$f":"IF($G$12=\"\",\"\",IF($BA66=\"\",\"\",HLOOKUP($G$12,別紙mast!$D$4:$K$7,3,FALSE)))","v":""},"",{"$f":"IF($G$12=\"\",\"\",IF($BA66=\"\",\"\",HLOOKUP($G$12,別紙mast!$D$9:$K$11,3,FALSE)))","v":""},"",null,{"$f":"IF($C66=\"\",\"\",IF($G$12=\"\",\"\",HLOOKUP($G$12,別紙mast!$D$4:$K$7,4,FALSE)))","v":""},null,"",null,null,null,null,null,null,"","","","","","","","",null,"","","","","―",null,null,null,null,null,"","","","","","","","","","","","",null,null,null,null,null,"",""]
[null,37,null,"",null,null,null,null,null,null,null,null,null,null,null,"□","□","□","□",null,null,null,"□","□","□","□",null,null,null,"□","□","□","□","□","□",null,"□",null,"□","□",null,null,null,null,"","□","□","□","□","□","□","□",null,{"$f":"IF($G$12=\"\",\"\",IF($BA67=\"\",\"\",HLOOKUP($G$12,別紙mast!$D$4:$K$7,3,FALSE)))","v":""},"",{"$f":"IF($G$12=\"\",\"\",IF($BA67=\"\",\"\",HLOOKUP($G$12,別紙mast!$D$9:$K$11,3,FALSE)))","v":""},"",null,{"$f":"IF($C67=\"\",\"\",IF($G$12=\"\",\"\",HLOOKUP($G$12,別紙mast!$D$4:$K$7,4,FALSE)))","v":""},null,"",null,null,null,null,null,null,"","","","","","","","",null,"","","","","―",null,null,null,null,null,"","","","","","","","","","","","",null,null,null,null,null,"",""]
[null,38,null,"",null,null,null,null,null,null,null,null,null,null,null,"□","□","□","□",null,null,null,"□","□","□","□",null,null,null,"□","□","□","□","□","□",null,"□",null,"□","□",null,null,null,null,"","□","□","□","□","□","□","□",null,{"$f":"IF($G$12=\"\",\"\",IF($BA68=\"\",\"\",HLOOKUP($G$12,別紙mast!$D$4:$K$7,3,FALSE)))","v":""},"",{"$f":"IF($G$12=\"\",\"\",IF($BA68=\"\",\"\",HLOOKUP($G$12,別紙mast!$D$9:$K$11,3,FALSE)))","v":""},"",null,{"$f":"IF($C68=\"\",\"\",IF($G$12=\"\",\"\",HLOOKUP($G$12,別紙mast!$D$4:$K$7,4,FALSE)))","v":""},null,"",null,null,null,null,null,null,"","","","","","","","",null,"","","","","―",null,null,null,null,null,"","","","","","","","","","","","",null,null,null,null,null,"",""]
[null,39,null,"",null,null,null,null,null,null,null,null,null,null,null,"□","□","□","□",null,null,null,"□","□","□","□",null,null,null,"□","□","□","□","□","□",null,"□",null,"□","□",null,null,null,null,"","□","□","□","□","□","□","□",null,{"$f":"IF($G$12=\"\",\"\",IF($BA69=\"\",\"\",HLOOKUP($G$12,別紙mast!$D$4:$K$7,3,FALSE)))","v":""},"",{"$f":"IF($G$12=\"\",\"\",IF($BA69=\"\",\"\",HLOOKUP($G$12,別紙mast!$D$9:$K$11,3,FALSE)))","v":""},"",null,{"$f":"IF($C69=\"\",\"\",IF($G$12=\"\",\"\",HLOOKUP($G$12,別紙mast!$D$4:$K$7,4,FALSE)))","v":""},null,"",null,null,null,null,null,null,"","","","","","","","",null,"","","","","―",null,null,null,null,null,"","","","","","","","","","","","",null,null,null,null,null,"",""]
[null,40,null,"",null,null,null,null,null,null,null,null,null,null,null,"□","□","□","□",null,null,null,"□","□","□","□",null,null,null,"□","□","□","□","□","□",null,"□",null,"□","□",null,null,null,null,"","□","□","□","□","□","□","□",null,{"$f":"IF($G$12=\"\",\"\",IF($BA70=\"\",\"\",HLOOKUP($G$12,別紙mast!$D$4:$K$7,3,FALSE)))","v":""},"",{"$f":"IF($G$12=\"\",\"\",IF($BA70=\"\",\"\",HLOOKUP($G$12,別紙mast!$D$9:$K$11,3,FALSE)))","v":""},"",null,{"$f":"IF($C70=\"\",\"\",IF($G$12=\"\",\"\",HLOOKUP($G$12,別紙mast!$D$4:$K$7,4,FALSE)))","v":""},null,"",null,null,null,null,null,null,"","","","","","","","",null,"","","","","―",null,null,null,null,null,"","","","","","","","","","","","",null,null,null,null,null,"",""]
[null,41,null,"",null,null,null,null,null,null,null,null,null,null,null,"□","□","□","□",null,null,null,"□","□","□","□",null,null,null,"□","□","□","□","□","□",null,"□",null,"□","□",null,null,null,null,"","□","□","□","□","□","□","□",null,{"$f":"IF($G$12=\"\",\"\",IF($BA71=\"\",\"\",HLOOKUP($G$12,別紙mast!$D$4:$K$7,3,FALSE)))","v":""},"",{"$f":"IF($G$12=\"\",\"\",IF($BA71=\"\",\"\",HLOOKUP($G$12,別紙mast!$D$9:$K$11,3,FALSE)))","v":""},"",null,{"$f":"IF($C71=\"\",\"\",IF($G$12=\"\",\"\",HLOOKUP($G$12,別紙mast!$D$4:$K$7,4,FALSE)))","v":""},null,"",null,null,null,null,null,null,"","","","","","","","",null,"","","","","―",null,null,null,null,null,"","","","","","","","","","","","",null,null,null,null,null,"",""]
[null,42,null,"",null,null,null,null,null,null,null,null,null,null,null,"□","□","□","□",null,null,null,"□","□","□","□",null,null,null,"□","□","□","□","□","□",null,"□",null,"□","□",null,null,null,null,"","□","□","□","□","□","□","□",null,{"$f":"IF($G$12=\"\",\"\",IF($BA72=\"\",\"\",HLOOKUP($G$12,別紙mast!$D$4:$K$7,3,FALSE)))","v":""},"",{"$f":"IF($G$12=\"\",\"\",IF($BA72=\"\",\"\",HLOOKUP($G$12,別紙mast!$D$9:$K$11,3,FALSE)))","v":""},"",null,{"$f":"IF($C72=\"\",\"\",IF($G$12=\"\",\"\",HLOOKUP($G$12,別紙mast!$D$4:$K$7,4,FALSE)))","v":""},null,"",null,null,null,null,null,null,"","","","","","","","",null,"","","","","―",null,null,null,null,null,"","","","","","","","","","","","",null,null,null,null,null,"",""]
[null,43,null,"",null,null,null,null,null,null,null,null,null,null,null,"□","□","□","□",null,null,null,"□","□","□","□",null,null,null,"□","□","□","□","□","□",null,"□",null,"□","□",null,null,null,null,"","□","□","□","□","□","□","□",null,{"$f":"IF($G$12=\"\",\"\",IF($BA73=\"\",\"\",HLOOKUP($G$12,別紙mast!$D$4:$K$7,3,FALSE)))","v":""},"",{"$f":"IF($G$12=\"\",\"\",IF($BA73=\"\",\"\",HLOOKUP($G$12,別紙mast!$D$9:$K$11,3,FALSE)))","v":""},"",null,{"$f":"IF($C73=\"\",\"\",IF($G$12=\"\",\"\",HLOOKUP($G$12,別紙mast!$D$4:$K$7,4,FALSE)))","v":""},null,"",null,null,null,null,null,null,"","","","","","","","",null,"","","","","―",null,null,null,null,null,"","","","","","","","","","","","",null,null,null,null,null,"",""]
[null,44,null,"",null,null,null,null,null,null,null,null,null,null,null,"□","□","□","□",null,null,null,"□","□","□","□",null,null,null,"□","□","□","□","□","□",null,"□",null,"□","□",null,null,null,null,"","□","□","□","□","□","□","□",null,{"$f":"IF($G$12=\"\",\"\",IF($BA74=\"\",\"\",HLOOKUP($G$12,別紙mast!$D$4:$K$7,3,FALSE)))","v":""},"",{"$f":"IF($G$12=\"\",\"\",IF($BA74=\"\",\"\",HLOOKUP($G$12,別紙mast!$D$9:$K$11,3,FALSE)))","v":""},"",null,{"$f":"IF($C74=\"\",\"\",IF($G$12=\"\",\"\",HLOOKUP($G$12,別紙mast!$D$4:$K$7,4,FALSE)))","v":""},null,"",null,null,null,null,null,null,"","","","","","","","",null,"","","","","―",null,null,null,null,null,"","","","","","","","","","","","",null,null,null,null,null,"",""]
[null,45,null,"",null,null,null,null,null,null,null,null,null,null,null,"□","□","□","□",null,null,null,"□","□","□","□",null,null,null,"□","□","□","□","□","□",null,"□",null,"□","□",null,null,null,null,"","□","□","□","□","□","□","□",null,{"$f":"IF($G$12=\"\",\"\",IF($BA75=\"\",\"\",HLOOKUP($G$12,別紙mast!$D$4:$K$7,3,FALSE)))","v":""},"",{"$f":"IF($G$12=\"\",\"\",IF($BA75=\"\",\"\",HLOOKUP($G$12,別紙mast!$D$9:$K$11,3,FALSE)))","v":""},"",null,{"$f":"IF($C75=\"\",\"\",IF($G$12=\"\",\"\",HLOOKUP($G$12,別紙mast!$D$4:$K$7,4,FALSE)))","v":""},null,"",null,null,null,null,null,null,"","","","","","","","",null,"","","","","―",null,null,null,null,null,"","","","","","","","","","","","",null,null,null,null,null,"",""]
[null,46,null,"",null,null,null,null,null,null,null,null,null,null,null,"□","□","□","□",null,null,null,"□","□","□","□",null,null,null,"□","□","□","□","□","□",null,"□",null,"□","□",null,null,null,null,"","□","□","□","□","□","□","□",null,{"$f":"IF($G$12=\"\",\"\",IF($BA76=\"\",\"\",HLOOKUP($G$12,別紙mast!$D$4:$K$7,3,FALSE)))","v":""},"",{"$f":"IF($G$12=\"\",\"\",IF($BA76=\"\",\"\",HLOOKUP($G$12,別紙mast!$D$9:$K$11,3,FALSE)))","v":""},"",null,{"$f":"IF($C76=\"\",\"\",IF($G$12=\"\",\"\",HLOOKUP($G$12,別紙mast!$D$4:$K$7,4,FALSE)))","v":""},null,"",null,null,null,null,null,null,"","","","","","","","",null,"","","","","―",null,null,null,null,null,"","","","","","","","","","","","",null,null,null,null,null,"",""]
[null,47,null,"",null,null,null,null,null,null,null,null,null,null,null,"□","□","□","□",null,null,null,"□","□","□","□",null,null,null,"□","□","□","□","□","□",null,"□",null,"□","□",null,null,null,null,"","□","□","□","□","□","□","□",null,{"$f":"IF($G$12=\"\",\"\",IF($BA77=\"\",\"\",HLOOKUP($G$12,別紙mast!$D$4:$K$7,3,FALSE)))","v":""},"",{"$f":"IF($G$12=\"\",\"\",IF($BA77=\"\",\"\",HLOOKUP($G$12,別紙mast!$D$9:$K$11,3,FALSE)))","v":""},"",null,{"$f":"IF($C77=\"\",\"\",IF($G$12=\"\",\"\",HLOOKUP($G$12,別紙mast!$D$4:$K$7,4,FALSE)))","v":""},null,"",null,null,null,null,null,null,"","","","","","","","",null,"","","","","―",null,null,null,null,null,"","","","","","","","","","","","",null,null,null,null,null,"",""]
[null,48,null,"",null,null,null,null,null,null,null,null,null,null,null,"□","□","□","□",null,null,null,"□","□","□","□",null,null,null,"□","□","□","□","□","□",null,"□",null,"□","□",null,null,null,null,"","□","□","□","□","□","□","□",null,{"$f":"IF($G$12=\"\",\"\",IF($BA78=\"\",\"\",HLOOKUP($G$12,別紙mast!$D$4:$K$7,3,FALSE)))","v":""},"",{"$f":"IF($G$12=\"\",\"\",IF($BA78=\"\",\"\",HLOOKUP($G$12,別紙mast!$D$9:$K$11,3,FALSE)))","v":""},"",null,{"$f":"IF($C78=\"\",\"\",IF($G$12=\"\",\"\",HLOOKUP($G$12,別紙mast!$D$4:$K$7,4,FALSE)))","v":""},null,"",null,null,null,null,null,null,"","","","","","","","",null,"","","","","―",null,null,null,null,null,"","","","","","","","","","","","",null,null,null,null,null,"",""]
[null,49,null,"",null,null,null,null,null,null,null,null,null,null,null,"□","□","□","□",null,null,null,"□","□","□","□",null,null,null,"□","□","□","□","□","□",null,"□",null,"□","□",null,null,null,null,"","□","□","□","□","□","□","□",null,{"$f":"IF($G$12=\"\",\"\",IF($BA79=\"\",\"\",HLOOKUP($G$12,別紙mast!$D$4:$K$7,3,FALSE)))","v":""},"",{"$f":"IF($G$12=\"\",\"\",IF($BA79=\"\",\"\",HLOOKUP($G$12,別紙mast!$D$9:$K$11,3,FALSE)))","v":""},"",null,{"$f":"IF($C79=\"\",\"\",IF($G$12=\"\",\"\",HLOOKUP($G$12,別紙mast!$D$4:$K$7,4,FALSE)))","v":""},null,"",null,null,null,null,null,null,"","","","","","","","",null,"","","","","―",null,null,null,null,null,"","","","","","","","","","","","",null,null,null,null,null,"",""]
[null,50,null,"",null,null,null,null,null,null,null,null,null,null,null,"□","□","□","□",null,null,null,"□","□","□","□",null,null,null,"□","□","□","□","□","□",null,"□",null,"□","□",null,null,null,null,"","□","□","□","□","□","□","□",null,{"$f":"IF($G$12=\"\",\"\",IF($BA80=\"\",\"\",HLOOKUP($G$12,別紙mast!$D$4:$K$7,3,FALSE)))","v":""},"",{"$f":"IF($G$12=\"\",\"\",IF($BA80=\"\",\"\",HLOOKUP($G$12,別紙mast!$D$9:$K$11,3,FALSE)))","v":""},"",null,{"$f":"IF($C80=\"\",\"\",IF($G$12=\"\",\"\",HLOOKUP($G$12,別紙mast!$D$4:$K$7,4,FALSE)))","v":""},null,"",null,null,null,null,null,null,"","","","","","","","",null,"","","","","―",null,null,null,null,null,"","","","","","","","","","","","",null,null,null,null,null,"",""]
[null,51,null,"",null,null,null,null,null,null,null,null,null,null,null,"□","□","□","□",null,null,null,"□","□","□","□",null,null,null,"□","□","□","□","□","□",null,"□",null,"□","□",null,null,null,null,"","□","□","□","□","□","□","□",null,{"$f":"IF($G$12=\"\",\"\",IF($BA81=\"\",\"\",HLOOKUP($G$12,別紙mast!$D$4:$K$7,3,FALSE)))","v":""},"",{"$f":"IF($G$12=\"\",\"\",IF($BA81=\"\",\"\",HLOOKUP($G$12,別紙mast!$D$9:$K$11,3,FALSE)))","v":""},"",null,{"$f":"IF($C81=\"\",\"\",IF($G$12=\"\",\"\",HLOOKUP($G$12,別紙mast!$D$4:$K$7,4,FALSE)))","v":""},null,"",null,null,null,null,null,null,"","","","","","","","",null,"","","","","―",null,null,null,null,null,"","","","","","","","","","","","",null,null,null,null,null,"",""]
[null,52,null,"",null,null,null,null,null,null,null,null,null,null,null,"□","□","□","□",null,null,null,"□","□","□","□",null,null,null,"□","□","□","□","□","□",null,"□",null,"□","□",null,null,null,null,"","□","□","□","□","□","□","□",null,{"$f":"IF($G$12=\"\",\"\",IF($BA82=\"\",\"\",HLOOKUP($G$12,別紙mast!$D$4:$K$7,3,FALSE)))","v":""},"",{"$f":"IF($G$12=\"\",\"\",IF($BA82=\"\",\"\",HLOOKUP($G$12,別紙mast!$D$9:$K$11,3,FALSE)))","v":""},"",null,{"$f":"IF($C82=\"\",\"\",IF($G$12=\"\",\"\",HLOOKUP($G$12,別紙mast!$D$4:$K$7,4,FALSE)))","v":""},null,"",null,null,null,null,null,null,"","","","","","","","",null,"","","","","―",null,null,null,null,null,"","","","","","","","","","","","",null,null,null,null,null,"",""]
[null,53,null,"",null,null,null,null,null,null,null,null,null,null,null,"□","□","□","□",null,null,null,"□","□","□","□",null,null,null,"□","□","□","□","□","□",null,"□",null,"□","□",null,null,null,null,"","□","□","□","□","□","□","□",null,{"$f":"IF($G$12=\"\",\"\",IF($BA83=\"\",\"\",HLOOKUP($G$12,別紙mast!$D$4:$K$7,3,FALSE)))","v":""},"",{"$f":"IF($G$12=\"\",\"\",IF($BA83=\"\",\"\",HLOOKUP($G$12,別紙mast!$D$9:$K$11,3,FALSE)))","v":""},"",null,{"$f":"IF($C83=\"\",\"\",IF($G$12=\"\",\"\",HLOOKUP($G$12,別紙mast!$D$4:$K$7,4,FALSE)))","v":""},null,"",null,null,null,null,null,null,"","","","","","","","",null,"","","","","―",null,null,null,null,null,"","","","","","","","","","","","",null,null,null,null,null,"",""]
[null,54,null,"",null,null,null,null,null,null,null,null,null,null,null,"□","□","□","□",null,null,null,"□","□","□","□",null,null,null,"□","□","□","□","□","□",null,"□",null,"□","□",null,null,null,null,"","□","□","□","□","□","□","□",null,{"$f":"IF($G$12=\"\",\"\",IF($BA84=\"\",\"\",HLOOKUP($G$12,別紙mast!$D$4:$K$7,3,FALSE)))","v":""},"",{"$f":"IF($G$12=\"\",\"\",IF($BA84=\"\",\"\",HLOOKUP($G$12,別紙mast!$D$9:$K$11,3,FALSE)))","v":""},"",null,{"$f":"IF($C84=\"\",\"\",IF($G$12=\"\",\"\",HLOOKUP($G$12,別紙mast!$D$4:$K$7,4,FALSE)))","v":""},null,"",null,null,null,null,null,null,"","","","","","","","",null,"","","","","―",null,null,null,null,null,"","","","","","","","","","","","",null,null,null,null,null,"",""]
[null,55,null,"",null,null,null,null,null,null,null,null,null,null,null,"□","□","□","□",null,null,null,"□","□","□","□",null,null,null,"□","□","□","□","□","□",null,"□",null,"□","□",null,null,null,null,"","□","□","□","□","□","□","□",null,{"$f":"IF($G$12=\"\",\"\",IF($BA85=\"\",\"\",HLOOKUP($G$12,別紙mast!$D$4:$K$7,3,FALSE)))","v":""},"",{"$f":"IF($G$12=\"\",\"\",IF($BA85=\"\",\"\",HLOOKUP($G$12,別紙mast!$D$9:$K$11,3,FALSE)))","v":""},"",null,{"$f":"IF($C85=\"\",\"\",IF($G$12=\"\",\"\",HLOOKUP($G$12,別紙mast!$D$4:$K$7,4,FALSE)))","v":""},null,"",null,null,null,null,null,null,"","","","","","","","",null,"","","","","―",null,null,null,null,null,"","","","","","","","","","","","",null,null,null,null,null,"",""]
[null,56,null,"",null,null,null,null,null,null,null,null,null,null,null,"□","□","□","□",null,null,null,"□","□","□","□",null,null,null,"□","□","□","□","□","□",null,"□",null,"□","□",null,null,null,null,"","□","□","□","□","□","□","□",null,{"$f":"IF($G$12=\"\",\"\",IF($BA86=\"\",\"\",HLOOKUP($G$12,別紙mast!$D$4:$K$7,3,FALSE)))","v":""},"",{"$f":"IF($G$12=\"\",\"\",IF($BA86=\"\",\"\",HLOOKUP($G$12,別紙mast!$D$9:$K$11,3,FALSE)))","v":""},"",null,{"$f":"IF($C86=\"\",\"\",IF($G$12=\"\",\"\",HLOOKUP($G$12,別紙mast!$D$4:$K$7,4,FALSE)))","v":""},null,"",null,null,null,null,null,null,"","","","","","","","",null,"","","","","―",null,null,null,null,null,"","","","","","","","","","","","",null,null,null,null,null,"",""]
[null,57,null,"",null,null,null,null,null,null,null,null,null,null,null,"□","□","□","□",null,null,null,"□","□","□","□",null,null,null,"□","□","□","□","□","□",null,"□",null,"□","□",null,null,null,null,"","□","□","□","□","□","□","□",null,{"$f":"IF($G$12=\"\",\"\",IF($BA87=\"\",\"\",HLOOKUP($G$12,別紙mast!$D$4:$K$7,3,FALSE)))","v":""},"",{"$f":"IF($G$12=\"\",\"\",IF($BA87=\"\",\"\",HLOOKUP($G$12,別紙mast!$D$9:$K$11,3,FALSE)))","v":""},"",null,{"$f":"IF($C87=\"\",\"\",IF($G$12=\"\",\"\",HLOOKUP($G$12,別紙mast!$D$4:$K$7,4,FALSE)))","v":""},null,"",null,null,null,null,null,null,"","","","","","","","",null,"","","","","―",null,null,null,null,null,"","","","","","","","","","","","",null,null,null,null,null,"",""]
[null,58,null,"",null,null,null,null,null,null,null,null,null,null,null,"□","□","□","□",null,null,null,"□","□","□","□",null,null,null,"□","□","□","□","□","□",null,"□",null,"□","□",null,null,null,null,"","□","□","□","□","□","□","□",null,{"$f":"IF($G$12=\"\",\"\",IF($BA88=\"\",\"\",HLOOKUP($G$12,別紙mast!$D$4:$K$7,3,FALSE)))","v":""},"",{"$f":"IF($G$12=\"\",\"\",IF($BA88=\"\",\"\",HLOOKUP($G$12,別紙mast!$D$9:$K$11,3,FALSE)))","v":""},"",null,{"$f":"IF($C88=\"\",\"\",IF($G$12=\"\",\"\",HLOOKUP($G$12,別紙mast!$D$4:$K$7,4,FALSE)))","v":""},null,"",null,null,null,null,null,null,"","","","","","","","",null,"","","","","―",null,null,null,null,null,"","","","","","","","","","","","",null,null,null,null,null,"",""]
[null,59,null,"",null,null,null,null,null,null,null,null,null,null,null,"□","□","□","□",null,null,null,"□","□","□","□",null,null,null,"□","□","□","□","□","□",null,"□",null,"□","□",null,null,null,null,"","□","□","□","□","□","□","□",null,{"$f":"IF($G$12=\"\",\"\",IF($BA89=\"\",\"\",HLOOKUP($G$12,別紙mast!$D$4:$K$7,3,FALSE)))","v":""},"",{"$f":"IF($G$12=\"\",\"\",IF($BA89=\"\",\"\",HLOOKUP($G$12,別紙mast!$D$9:$K$11,3,FALSE)))","v":""},"",null,{"$f":"IF($C89=\"\",\"\",IF($G$12=\"\",\"\",HLOOKUP($G$12,別紙mast!$D$4:$K$7,4,FALSE)))","v":""},null,"",null,null,null,null,null,null,"","","","","","","","",null,"","","","","―",null,null,null,null,null,"","","","","","","","","","","","",null,null,null,null,null,"",""]
[null,60,null,"",null,null,null,null,null,null,null,null,null,null,null,"□","□","□","□",null,null,null,"□","□","□","□",null,null,null,"□","□","□","□","□","□",null,"□",null,"□","□",null,null,null,null,"","□","□","□","□","□","□","□",null,{"$f":"IF($G$12=\"\",\"\",IF($BA90=\"\",\"\",HLOOKUP($G$12,別紙mast!$D$4:$K$7,3,FALSE)))","v":""},"",{"$f":"IF($G$12=\"\",\"\",IF($BA90=\"\",\"\",HLOOKUP($G$12,別紙mast!$D$9:$K$11,3,FALSE)))","v":""},"",null,{"$f":"IF($C90=\"\",\"\",IF($G$12=\"\",\"\",HLOOKUP($G$12,別紙mast!$D$4:$K$7,4,FALSE)))","v":""},null,"",null,null,null,null,null,null,"","","","","","","","",null,"","","","","―",null,null,null,null,null,"","","","","","","","","","","","",null,null,null,null,null,"",""]
[null,61,null,"",null,null,null,null,null,null,null,null,null,null,null,"□","□","□","□",null,null,null,"□","□","□","□",null,null,null,"□","□","□","□","□","□",null,"□",null,"□","□",null,null,null,null,"","□","□","□","□","□","□","□",null,{"$f":"IF($G$12=\"\",\"\",IF($BA91=\"\",\"\",HLOOKUP($G$12,別紙mast!$D$4:$K$7,3,FALSE)))","v":""},"",{"$f":"IF($G$12=\"\",\"\",IF($BA91=\"\",\"\",HLOOKUP($G$12,別紙mast!$D$9:$K$11,3,FALSE)))","v":""},"",null,{"$f":"IF($C91=\"\",\"\",IF($G$12=\"\",\"\",HLOOKUP($G$12,別紙mast!$D$4:$K$7,4,FALSE)))","v":""},null,"",null,null,null,null,null,null,"","","","","","","","",null,"","","","","―",null,null,null,null,null,"","","","","","","","","","","","",null,null,null,null,null,"",""]
[null,62,null,"",null,null,null,null,null,null,null,null,null,null,null,"□","□","□","□",null,null,null,"□","□","□","□",null,null,null,"□","□","□","□","□","□",null,"□",null,"□","□",null,null,null,null,"","□","□","□","□","□","□","□",null,{"$f":"IF($G$12=\"\",\"\",IF($BA92=\"\",\"\",HLOOKUP($G$12,別紙mast!$D$4:$K$7,3,FALSE)))","v":""},"",{"$f":"IF($G$12=\"\",\"\",IF($BA92=\"\",\"\",HLOOKUP($G$12,別紙mast!$D$9:$K$11,3,FALSE)))","v":""},"",null,{"$f":"IF($C92=\"\",\"\",IF($G$12=\"\",\"\",HLOOKUP($G$12,別紙mast!$D$4:$K$7,4,FALSE)))","v":""},null,"",null,null,null,null,null,null,"","","","","","","","",null,"","","","","―",null,null,null,null,null,"","","","","","","","","","","","",null,null,null,null,null,"",""]
[null,63,null,"",null,null,null,null,null,null,null,null,null,null,null,"□","□","□","□",null,null,null,"□","□","□","□",null,null,null,"□","□","□","□","□","□",null,"□",null,"□","□",null,null,null,null,"","□","□","□","□","□","□","□",null,{"$f":"IF($G$12=\"\",\"\",IF($BA93=\"\",\"\",HLOOKUP($G$12,別紙mast!$D$4:$K$7,3,FALSE)))","v":""},"",{"$f":"IF($G$12=\"\",\"\",IF($BA93=\"\",\"\",HLOOKUP($G$12,別紙mast!$D$9:$K$11,3,FALSE)))","v":""},"",null,{"$f":"IF($C93=\"\",\"\",IF($G$12=\"\",\"\",HLOOKUP($G$12,別紙mast!$D$4:$K$7,4,FALSE)))","v":""},null,"",null,null,null,null,null,null,"","","","","","","","",null,"","","","","―",null,null,null,null,null,"","","","","","","","","","","","",null,null,null,null,null,"",""]
[null,64,null,"",null,null,null,null,null,null,null,null,null,null,null,"□","□","□","□",null,null,null,"□","□","□","□",null,null,null,"□","□","□","□","□","□",null,"□",null,"□","□",null,null,null,null,"","□","□","□","□","□","□","□",null,{"$f":"IF($G$12=\"\",\"\",IF($BA94=\"\",\"\",HLOOKUP($G$12,別紙mast!$D$4:$K$7,3,FALSE)))","v":""},"",{"$f":"IF($G$12=\"\",\"\",IF($BA94=\"\",\"\",HLOOKUP($G$12,別紙mast!$D$9:$K$11,3,FALSE)))","v":""},"",null,{"$f":"IF($C94=\"\",\"\",IF($G$12=\"\",\"\",HLOOKUP($G$12,別紙mast!$D$4:$K$7,4,FALSE)))","v":""},null,"",null,null,null,null,null,null,"","","","","","","","",null,"","","","","―",null,null,null,null,null,"","","","","","","","","","","","",null,null,null,null,null,"",""]
[null,65,null,"",null,null,null,null,null,null,null,null,null,null,null,"□","□","□","□",null,null,null,"□","□","□","□",null,null,null,"□","□","□","□","□","□",null,"□",null,"□","□",null,null,null,null,{"$f":"IF(AND($AP$28=\"■\",$AO$31<>\"\"),HLOOKUP($AO$31,$BY$30:$CC$230,ROW()-29,1),IF($AO95<>\"\",HLOOKUP($AO95,$BY$30:$CC$230,ROW()-29,1),\"\"))","v":""},"□","□","□","□","□","□","□",null,{"$f":"IF($G$12=\"\",\"\",IF($BA95=\"\",\"\",HLOOKUP($G$12,別紙mast!$D$4:$K$7,3,FALSE)))","v":""},"",{"$f":"IF($G$12=\"\",\"\",IF($BA95=\"\",\"\",HLOOKUP($G$12,別紙mast!$D$9:$K$11,3,FALSE)))","v":""},"",null,{"$f":"IF($C95=\"\",\"\",IF($G$12=\"\",\"\",HLOOKUP($G$12,別紙mast!$D$4:$K$7,4,FALSE)))","v":""},null,"",null,null,null,null,null,null,{"$f":"IF($C95=\"\",\"\",TRUNC(($CS95/$CW95)*100))","v":""},"","","","","","","",null,{"$f":"IF(OR(BP95=\"\",BT95=\"\"),\"\",IF(AND($BP95>=20,$BT95>=100,$BC95=\"○\",$BE95=\"○\"),\"○\",\"×\"))","v":""},{"$f":"IF(OR(BP95=\"\",BT95=\"\"),\"\",IF(AND($BP95>=20,$BT95>=100,$BC95=\"適\"),\"×\",IF(AND($BP95>=20,$BT95>=75,$BT95<100,$BC95=\"○\",$BE95=\"○\"),\"○\",\"×\")))","v":""},{"$f":"IF(OR(BP95=\"\",BT95=\"\"),\"\",IF(AND($BP95>=20,$BC95=\"○\",$BE95=\"○\"),\"○\",\"×\"))","v":""},{"$f":"IF(OR(BP95=\"\",BT95=\"\"),\"\",IF(AND($BP95>=20,$BT95>=50,$BT95<75,$BC95=\"○\",$BE95=\"○\"),\"○\",\"×\"))","v":""},"―",null,null,null,null,null,{"$f":"IF(OR($CE95=\"\",$BJ95=\"\"),\"\",$CE95*$J95)","v":""},{"$f":"IF(OR($CF95=\"\",$BJ95=\"\"),\"\",$CF95*$J95)","v":""},{"$f":"IF(OR($CG95=\"\",$BJ95=\"\"),\"\",$CG95*$J95)","v":""},{"$f":"IF(OR($CH95=\"\",$BJ95=\"\"),\"\",$CH95*$J95)","v":""},"","","","",{"$f":"IF($BJ95=\"\",\"\",IF($O$5=\"■\",0,SUM($BN95*$J95)))","v":""},{"$f":"IF($BJ95=\"\",\"\",IF($O$5=\"■\",0,SUM($BO95*$J95)))","v":""},"",{"$f":"IF($CW95=\"\",\"\",IF($O$5=\"■\",SUM($CW95-$DA95),SUM($CW95-$CZ95)))","v":""},null,null,null,null,null,{"$f":"IF($BJ95=\"\",\"\",IF(($BL95-$BJ95-$BN95)*0.001>=0,ROUNDUP(($BL95-$BJ95-$BN95)*0.001,1),ROUNDDOWN(($BL95-$BJ95-$BN95)*0.001,1)))&\"\"","v":""},{"$f":"IF($BJ95=\"\",\"\",IF(($BK95-$BJ95-$BN95)*0.001>=0,ROUNDUP(($BK95-$BJ95-$BN95)*0.001,1),ROUNDDOWN(($BK95-$BJ95-$BN95)*0.001,1)))&\"\"","v":""}]
[null,66,null,"",null,null,null,null,null,null,null,null,null,null,null,"□","□","□","□",null,null,null,"□","□","□","□",null,null,null,"□","□","□","□","□","□",null,"□",null,"□","□",null,null,null,null,"","□","□","□","□","□","□","□",null,{"$f":"IF($G$12=\"\",\"\",IF($BA96=\"\",\"\",HLOOKUP($G$12,別紙mast!$D$4:$K$7,3,FALSE)))","v":""},{"$f":"IF(OR(AND($C96<>\"\",$Q$28=\"■\"),AND($C96<>\"\",$R$28=\"■\")),\"○\",IF(AND($BA96=\"\"),\"\",IF($BA96<=$BB96,\"○\",\"×\")))","v":""},{"$f":"IF($G$12=\"\",\"\",IF($BA96=\"\",\"\",HLOOKUP($G$12,別紙mast!$D$9:$K$11,3,FALSE)))","v":""},{"$f":"IF(AND($C96<>\"\",$R$28=\"■\"),\"○\",IF(AND($BD96=\"\"),\"\",IF($BA96<=$BD96,\"○\",\"×\")))","v":""},null,{"$f":"IF($C96=\"\",\"\",IF($G$12=\"\",\"\",HLOOKUP($G$12,別紙mast!$D$4:$K$7,4,FALSE)))","v":""},null,{"$f":"IF(OR(AND($C96<>\"\",$Q$28=\"■\"),AND($C96<>\"\",$R$28=\"■\")),\"○\",IF(AND(BG96=\"\"),\"\",IF(BF96<=BG96,\"○\",\"×\")))","v":""},null,null,null,null,null,null,"",{"$f":"IF($C96=\"\",\"\",$CY96)","v":""},{"$f":"IF($C96=\"\",\"\",IF(OR($O$5=\"■\",$AD$28=\"■\",$AD96=\"■\"),\"ー\",SUM(1-$BS96)))","v":""},{"$f":"IF($C96=\"\",\"\",IF(OR($O$5=\"■\",$AD$28=\"■\",$AD96=\"■\"),\"ー\",CX96))","v":""},{"$f":"IF($C96=\"\",\"\",TRUNC(($CT96/$CW96)*100))","v":""},{"$f":"IF($C96=\"\",\"\",IF(OR($O$5=\"■\",$AD$28=\"■\",$AD96=\"■\"),\"ー\",SUM((100-$BT96)/100)))","v":""},{"$f":"IF($D96=\"\",\"\",$D96)","v":""},{"$f":"IF($G96=\"\",\"\",$G96)","v":""},null,"","","","","―",null,null,null,null,null,"","","","",{"$f":"IF($C96=\"\",\"\",SUM($BJ96*$J96))","v":""},{"$f":"IF($C96=\"\",\"\",SUM($BK96*$J96))","v":""},{"$f":"IF($C96=\"\",\"\",IF($O$5=\"■\",SUM($BK96*$J96),SUM($BL96*$J96)))","v":""},{"$f":"IF($C96=\"\",\"\",SUM($BM96*$J96))","v":""},"","",{"$f":"IF($CV96=\"\",\"\",($CW96-$CV96))","v":""},"",null,null,null,null,null,"",""]
[null,67,null,"",null,null,null,null,null,null,null,null,null,null,null,"□","□","□","□",null,null,null,"□","□","□","□",null,null,null,"□","□","□","□","□","□",null,"□",null,"□","□",null,null,null,null,"","□","□","□","□","□","□","□",null,{"$f":"IF($G$12=\"\",\"\",IF($BA97=\"\",\"\",HLOOKUP($G$12,別紙mast!$D$4:$K$7,3,FALSE)))","v":""},"",{"$f":"IF($G$12=\"\",\"\",IF($BA97=\"\",\"\",HLOOKUP($G$12,別紙mast!$D$9:$K$11,3,FALSE)))","v":""},"",null,{"$f":"IF($C97=\"\",\"\",IF($G$12=\"\",\"\",HLOOKUP($G$12,別紙mast!$D$4:$K$7,4,FALSE)))","v":""},null,"",null,null,null,null,null,null,"","","","","","","","",null,"","","","","―",null,null,null,null,null,"","","","","","","","","","","","",null,null,null,null,null,"",""]
[null,68,null,"",null,null,null,null,null,null,null,null,null,null,null,"□","□","□","□",null,null,null,"□","□","□","□",null,null,null,"□","□","□","□","□","□",null,"□",null,"□","□",null,null,null,null,"","□","□","□","□","□","□","□",null,{"$f":"IF($G$12=\"\",\"\",IF($BA98=\"\",\"\",HLOOKUP($G$12,別紙mast!$D$4:$K$7,3,FALSE)))","v":""},"",{"$f":"IF($G$12=\"\",\"\",IF($BA98=\"\",\"\",HLOOKUP($G$12,別紙mast!$D$9:$K$11,3,FALSE)))","v":""},"",null,{"$f":"IF($C98=\"\",\"\",IF($G$12=\"\",\"\",HLOOKUP($G$12,別紙mast!$D$4:$K$7,4,FALSE)))","v":""},null,"",null,null,null,null,null,null,"","","","","","","","",null,"","","","","―",null,null,null,null,null,"","","","","","","","","","","","",null,null,null,null,null,"",""]
[null,69,null,"",null,null,null,null,null,null,null,null,null,null,null,"□","□","□","□",null,null,null,"□","□","□","□",null,null,null,"□","□","□","□","□","□",null,"□",null,"□","□",null,null,null,null,"","□","□","□","□","□","□","□",null,{"$f":"IF($G$12=\"\",\"\",IF($BA99=\"\",\"\",HLOOKUP($G$12,別紙mast!$D$4:$K$7,3,FALSE)))","v":""},"",{"$f":"IF($G$12=\"\",\"\",IF($BA99=\"\",\"\",HLOOKUP($G$12,別紙mast!$D$9:$K$11,3,FALSE)))","v":""},"",null,{"$f":"IF($C99=\"\",\"\",IF($G$12=\"\",\"\",HLOOKUP($G$12,別紙mast!$D$4:$K$7,4,FALSE)))","v":""},null,"",null,null,null,null,null,null,"","","","","","","","",null,"","","","","―",null,null,null,null,null,"","","","","","","","","","","","",null,null,null,null,null,"",""]
[null,70,null,"",null,null,null,null,null,null,null,null,null,null,null,"□","□","□","□",null,null,null,"□","□","□","□",null,null,null,"□","□","□","□","□","□",null,"□",null,"□","□",null,null,null,null,"","□","□","□","□","□","□","□",null,{"$f":"IF($G$12=\"\",\"\",IF($BA100=\"\",\"\",HLOOKUP($G$12,別紙mast!$D$4:$K$7,3,FALSE)))","v":""},"",{"$f":"IF($G$12=\"\",\"\",IF($BA100=\"\",\"\",HLOOKUP($G$12,別紙mast!$D$9:$K$11,3,FALSE)))","v":""},"",null,{"$f":"IF($C100=\"\",\"\",IF($G$12=\"\",\"\",HLOOKUP($G$12,別紙mast!$D$4:$K$7,4,FALSE)))","v":""},null,"",null,null,null,null,null,null,"","","","","","","","",null,"","","","","―",null,null,null,null,null,"","","","","","","","","","","","",null,null,null,null,null,"",""]
[null,71,null,"",null,null,null,null,null,null,null,null,null,null,null,"□","□","□","□",null,null,null,"□","□","□","□",null,null,null,"□","□","□","□","□","□",null,"□",null,"□","□",null,null,null,null,"","□","□","□","□","□","□","□",null,{"$f":"IF($G$12=\"\",\"\",IF($BA101=\"\",\"\",HLOOKUP($G$12,別紙mast!$D$4:$K$7,3,FALSE)))","v":""},"",{"$f":"IF($G$12=\"\",\"\",IF($BA101=\"\",\"\",HLOOKUP($G$12,別紙mast!$D$9:$K$11,3,FALSE)))","v":""},"",null,{"$f":"IF($C101=\"\",\"\",IF($G$12=\"\",\"\",HLOOKUP($G$12,別紙mast!$D$4:$K$7,4,FALSE)))","v":""},null,"",null,null,null,null,null,null,"","","","","","","","",null,"","","","","―",null,null,null,null,null,"","","","","","","","","","","","",null,null,null,null,null,"",""]
[null,72,null,"",null,null,null,null,null,null,null,null,null,null,null,"□","□","□","□",null,null,null,"□","□","□","□",null,null,null,"□","□","□","□","□","□",null,"□",null,"□","□",null,null,null,null,"","□","□","□","□","□","□","□",null,{"$f":"IF($G$12=\"\",\"\",IF($BA102=\"\",\"\",HLOOKUP($G$12,別紙mast!$D$4:$K$7,3,FALSE)))","v":""},"",{"$f":"IF($G$12=\"\",\"\",IF($BA102=\"\",\"\",HLOOKUP($G$12,別紙mast!$D$9:$K$11,3,FALSE)))","v":""},"",null,{"$f":"IF($C102=\"\",\"\",IF($G$12=\"\",\"\",HLOOKUP($G$12,別紙mast!$D$4:$K$7,4,FALSE)))","v":""},null,"",null,null,null,null,null,null,"","","","","","","","",null,"","","","","―",null,null,null,null,null,"","","","","","","","","","","","",null,null,null,null,null,"",""]
[null,73,null,"",null,null,null,null,null,null,null,null,null,null,null,"□","□","□","□",null,null,null,"□","□","□","□",null,null,null,"□","□","□","□","□","□",null,"□",null,"□","□",null,null,null,null,"","□","□","□","□","□","□","□",null,{"$f":"IF($G$12=\"\",\"\",IF($BA103=\"\",\"\",HLOOKUP($G$12,別紙mast!$D$4:$K$7,3,FALSE)))","v":""},"",{"$f":"IF($G$12=\"\",\"\",IF($BA103=\"\",\"\",HLOOKUP($G$12,別紙mast!$D$9:$K$11,3,FALSE)))","v":""},"",null,{"$f":"IF($C103=\"\",\"\",IF($G$12=\"\",\"\",HLOOKUP($G$12,別紙mast!$D$4:$K$7,4,FALSE)))","v":""},null,"",null,null,null,null,null,null,"","","","","","","","",null,"","","","","―",null,null,null,null,null,"","","","","","","","","","","","",null,null,null,null,null,"",""]
[null,74,null,"",null,null,null,null,null,null,null,null,null,null,null,"□","□","□","□",null,null,null,"□","□","□","□",null,null,null,"□","□","□","□","□","□",null,"□",null,"□","□",null,null,null,null,"","□","□","□","□","□","□","□",null,{"$f":"IF($G$12=\"\",\"\",IF($BA104=\"\",\"\",HLOOKUP($G$12,別紙mast!$D$4:$K$7,3,FALSE)))","v":""},"",{"$f":"IF($G$12=\"\",\"\",IF($BA104=\"\",\"\",HLOOKUP($G$12,別紙mast!$D$9:$K$11,3,FALSE)))","v":""},"",null,{"$f":"IF($C104=\"\",\"\",IF($G$12=\"\",\"\",HLOOKUP($G$12,別紙mast!$D$4:$K$7,4,FALSE)))","v":""},null,"",null,null,null,null,null,null,"","","","","","","","",null,"","","","","―",null,null,null,null,null,"","","","","","","","","","","","",null,null,null,null,null,"",""]
[null,75,null,"",null,null,null,null,null,null,null,null,null,null,null,"□","□","□","□",null,null,null,"□","□","□","□",null,null,null,"□","□","□","□","□","□",null,"□",null,"□","□",null,null,null,null,"","□","□","□","□","□","□","□",null,{"$f":"IF($G$12=\"\",\"\",IF($BA105=\"\",\"\",HLOOKUP($G$12,別紙mast!$D$4:$K$7,3,FALSE)))","v":""},"",{"$f":"IF($G$12=\"\",\"\",IF($BA105=\"\",\"\",HLOOKUP($G$12,別紙mast!$D$9:$K$11,3,FALSE)))","v":""},"",null,{"$f":"IF($C105=\"\",\"\",IF($G$12=\"\",\"\",HLOOKUP($G$12,別紙mast!$D$4:$K$7,4,FALSE)))","v":""},null,"",null,null,null,null,null,null,"","","","","","","","",null,"","","","","―",null,null,null,null,null,"","","","","","","","","","","","",null,null,null,null,null,"",""]
[null,76,null,"",null,null,null,null,null,null,null,null,null,null,null,"□","□","□","□",null,null,null,"□","□","□","□",null,null,null,"□","□","□","□","□","□",null,"□",null,"□","□",null,null,null,null,"","□","□","□","□","□","□","□",null,{"$f":"IF($G$12=\"\",\"\",IF($BA106=\"\",\"\",HLOOKUP($G$12,別紙mast!$D$4:$K$7,3,FALSE)))","v":""},"",{"$f":"IF($G$12=\"\",\"\",IF($BA106=\"\",\"\",HLOOKUP($G$12,別紙mast!$D$9:$K$11,3,FALSE)))","v":""},"",null,{"$f":"IF($C106=\"\",\"\",IF($G$12=\"\",\"\",HLOOKUP($G$12,別紙mast!$D$4:$K$7,4,FALSE)))","v":""},null,"",null,null,null,null,null,null,"","","","","","","","",null,"","","","","―",null,null,null,null,null,"","","","","","","","","","","","",null,null,null,null,null,"",""]
[null,77,null,"",null,null,null,null,null,null,null,null,null,null,null,"□","□","□","□",null,null,null,"□","□","□","□",null,null,null,"□","□","□","□","□","□",null,"□",null,"□","□",null,null,null,null,"","□","□","□","□","□","□","□",null,{"$f":"IF($G$12=\"\",\"\",IF($BA107=\"\",\"\",HLOOKUP($G$12,別紙mast!$D$4:$K$7,3,FALSE)))","v":""},"",{"$f":"IF($G$12=\"\",\"\",IF($BA107=\"\",\"\",HLOOKUP($G$12,別紙mast!$D$9:$K$11,3,FALSE)))","v":""},"",null,{"$f":"IF($C107=\"\",\"\",IF($G$12=\"\",\"\",HLOOKUP($G$12,別紙mast!$D$4:$K$7,4,FALSE)))","v":""},null,"",null,null,null,null,null,null,"","","","","","","","",null,"","","","","―",null,null,null,null,null,"","","","","","","","","","","","",null,null,null,null,null,"",""]
[null,78,null,"",null,null,null,null,null,null,null,null,null,null,null,"□","□","□","□",null,null,null,"□","□","□","□",null,null,null,"□","□","□","□","□","□",null,"□",null,"□","□",null,null,null,null,"","□","□","□","□","□","□","□",null,{"$f":"IF($G$12=\"\",\"\",IF($BA108=\"\",\"\",HLOOKUP($G$12,別紙mast!$D$4:$K$7,3,FALSE)))","v":""},"",{"$f":"IF($G$12=\"\",\"\",IF($BA108=\"\",\"\",HLOOKUP($G$12,別紙mast!$D$9:$K$11,3,FALSE)))","v":""},"",null,{"$f":"IF($C108=\"\",\"\",IF($G$12=\"\",\"\",HLOOKUP($G$12,別紙mast!$D$4:$K$7,4,FALSE)))","v":""},null,"",null,null,null,null,null,null,"","","","","","","","",null,"","","","","―",null,null,null,null,null,"","","","","","","","","","","","",null,null,null,null,null,"",""]
[null,79,null,"",null,null,null,null,null,null,null,null,null,null,null,"□","□","□","□",null,null,null,"□","□","□","□",null,null,null,"□","□","□","□","□","□",null,"□",null,"□","□",null,null,null,null,"","□","□","□","□","□","□","□",null,{"$f":"IF($G$12=\"\",\"\",IF($BA109=\"\",\"\",HLOOKUP($G$12,別紙mast!$D$4:$K$7,3,FALSE)))","v":""},"",{"$f":"IF($G$12=\"\",\"\",IF($BA109=\"\",\"\",HLOOKUP($G$12,別紙mast!$D$9:$K$11,3,FALSE)))","v":""},"",null,{"$f":"IF($C109=\"\",\"\",IF($G$12=\"\",\"\",HLOOKUP($G$12,別紙mast!$D$4:$K$7,4,FALSE)))","v":""},null,"",null,null,null,null,null,null,"","","","","","","","",null,"","","","","―",null,null,null,null,null,"","","","","","","","","","","","",null,null,null,null,null,"",""]
[null,80,null,"",null,null,null,null,null,null,null,null,null,null,null,"□","□","□","□",null,null,null,"□","□","□","□",null,null,null,"□","□","□","□","□","□",null,"□",null,"□","□",null,null,null,null,"","□","□","□","□","□","□","□",null,{"$f":"IF($G$12=\"\",\"\",IF($BA110=\"\",\"\",HLOOKUP($G$12,別紙mast!$D$4:$K$7,3,FALSE)))","v":""},"",{"$f":"IF($G$12=\"\",\"\",IF($BA110=\"\",\"\",HLOOKUP($G$12,別紙mast!$D$9:$K$11,3,FALSE)))","v":""},"",null,{"$f":"IF($C110=\"\",\"\",IF($G$12=\"\",\"\",HLOOKUP($G$12,別紙mast!$D$4:$K$7,4,FALSE)))","v":""},null,"",null,null,null,null,null,null,"","","","","","","","",null,"","","","","―",null,null,null,null,null,"","","","","","","","","","","","",null,null,null,null,null,"",""]
[null,81,null,"",null,null,null,null,null,null,null,null,null,null,null,"□","□","□","□",null,null,null,"□","□","□","□",null,null,null,"□","□","□","□","□","□",null,"□",null,"□","□",null,null,null,null,"","□","□","□","□","□","□","□",null,{"$f":"IF($G$12=\"\",\"\",IF($BA111=\"\",\"\",HLOOKUP($G$12,別紙mast!$D$4:$K$7,3,FALSE)))","v":""},"",{"$f":"IF($G$12=\"\",\"\",IF($BA111=\"\",\"\",HLOOKUP($G$12,別紙mast!$D$9:$K$11,3,FALSE)))","v":""},"",null,{"$f":"IF($C111=\"\",\"\",IF($G$12=\"\",\"\",HLOOKUP($G$12,別紙mast!$D$4:$K$7,4,FALSE)))","v":""},null,"",null,null,null,null,null,null,"","","","","","","","",null,"","","","","―",null,null,null,null,null,"","","","","","","","","","","","",null,null,null,null,null,"",""]
[null,82,null,"",null,null,null,null,null,null,null,null,null,null,null,"□","□","□","□",null,null,null,"□","□","□","□",null,null,null,"□","□","□","□","□","□",null,"□",null,"□","□",null,null,null,null,"","□","□","□","□","□","□","□",null,{"$f":"IF($G$12=\"\",\"\",IF($BA112=\"\",\"\",HLOOKUP($G$12,別紙mast!$D$4:$K$7,3,FALSE)))","v":""},"",{"$f":"IF($G$12=\"\",\"\",IF($BA112=\"\",\"\",HLOOKUP($G$12,別紙mast!$D$9:$K$11,3,FALSE)))","v":""},"",null,{"$f":"IF($C112=\"\",\"\",IF($G$12=\"\",\"\",HLOOKUP($G$12,別紙mast!$D$4:$K$7,4,FALSE)))","v":""},null,"",null,null,null,null,null,null,"","","","","","","","",null,"","","","","―",null,null,null,null,null,"","","","","","","","","","","","",null,null,null,null,null,"",""]
[null,83,null,"",null,null,null,null,null,null,null,null,null,null,null,"□","□","□","□",null,null,null,"□","□","□","□",null,null,null,"□","□","□","□","□","□",null,"□",null,"□","□",null,null,null,null,"","□","□","□","□","□","□","□",null,{"$f":"IF($G$12=\"\",\"\",IF($BA113=\"\",\"\",HLOOKUP($G$12,別紙mast!$D$4:$K$7,3,FALSE)))","v":""},"",{"$f":"IF($G$12=\"\",\"\",IF($BA113=\"\",\"\",HLOOKUP($G$12,別紙mast!$D$9:$K$11,3,FALSE)))","v":""},"",null,{"$f":"IF($C113=\"\",\"\",IF($G$12=\"\",\"\",HLOOKUP($G$12,別紙mast!$D$4:$K$7,4,FALSE)))","v":""},null,"",null,null,null,null,null,null,"","","","","","","","",null,"","","","","―",null,null,null,null,null,"","","","","","","","","","","","",null,null,null,null,null,"",""]
[null,84,null,"",null,null,null,null,null,null,null,null,null,null,null,"□","□","□","□",null,null,null,"□","□","□","□",null,null,null,"□","□","□","□","□","□",null,"□",null,"□","□",null,null,null,null,"","□","□","□","□","□","□","□",null,{"$f":"IF($G$12=\"\",\"\",IF($BA114=\"\",\"\",HLOOKUP($G$12,別紙mast!$D$4:$K$7,3,FALSE)))","v":""},"",{"$f":"IF($G$12=\"\",\"\",IF($BA114=\"\",\"\",HLOOKUP($G$12,別紙mast!$D$9:$K$11,3,FALSE)))","v":""},"",null,{"$f":"IF($C114=\"\",\"\",IF($G$12=\"\",\"\",HLOOKUP($G$12,別紙mast!$D$4:$K$7,4,FALSE)))","v":""},null,"",null,null,null,null,null,null,"","","","","","","","",null,"","","","","―",null,null,null,null,null,"","","","","","","","","","","","",null,null,null,null,null,"",""]
[null,85,null,"",null,null,null,null,null,null,null,null,null,null,null,"□","□","□","□",null,null,null,"□","□","□","□",null,null,null,"□","□","□","□","□","□",null,"□",null,"□","□",null,null,null,null,"","□","□","□","□","□","□","□",null,{"$f":"IF($G$12=\"\",\"\",IF($BA115=\"\",\"\",HLOOKUP($G$12,別紙mast!$D$4:$K$7,3,FALSE)))","v":""},"",{"$f":"IF($G$12=\"\",\"\",IF($BA115=\"\",\"\",HLOOKUP($G$12,別紙mast!$D$9:$K$11,3,FALSE)))","v":""},"",null,{"$f":"IF($C115=\"\",\"\",IF($G$12=\"\",\"\",HLOOKUP($G$12,別紙mast!$D$4:$K$7,4,FALSE)))","v":""},null,"",null,null,null,null,null,null,"","","","","","","","",null,"","","","","―",null,null,null,null,null,"","","","","","","","","","","","",null,null,null,null,null,"",""]
[null,86,null,"",null,null,null,null,null,null,null,null,null,null,null,"□","□","□","□",null,null,null,"□","□","□","□",null,null,null,"□","□","□","□","□","□",null,"□",null,"□","□",null,null,null,null,"","□","□","□","□","□","□","□",null,{"$f":"IF($G$12=\"\",\"\",IF($BA116=\"\",\"\",HLOOKUP($G$12,別紙mast!$D$4:$K$7,3,FALSE)))","v":""},"",{"$f":"IF($G$12=\"\",\"\",IF($BA116=\"\",\"\",HLOOKUP($G$12,別紙mast!$D$9:$K$11,3,FALSE)))","v":""},"",null,{"$f":"IF($C116=\"\",\"\",IF($G$12=\"\",\"\",HLOOKUP($G$12,別紙mast!$D$4:$K$7,4,FALSE)))","v":""},null,"",null,null,null,null,null,null,"","","","","","","","",null,"","","","","―",null,null,null,null,null,"","","","","","","","","","","","",null,null,null,null,null,"",""]
[null,87,null,"",null,null,null,null,null,null,null,null,null,null,null,"□","□","□","□",null,null,null,"□","□","□","□",null,null,null,"□","□","□","□","□","□",null,"□",null,"□","□",null,null,null,null,"","□","□","□","□","□","□","□",null,{"$f":"IF($G$12=\"\",\"\",IF($BA117=\"\",\"\",HLOOKUP($G$12,別紙mast!$D$4:$K$7,3,FALSE)))","v":""},"",{"$f":"IF($G$12=\"\",\"\",IF($BA117=\"\",\"\",HLOOKUP($G$12,別紙mast!$D$9:$K$11,3,FALSE)))","v":""},"",null,{"$f":"IF($C117=\"\",\"\",IF($G$12=\"\",\"\",HLOOKUP($G$12,別紙mast!$D$4:$K$7,4,FALSE)))","v":""},null,"",null,null,null,null,null,null,"","","","","","","","",null,"","","","","―",null,null,null,null,null,"","","","","","","","","","","","",null,null,null,null,null,"",""]
[null,88,null,"",null,null,null,null,null,null,null,null,null,null,null,"□","□","□","□",null,null,null,"□","□","□","□",null,null,null,"□","□","□","□","□","□",null,"□",null,"□","□",null,null,null,null,"","□","□","□","□","□","□","□",null,{"$f":"IF($G$12=\"\",\"\",IF($BA118=\"\",\"\",HLOOKUP($G$12,別紙mast!$D$4:$K$7,3,FALSE)))","v":""},"",{"$f":"IF($G$12=\"\",\"\",IF($BA118=\"\",\"\",HLOOKUP($G$12,別紙mast!$D$9:$K$11,3,FALSE)))","v":""},"",null,{"$f":"IF($C118=\"\",\"\",IF($G$12=\"\",\"\",HLOOKUP($G$12,別紙mast!$D$4:$K$7,4,FALSE)))","v":""},null,"",null,null,null,null,null,null,"","","","","","","","",null,"","","","","―",null,null,null,null,null,"","","","","","","","","","","","",null,null,null,null,null,"",""]
[null,89,null,"",null,null,null,null,null,null,null,null,null,null,null,"□","□","□","□",null,null,null,"□","□","□","□",null,null,null,"□","□","□","□","□","□",null,"□",null,"□","□",null,null,null,null,"","□","□","□","□","□","□","□",null,{"$f":"IF($G$12=\"\",\"\",IF($BA119=\"\",\"\",HLOOKUP($G$12,別紙mast!$D$4:$K$7,3,FALSE)))","v":""},"",{"$f":"IF($G$12=\"\",\"\",IF($BA119=\"\",\"\",HLOOKUP($G$12,別紙mast!$D$9:$K$11,3,FALSE)))","v":""},"",null,{"$f":"IF($C119=\"\",\"\",IF($G$12=\"\",\"\",HLOOKUP($G$12,別紙mast!$D$4:$K$7,4,FALSE)))","v":""},null,"",null,null,null,null,null,null,"","","","","","","","",null,"","","","","―",null,null,null,null,null,"","","","","","","","","","","","",null,null,null,null,null,"",""]
[null,90,null,"",null,null,null,null,null,null,null,null,null,null,null,"□","□","□","□",null,null,null,"□","□","□","□",null,null,null,"□","□","□","□","□","□",null,"□",null,"□","□",null,null,null,null,"","□","□","□","□","□","□","□",null,{"$f":"IF($G$12=\"\",\"\",IF($BA120=\"\",\"\",HLOOKUP($G$12,別紙mast!$D$4:$K$7,3,FALSE)))","v":""},"",{"$f":"IF($G$12=\"\",\"\",IF($BA120=\"\",\"\",HLOOKUP($G$12,別紙mast!$D$9:$K$11,3,FALSE)))","v":""},"",null,{"$f":"IF($C120=\"\",\"\",IF($G$12=\"\",\"\",HLOOKUP($G$12,別紙mast!$D$4:$K$7,4,FALSE)))","v":""},null,"",null,null,null,null,null,null,"","","","","","","","",null,"","","","","―",null,null,null,null,null,"","","","","","","","","","","","",null,null,null,null,null,"",""]
[null,91,null,"",null,null,null,null,null,null,null,null,null,null,null,"□","□","□","□",null,null,null,"□","□","□","□",null,null,null,"□","□","□","□","□","□",null,"□",null,"□","□",null,null,null,null,"","□","□","□","□","□","□","□",null,{"$f":"IF($G$12=\"\",\"\",IF($BA121=\"\",\"\",HLOOKUP($G$12,別紙mast!$D$4:$K$7,3,FALSE)))","v":""},"",{"$f":"IF($G$12=\"\",\"\",IF($BA121=\"\",\"\",HLOOKUP($G$12,別紙mast!$D$9:$K$11,3,FALSE)))","v":""},"",null,{"$f":"IF($C121=\"\",\"\",IF($G$12=\"\",\"\",HLOOKUP($G$12,別紙mast!$D$4:$K$7,4,FALSE)))","v":""},null,"",null,null,null,null,null,null,"","","","","","","","",null,"","","","","―",null,null,null,null,null,"","","","","","","","","","","","",null,null,null,null,null,"",""]
[null,92,null,"",null,null,null,null,null,null,null,null,null,null,null,"□","□","□","□",null,null,null,"□","□","□","□",null,null,null,"□","□","□","□","□","□",null,"□",null,"□","□",null,null,null,null,"","□","□","□","□","□","□","□",null,{"$f":"IF($G$12=\"\",\"\",IF($BA122=\"\",\"\",HLOOKUP($G$12,別紙mast!$D$4:$K$7,3,FALSE)))","v":""},"",{"$f":"IF($G$12=\"\",\"\",IF($BA122=\"\",\"\",HLOOKUP($G$12,別紙mast!$D$9:$K$11,3,FALSE)))","v":""},"",null,{"$f":"IF($C122=\"\",\"\",IF($G$12=\"\",\"\",HLOOKUP($G$12,別紙mast!$D$4:$K$7,4,FALSE)))","v":""},null,"",null,null,null,null,null,null,"","","","","","","","",null,"","","","","―",null,null,null,null,null,"","","","","","","","","","","","",null,null,null,null,null,"",""]
[null,93,null,"",null,null,null,null,null,null,null,null,null,null,null,"□","□","□","□",null,null,null,"□","□","□","□",null,null,null,"□","□","□","□","□","□",null,"□",null,"□","□",null,null,null,null,"","□","□","□","□","□","□","□",null,{"$f":"IF($G$12=\"\",\"\",IF($BA123=\"\",\"\",HLOOKUP($G$12,別紙mast!$D$4:$K$7,3,FALSE)))","v":""},"",{"$f":"IF($G$12=\"\",\"\",IF($BA123=\"\",\"\",HLOOKUP($G$12,別紙mast!$D$9:$K$11,3,FALSE)))","v":""},"",null,{"$f":"IF($C123=\"\",\"\",IF($G$12=\"\",\"\",HLOOKUP($G$12,別紙mast!$D$4:$K$7,4,FALSE)))","v":""},null,"",null,null,null,null,null,null,"","","","","","","","",null,"","","","","―",null,null,null,null,null,"","","","","","","","","","","","",null,null,null,null,null,"",""]
[null,94,null,"",null,null,null,null,null,null,null,null,null,null,null,"□","□","□","□",null,null,null,"□","□","□","□",null,null,null,"□","□","□","□","□","□",null,"□",null,"□","□",null,null,null,null,"","□","□","□","□","□","□","□",null,{"$f":"IF($G$12=\"\",\"\",IF($BA124=\"\",\"\",HLOOKUP($G$12,別紙mast!$D$4:$K$7,3,FALSE)))","v":""},"",{"$f":"IF($G$12=\"\",\"\",IF($BA124=\"\",\"\",HLOOKUP($G$12,別紙mast!$D$9:$K$11,3,FALSE)))","v":""},"",null,{"$f":"IF($C124=\"\",\"\",IF($G$12=\"\",\"\",HLOOKUP($G$12,別紙mast!$D$4:$K$7,4,FALSE)))","v":""},null,"",null,null,null,null,null,null,"","","","","","","","",null,"","","","","―",null,null,null,null,null,"","","","","","","","","","","","",null,null,null,null,null,"",""]
[null,95,null,"",null,null,null,null,null,null,null,null,null,null,null,"□","□","□","□",null,null,null,"□","□","□","□",null,null,null,"□","□","□","□","□","□",null,"□",null,"□","□",null,null,null,null,"","□","□","□","□","□","□","□",null,{"$f":"IF($G$12=\"\",\"\",IF($BA125=\"\",\"\",HLOOKUP($G$12,別紙mast!$D$4:$K$7,3,FALSE)))","v":""},"",{"$f":"IF($G$12=\"\",\"\",IF($BA125=\"\",\"\",HLOOKUP($G$12,別紙mast!$D$9:$K$11,3,FALSE)))","v":""},"",null,{"$f":"IF($C125=\"\",\"\",IF($G$12=\"\",\"\",HLOOKUP($G$12,別紙mast!$D$4:$K$7,4,FALSE)))","v":""},null,"",null,null,null,null,null,null,"","","","","","","","",null,"","","","","―",null,null,null,null,null,"","","","","","","","","","","","",null,null,null,null,null,"",""]
[null,96,null,"",null,null,null,null,null,null,null,null,null,null,null,"□","□","□","□",null,null,null,"□","□","□","□",null,null,null,"□","□","□","□","□","□",null,"□",null,"□","□",null,null,null,null,"","□","□","□","□","□","□","□",null,{"$f":"IF($G$12=\"\",\"\",IF($BA126=\"\",\"\",HLOOKUP($G$12,別紙mast!$D$4:$K$7,3,FALSE)))","v":""},"",{"$f":"IF($G$12=\"\",\"\",IF($BA126=\"\",\"\",HLOOKUP($G$12,別紙mast!$D$9:$K$11,3,FALSE)))","v":""},"",null,{"$f":"IF($C126=\"\",\"\",IF($G$12=\"\",\"\",HLOOKUP($G$12,別紙mast!$D$4:$K$7,4,FALSE)))","v":""},null,"",null,null,null,null,null,null,"","","","","","","","",null,"","","","","―",null,null,null,null,null,"","","","","","","","","","","","",null,null,null,null,null,"",""]
[null,97,null,"",null,null,null,null,null,null,null,null,null,null,null,"□","□","□","□",null,null,null,"□","□","□","□",null,null,null,"□","□","□","□","□","□",null,"□",null,"□","□",null,null,null,null,{"$f":"IF(AND($AP$28=\"■\",$AO$31<>\"\"),HLOOKUP($AO$31,$BY$30:$CC$230,ROW()-29,1),IF($AO127<>\"\",HLOOKUP($AO127,$BY$30:$CC$230,ROW()-29,1),\"\"))","v":""},"□","□","□","□","□","□","□",null,{"$f":"IF($G$12=\"\",\"\",IF($BA127=\"\",\"\",HLOOKUP($G$12,別紙mast!$D$4:$K$7,3,FALSE)))","v":""},"",{"$f":"IF($G$12=\"\",\"\",IF($BA127=\"\",\"\",HLOOKUP($G$12,別紙mast!$D$9:$K$11,3,FALSE)))","v":""},"",null,{"$f":"IF($C127=\"\",\"\",IF($G$12=\"\",\"\",HLOOKUP($G$12,別紙mast!$D$4:$K$7,4,FALSE)))","v":""},null,"",null,null,null,null,null,null,"","","","","","","","",null,{"$f":"IF(OR(BP127=\"\",BT127=\"\"),\"\",IF(AND($BP127>=20,$BT127>=100,$BC127=\"○\",$BE127=\"○\"),\"○\",\"×\"))","v":""},{"$f":"IF(OR(BP127=\"\",BT127=\"\"),\"\",IF(AND($BP127>=20,$BT127>=100,$BC127=\"適\"),\"×\",IF(AND($BP127>=20,$BT127>=75,$BT127<100,$BC127=\"○\",$BE127=\"○\"),\"○\",\"×\")))","v":""},{"$f":"IF(OR(BP127=\"\",BT127=\"\"),\"\",IF(AND($BP127>=20,$BC127=\"○\",$BE127=\"○\"),\"○\",\"×\"))","v":""},{"$f":"IF(OR(BP127=\"\",BT127=\"\"),\"\",IF(AND($BP127>=20,$BT127>=50,$BT127<75,$BC127=\"○\",$BE127=\"○\"),\"○\",\"×\"))","v":""},"―",null,null,null,null,null,{"$f":"IF(OR($CE127=\"\",$BJ127=\"\"),\"\",$CE127*$J127)","v":""},{"$f":"IF(OR($CF127=\"\",$BJ127=\"\"),\"\",$CF127*$J127)","v":""},{"$f":"IF(OR($CG127=\"\",$BJ127=\"\"),\"\",$CG127*$J127)","v":""},{"$f":"IF(OR($CH127=\"\",$BJ127=\"\"),\"\",$CH127*$J127)","v":""},"","","","",{"$f":"IF($BJ127=\"\",\"\",IF($O$5=\"■\",0,SUM($BN127*$J127)))","v":""},{"$f":"IF($BJ127=\"\",\"\",IF($O$5=\"■\",0,SUM($BO127*$J127)))","v":""},"",{"$f":"IF($CW127=\"\",\"\",IF($O$5=\"■\",SUM($CW127-$DA127),SUM($CW127-$CZ127)))","v":""},null,null,null,null,null,{"$f":"IF($BJ127=\"\",\"\",IF(($BL127-$BJ127-$BN127)*0.001>=0,ROUNDUP(($BL127-$BJ127-$BN127)*0.001,1),ROUNDDOWN(($BL127-$BJ127-$BN127)*0.001,1)))&\"\"","v":""},{"$f":"IF($BJ127=\"\",\"\",IF(($BK127-$BJ127-$BN127)*0.001>=0,ROUNDUP(($BK127-$BJ127-$BN127)*0.001,1),ROUNDDOWN(($BK127-$BJ127-$BN127)*0.001,1)))&\"\"","v":""}]
[null,98,null,"",null,null,null,null,null,null,null,null,null,null,null,"□","□","□","□",null,null,null,"□","□","□","□",null,null,null,"□","□","□","□","□","□",null,"□",null,"□","□",null,null,null,null,"","□","□","□","□","□","□","□",null,{"$f":"IF($G$12=\"\",\"\",IF($BA128=\"\",\"\",HLOOKUP($G$12,別紙mast!$D$4:$K$7,3,FALSE)))","v":""},"",{"$f":"IF($G$12=\"\",\"\",IF($BA128=\"\",\"\",HLOOKUP($G$12,別紙mast!$D$9:$K$11,3,FALSE)))","v":""},"",null,{"$f":"IF($C128=\"\",\"\",IF($G$12=\"\",\"\",HLOOKUP($G$12,別紙mast!$D$4:$K$7,4,FALSE)))","v":""},null,"",null,null,null,null,null,null,"","","","","","","","",null,"","","","","―",null,null,null,null,null,"","","","","","","","","","","","",null,null,null,null,null,"",""]
[null,99,null,"",null,null,null,null,null,null,null,null,null,null,null,"□","□","□","□",null,null,null,"□","□","□","□",null,null,null,"□","□","□","□","□","□",null,"□",null,"□","□",null,null,null,null,"","□","□","□","□","□","□","□",null,{"$f":"IF($G$12=\"\",\"\",IF($BA129=\"\",\"\",HLOOKUP($G$12,別紙mast!$D$4:$K$7,3,FALSE)))","v":""},"",{"$f":"IF($G$12=\"\",\"\",IF($BA129=\"\",\"\",HLOOKUP($G$12,別紙mast!$D$9:$K$11,3,FALSE)))","v":""},"",null,{"$f":"IF($C129=\"\",\"\",IF($G$12=\"\",\"\",HLOOKUP($G$12,別紙mast!$D$4:$K$7,4,FALSE)))","v":""},null,"",null,null,null,null,null,null,"","","","","","","","",null,"","","","","―",null,null,null,null,null,"","","","","","","","","","","","",null,null,null,null,null,"",""]
[null,100,null,"",null,null,null,null,null,null,null,null,null,null,null,"□","□","□","□",null,null,null,"□","□","□","□",null,null,null,"□","□","□","□","□","□",null,"□",null,"□","□",null,null,null,null,"","□","□","□","□","□","□","□",null,{"$f":"IF($G$12=\"\",\"\",IF($BA130=\"\",\"\",HLOOKUP($G$12,別紙mast!$D$4:$K$7,3,FALSE)))","v":""},"",{"$f":"IF($G$12=\"\",\"\",IF($BA130=\"\",\"\",HLOOKUP($G$12,別紙mast!$D$9:$K$11,3,FALSE)))","v":""},"",null,{"$f":"IF($C130=\"\",\"\",IF($G$12=\"\",\"\",HLOOKUP($G$12,別紙mast!$D$4:$K$7,4,FALSE)))","v":""},null,"",null,null,null,null,null,null,"","","","","","","","",null,"","","","","―",null,null,null,null,null,"","","","","","","","","","","","",null,null,null,null,null,"",""]
[null,101,null,"",null,null,null,null,null,null,null,null,null,null,null,"□","□","□","□",null,null,null,"□","□","□","□",null,null,null,"□","□","□","□","□","□",null,"□",null,"□","□",null,null,null,null,"","□","□","□","□","□","□","□",null,{"$f":"IF($G$12=\"\",\"\",IF($BA131=\"\",\"\",HLOOKUP($G$12,別紙mast!$D$4:$K$7,3,FALSE)))","v":""},"",{"$f":"IF($G$12=\"\",\"\",IF($BA131=\"\",\"\",HLOOKUP($G$12,別紙mast!$D$9:$K$11,3,FALSE)))","v":""},"",null,{"$f":"IF($C131=\"\",\"\",IF($G$12=\"\",\"\",HLOOKUP($G$12,別紙mast!$D$4:$K$7,4,FALSE)))","v":""},null,"",null,null,null,null,null,null,"","","","","","","","",null,"","","","","―",null,null,null,null,null,"","","","","","","","","","","","",null,null,null,null,null,"",""]
[null,102,null,"",null,null,null,null,null,null,null,null,null,null,null,"□","□","□","□",null,null,null,"□","□","□","□",null,null,null,"□","□","□","□","□","□",null,"□",null,"□","□",null,null,null,null,"","□","□","□","□","□","□","□",null,{"$f":"IF($G$12=\"\",\"\",IF($BA132=\"\",\"\",HLOOKUP($G$12,別紙mast!$D$4:$K$7,3,FALSE)))","v":""},"",{"$f":"IF($G$12=\"\",\"\",IF($BA132=\"\",\"\",HLOOKUP($G$12,別紙mast!$D$9:$K$11,3,FALSE)))","v":""},"",null,{"$f":"IF($C132=\"\",\"\",IF($G$12=\"\",\"\",HLOOKUP($G$12,別紙mast!$D$4:$K$7,4,FALSE)))","v":""},null,"",null,null,null,null,null,null,"","","","","","","","",null,"","","","","―",null,null,null,null,null,"","","","","","","","","","","","",null,null,null,null,null,"",""]
[null,103,null,"",null,null,null,null,null,null,null,null,null,null,null,"□","□","□","□",null,null,null,"□","□","□","□",null,null,null,"□","□","□","□","□","□",null,"□",null,"□","□",null,null,null,null,"","□","□","□","□","□","□","□",null,{"$f":"IF($G$12=\"\",\"\",IF($BA133=\"\",\"\",HLOOKUP($G$12,別紙mast!$D$4:$K$7,3,FALSE)))","v":""},"",{"$f":"IF($G$12=\"\",\"\",IF($BA133=\"\",\"\",HLOOKUP($G$12,別紙mast!$D$9:$K$11,3,FALSE)))","v":""},"",null,{"$f":"IF($C133=\"\",\"\",IF($G$12=\"\",\"\",HLOOKUP($G$12,別紙mast!$D$4:$K$7,4,FALSE)))","v":""},null,"",null,null,null,null,null,null,"","","","","","","","",null,"","","","","―",null,null,null,null,null,"","","","","","","","","","","","",null,null,null,null,null,"",""]
[null,104,null,"",null,null,null,null,null,null,null,null,null,null,null,"□","□","□","□",null,null,null,"□","□","□","□",null,null,null,"□","□","□","□","□","□",null,"□",null,"□","□",null,null,null,null,"","□","□","□","□","□","□","□",null,{"$f":"IF($G$12=\"\",\"\",IF($BA134=\"\",\"\",HLOOKUP($G$12,別紙mast!$D$4:$K$7,3,FALSE)))","v":""},"",{"$f":"IF($G$12=\"\",\"\",IF($BA134=\"\",\"\",HLOOKUP($G$12,別紙mast!$D$9:$K$11,3,FALSE)))","v":""},"",null,{"$f":"IF($C134=\"\",\"\",IF($G$12=\"\",\"\",HLOOKUP($G$12,別紙mast!$D$4:$K$7,4,FALSE)))","v":""},null,"",null,null,null,null,null,null,"","","","","","","","",null,"","","","","―",null,null,null,null,null,"","","","","","","","","","","","",null,null,null,null,null,"",""]
[null,105,null,"",null,null,null,null,null,null,null,null,null,null,null,"□","□","□","□",null,null,null,"□","□","□","□",null,null,null,"□","□","□","□","□","□",null,"□",null,"□","□",null,null,null,null,"","□","□","□","□","□","□","□",null,{"$f":"IF($G$12=\"\",\"\",IF($BA135=\"\",\"\",HLOOKUP($G$12,別紙mast!$D$4:$K$7,3,FALSE)))","v":""},"",{"$f":"IF($G$12=\"\",\"\",IF($BA135=\"\",\"\",HLOOKUP($G$12,別紙mast!$D$9:$K$11,3,FALSE)))","v":""},"",null,{"$f":"IF($C135=\"\",\"\",IF($G$12=\"\",\"\",HLOOKUP($G$12,別紙mast!$D$4:$K$7,4,FALSE)))","v":""},null,"",null,null,null,null,null,null,"","","","","","","","",null,"","","","","―",null,null,null,null,null,"","","","","","","","","","","","",null,null,null,null,null,"",""]
[null,106,null,"",null,null,null,null,null,null,null,null,null,null,null,"□","□","□","□",null,null,null,"□","□","□","□",null,null,null,"□","□","□","□","□","□",null,"□",null,"□","□",null,null,null,null,"","□","□","□","□","□","□","□",null,{"$f":"IF($G$12=\"\",\"\",IF($BA136=\"\",\"\",HLOOKUP($G$12,別紙mast!$D$4:$K$7,3,FALSE)))","v":""},"",{"$f":"IF($G$12=\"\",\"\",IF($BA136=\"\",\"\",HLOOKUP($G$12,別紙mast!$D$9:$K$11,3,FALSE)))","v":""},"",null,{"$f":"IF($C136=\"\",\"\",IF($G$12=\"\",\"\",HLOOKUP($G$12,別紙mast!$D$4:$K$7,4,FALSE)))","v":""},null,"",null,null,null,null,null,null,"","","","","","","","",null,"","","","","―",null,null,null,null,null,"","","","","","","","","","","","",null,null,null,null,null,"",""]
[null,107,null,"",null,null,null,null,null,null,null,null,null,null,null,"□","□","□","□",null,null,null,"□","□","□","□",null,null,null,"□","□","□","□","□","□",null,"□",null,"□","□",null,null,null,null,"","□","□","□","□","□","□","□",null,{"$f":"IF($G$12=\"\",\"\",IF($BA137=\"\",\"\",HLOOKUP($G$12,別紙mast!$D$4:$K$7,3,FALSE)))","v":""},"",{"$f":"IF($G$12=\"\",\"\",IF($BA137=\"\",\"\",HLOOKUP($G$12,別紙mast!$D$9:$K$11,3,FALSE)))","v":""},"",null,{"$f":"IF($C137=\"\",\"\",IF($G$12=\"\",\"\",HLOOKUP($G$12,別紙mast!$D$4:$K$7,4,FALSE)))","v":""},null,"",null,null,null,null,null,null,"","","","","","","","",null,"","","","","―",null,null,null,null,null,"","","","","","","","","","","","",null,null,null,null,null,"",""]
[null,108,null,"",null,null,null,null,null,null,null,null,null,null,null,"□","□","□","□",null,null,null,"□","□","□","□",null,null,null,"□","□","□","□","□","□",null,"□",null,"□","□",null,null,null,null,"","□","□","□","□","□","□","□",null,{"$f":"IF($G$12=\"\",\"\",IF($BA138=\"\",\"\",HLOOKUP($G$12,別紙mast!$D$4:$K$7,3,FALSE)))","v":""},"",{"$f":"IF($G$12=\"\",\"\",IF($BA138=\"\",\"\",HLOOKUP($G$12,別紙mast!$D$9:$K$11,3,FALSE)))","v":""},"",null,{"$f":"IF($C138=\"\",\"\",IF($G$12=\"\",\"\",HLOOKUP($G$12,別紙mast!$D$4:$K$7,4,FALSE)))","v":""},null,"",null,null,null,null,null,null,"","","","","","","","",null,"","","","","―",null,null,null,null,null,"","","","","","","","","","","","",null,null,null,null,null,"",""]
[null,109,null,"",null,null,null,null,null,null,null,null,null,null,null,"□","□","□","□",null,null,null,"□","□","□","□",null,null,null,"□","□","□","□","□","□",null,"□",null,"□","□",null,null,null,null,"","□","□","□","□","□","□","□",null,{"$f":"IF($G$12=\"\",\"\",IF($BA139=\"\",\"\",HLOOKUP($G$12,別紙mast!$D$4:$K$7,3,FALSE)))","v":""},"",{"$f":"IF($G$12=\"\",\"\",IF($BA139=\"\",\"\",HLOOKUP($G$12,別紙mast!$D$9:$K$11,3,FALSE)))","v":""},"",null,{"$f":"IF($C139=\"\",\"\",IF($G$12=\"\",\"\",HLOOKUP($G$12,別紙mast!$D$4:$K$7,4,FALSE)))","v":""},null,"",null,null,null,null,null,null,"","","","","","","","",null,"","","","","―",null,null,null,null,null,"","","","","","","","","","","","",null,null,null,null,null,"",""]
[null,110,null,"",null,null,null,null,null,null,null,null,null,null,null,"□","□","□","□",null,null,null,"□","□","□","□",null,null,null,"□","□","□","□","□","□",null,"□",null,"□","□",null,null,null,null,"","□","□","□","□","□","□","□",null,{"$f":"IF($G$12=\"\",\"\",IF($BA140=\"\",\"\",HLOOKUP($G$12,別紙mast!$D$4:$K$7,3,FALSE)))","v":""},"",{"$f":"IF($G$12=\"\",\"\",IF($BA140=\"\",\"\",HLOOKUP($G$12,別紙mast!$D$9:$K$11,3,FALSE)))","v":""},"",null,{"$f":"IF($C140=\"\",\"\",IF($G$12=\"\",\"\",HLOOKUP($G$12,別紙mast!$D$4:$K$7,4,FALSE)))","v":""},null,"",null,null,null,null,null,null,"","","","","","","","",null,"","","","","―",null,null,null,null,null,"","","","","","","","","","","","",null,null,null,null,null,"",""]
[null,111,null,"",null,null,null,null,null,null,null,null,null,null,null,"□","□","□","□",null,null,null,"□","□","□","□",null,null,null,"□","□","□","□","□","□",null,"□",null,"□","□",null,null,null,null,"","□","□","□","□","□","□","□",null,{"$f":"IF($G$12=\"\",\"\",IF($BA141=\"\",\"\",HLOOKUP($G$12,別紙mast!$D$4:$K$7,3,FALSE)))","v":""},"",{"$f":"IF($G$12=\"\",\"\",IF($BA141=\"\",\"\",HLOOKUP($G$12,別紙mast!$D$9:$K$11,3,FALSE)))","v":""},"",null,{"$f":"IF($C141=\"\",\"\",IF($G$12=\"\",\"\",HLOOKUP($G$12,別紙mast!$D$4:$K$7,4,FALSE)))","v":""},null,"",null,null,null,null,null,null,"","","","","","","","",null,"","","","","―",null,null,null,null,null,"","","","","","","","","","","","",null,null,null,null,null,"",""]
[null,112,null,"",null,null,null,null,null,null,null,null,null,null,null,"□","□","□","□",null,null,null,"□","□","□","□",null,null,null,"□","□","□","□","□","□",null,"□",null,"□","□",null,null,null,null,"","□","□","□","□","□","□","□",null,{"$f":"IF($G$12=\"\",\"\",IF($BA142=\"\",\"\",HLOOKUP($G$12,別紙mast!$D$4:$K$7,3,FALSE)))","v":""},"",{"$f":"IF($G$12=\"\",\"\",IF($BA142=\"\",\"\",HLOOKUP($G$12,別紙mast!$D$9:$K$11,3,FALSE)))","v":""},"",null,{"$f":"IF($C142=\"\",\"\",IF($G$12=\"\",\"\",HLOOKUP($G$12,別紙mast!$D$4:$K$7,4,FALSE)))","v":""},null,"",null,null,null,null,null,null,"","","","","","","","",null,"","","","","―",null,null,null,null,null,"","","","","","","","","","","","",null,null,null,null,null,"",""]
[null,113,null,"",null,null,null,null,null,null,null,null,null,null,null,"□","□","□","□",null,null,null,"□","□","□","□",null,null,null,"□","□","□","□","□","□",null,"□",null,"□","□",null,null,null,null,"","□","□","□","□","□","□","□",null,{"$f":"IF($G$12=\"\",\"\",IF($BA143=\"\",\"\",HLOOKUP($G$12,別紙mast!$D$4:$K$7,3,FALSE)))","v":""},"",{"$f":"IF($G$12=\"\",\"\",IF($BA143=\"\",\"\",HLOOKUP($G$12,別紙mast!$D$9:$K$11,3,FALSE)))","v":""},"",null,{"$f":"IF($C143=\"\",\"\",IF($G$12=\"\",\"\",HLOOKUP($G$12,別紙mast!$D$4:$K$7,4,FALSE)))","v":""},null,"",null,null,null,null,null,null,"","","","","","","","",null,"","","","","―",null,null,null,null,null,"","","","","","","","","","","","",null,null,null,null,null,"",""]
[null,114,null,"",null,null,null,null,null,null,null,null,null,null,null,"□","□","□","□",null,null,null,"□","□","□","□",null,null,null,"□","□","□","□","□","□",null,"□",null,"□","□",null,null,null,null,"","□","□","□","□","□","□","□",null,{"$f":"IF($G$12=\"\",\"\",IF($BA144=\"\",\"\",HLOOKUP($G$12,別紙mast!$D$4:$K$7,3,FALSE)))","v":""},"",{"$f":"IF($G$12=\"\",\"\",IF($BA144=\"\",\"\",HLOOKUP($G$12,別紙mast!$D$9:$K$11,3,FALSE)))","v":""},"",null,{"$f":"IF($C144=\"\",\"\",IF($G$12=\"\",\"\",HLOOKUP($G$12,別紙mast!$D$4:$K$7,4,FALSE)))","v":""},null,"",null,null,null,null,null,null,"","","","","","","","",null,"","","","","―",null,null,null,null,null,"","","","","","","","","","","","",null,null,null,null,null,"",""]
[null,115,null,"",null,null,null,null,null,null,null,null,null,null,null,"□","□","□","□",null,null,null,"□","□","□","□",null,null,null,"□","□","□","□","□","□",null,"□",null,"□","□",null,null,null,null,"","□","□","□","□","□","□","□",null,{"$f":"IF($G$12=\"\",\"\",IF($BA145=\"\",\"\",HLOOKUP($G$12,別紙mast!$D$4:$K$7,3,FALSE)))","v":""},"",{"$f":"IF($G$12=\"\",\"\",IF($BA145=\"\",\"\",HLOOKUP($G$12,別紙mast!$D$9:$K$11,3,FALSE)))","v":""},"",null,{"$f":"IF($C145=\"\",\"\",IF($G$12=\"\",\"\",HLOOKUP($G$12,別紙mast!$D$4:$K$7,4,FALSE)))","v":""},null,"",null,null,null,null,null,null,"","","","","","","","",null,"","","","","―",null,null,null,null,null,"","","","","","","","","","","","",null,null,null,null,null,"",""]
[null,116,null,"",null,null,null,null,null,null,null,null,null,null,null,"□","□","□","□",null,null,null,"□","□","□","□",null,null,null,"□","□","□","□","□","□",null,"□",null,"□","□",null,null,null,null,"","□","□","□","□","□","□","□",null,{"$f":"IF($G$12=\"\",\"\",IF($BA146=\"\",\"\",HLOOKUP($G$12,別紙mast!$D$4:$K$7,3,FALSE)))","v":""},"",{"$f":"IF($G$12=\"\",\"\",IF($BA146=\"\",\"\",HLOOKUP($G$12,別紙mast!$D$9:$K$11,3,FALSE)))","v":""},"",null,{"$f":"IF($C146=\"\",\"\",IF($G$12=\"\",\"\",HLOOKUP($G$12,別紙mast!$D$4:$K$7,4,FALSE)))","v":""},null,"",null,null,null,null,null,null,"","","","","","","","",null,"","","","","―",null,null,null,null,null,"","","","","","","","","","","","",null,null,null,null,null,"",""]
[null,117,null,"",null,null,null,null,null,null,null,null,null,null,null,"□","□","□","□",null,null,null,"□","□","□","□",null,null,null,"□","□","□","□","□","□",null,"□",null,"□","□",null,null,null,null,"","□","□","□","□","□","□","□",null,{"$f":"IF($G$12=\"\",\"\",IF($BA147=\"\",\"\",HLOOKUP($G$12,別紙mast!$D$4:$K$7,3,FALSE)))","v":""},"",{"$f":"IF($G$12=\"\",\"\",IF($BA147=\"\",\"\",HLOOKUP($G$12,別紙mast!$D$9:$K$11,3,FALSE)))","v":""},"",null,{"$f":"IF($C147=\"\",\"\",IF($G$12=\"\",\"\",HLOOKUP($G$12,別紙mast!$D$4:$K$7,4,FALSE)))","v":""},null,"",null,null,null,null,null,null,"","","","","","","","",null,"","","","","―",null,null,null,null,null,"","","","","","","","","","","","",null,null,null,null,null,"",""]
[null,118,null,"",null,null,null,null,null,null,null,null,null,null,null,"□","□","□","□",null,null,null,"□","□","□","□",null,null,null,"□","□","□","□","□","□",null,"□",null,"□","□",null,null,null,null,"","□","□","□","□","□","□","□",null,{"$f":"IF($G$12=\"\",\"\",IF($BA148=\"\",\"\",HLOOKUP($G$12,別紙mast!$D$4:$K$7,3,FALSE)))","v":""},"",{"$f":"IF($G$12=\"\",\"\",IF($BA148=\"\",\"\",HLOOKUP($G$12,別紙mast!$D$9:$K$11,3,FALSE)))","v":""},"",null,{"$f":"IF($C148=\"\",\"\",IF($G$12=\"\",\"\",HLOOKUP($G$12,別紙mast!$D$4:$K$7,4,FALSE)))","v":""},null,"",null,null,null,null,null,null,"","","","","","","","",null,"","","","","―",null,null,null,null,null,"","","","","","","","","","","","",null,null,null,null,null,"",""]
[null,119,null,"",null,null,null,null,null,null,null,null,null,null,null,"□","□","□","□",null,null,null,"□","□","□","□",null,null,null,"□","□","□","□","□","□",null,"□",null,"□","□",null,null,null,null,"","□","□","□","□","□","□","□",null,{"$f":"IF($G$12=\"\",\"\",IF($BA149=\"\",\"\",HLOOKUP($G$12,別紙mast!$D$4:$K$7,3,FALSE)))","v":""},"",{"$f":"IF($G$12=\"\",\"\",IF($BA149=\"\",\"\",HLOOKUP($G$12,別紙mast!$D$9:$K$11,3,FALSE)))","v":""},"",null,{"$f":"IF($C149=\"\",\"\",IF($G$12=\"\",\"\",HLOOKUP($G$12,別紙mast!$D$4:$K$7,4,FALSE)))","v":""},null,"",null,null,null,null,null,null,"","","","","","","","",null,"","","","","―",null,null,null,null,null,"","","","","","","","","","","","",null,null,null,null,null,"",""]
[null,120,null,"",null,null,null,null,null,null,null,null,null,null,null,"□","□","□","□",null,null,null,"□","□","□","□",null,null,null,"□","□","□","□","□","□",null,"□",null,"□","□",null,null,null,null,"","□","□","□","□","□","□","□",null,{"$f":"IF($G$12=\"\",\"\",IF($BA150=\"\",\"\",HLOOKUP($G$12,別紙mast!$D$4:$K$7,3,FALSE)))","v":""},"",{"$f":"IF($G$12=\"\",\"\",IF($BA150=\"\",\"\",HLOOKUP($G$12,別紙mast!$D$9:$K$11,3,FALSE)))","v":""},"",null,{"$f":"IF($C150=\"\",\"\",IF($G$12=\"\",\"\",HLOOKUP($G$12,別紙mast!$D$4:$K$7,4,FALSE)))","v":""},null,"",null,null,null,null,null,null,"","","","","","","","",null,"","","","","―",null,null,null,null,null,"","","","","","","","","","","","",null,null,null,null,null,"",""]
[null,121,null,"",null,null,null,null,null,null,null,null,null,null,null,"□","□","□","□",null,null,null,"□","□","□","□",null,null,null,"□","□","□","□","□","□",null,"□",null,"□","□",null,null,null,null,"","□","□","□","□","□","□","□",null,{"$f":"IF($G$12=\"\",\"\",IF($BA151=\"\",\"\",HLOOKUP($G$12,別紙mast!$D$4:$K$7,3,FALSE)))","v":""},"",{"$f":"IF($G$12=\"\",\"\",IF($BA151=\"\",\"\",HLOOKUP($G$12,別紙mast!$D$9:$K$11,3,FALSE)))","v":""},"",null,{"$f":"IF($C151=\"\",\"\",IF($G$12=\"\",\"\",HLOOKUP($G$12,別紙mast!$D$4:$K$7,4,FALSE)))","v":""},null,"",null,null,null,null,null,null,"","","","","","","","",null,"","","","","―",null,null,null,null,null,"","","","","","","","","","","","",null,null,null,null,null,"",""]
[null,122,null,"",null,null,null,null,null,null,null,null,null,null,null,"□","□","□","□",null,null,null,"□","□","□","□",null,null,null,"□","□","□","□","□","□",null,"□",null,"□","□",null,null,null,null,"","□","□","□","□","□","□","□",null,{"$f":"IF($G$12=\"\",\"\",IF($BA152=\"\",\"\",HLOOKUP($G$12,別紙mast!$D$4:$K$7,3,FALSE)))","v":""},"",{"$f":"IF($G$12=\"\",\"\",IF($BA152=\"\",\"\",HLOOKUP($G$12,別紙mast!$D$9:$K$11,3,FALSE)))","v":""},"",null,{"$f":"IF($C152=\"\",\"\",IF($G$12=\"\",\"\",HLOOKUP($G$12,別紙mast!$D$4:$K$7,4,FALSE)))","v":""},null,"",null,null,null,null,null,null,"","","","","","","","",null,"","","","","―",null,null,null,null,null,"","","","","","","","","","","","",null,null,null,null,null,"",""]
[null,123,null,"",null,null,null,null,null,null,null,null,null,null,null,"□","□","□","□",null,null,null,"□","□","□","□",null,null,null,"□","□","□","□","□","□",null,"□",null,"□","□",null,null,null,null,"","□","□","□","□","□","□","□",null,{"$f":"IF($G$12=\"\",\"\",IF($BA153=\"\",\"\",HLOOKUP($G$12,別紙mast!$D$4:$K$7,3,FALSE)))","v":""},"",{"$f":"IF($G$12=\"\",\"\",IF($BA153=\"\",\"\",HLOOKUP($G$12,別紙mast!$D$9:$K$11,3,FALSE)))","v":""},"",null,{"$f":"IF($C153=\"\",\"\",IF($G$12=\"\",\"\",HLOOKUP($G$12,別紙mast!$D$4:$K$7,4,FALSE)))","v":""},null,"",null,null,null,null,null,null,"","","","","","","","",null,"","","","","―",null,null,null,null,null,"","","","","","","","","","","","",null,null,null,null,null,"",""]
[null,124,null,"",null,null,null,null,null,null,null,null,null,null,null,"□","□","□","□",null,null,null,"□","□","□","□",null,null,null,"□","□","□","□","□","□",null,"□",null,"□","□",null,null,null,null,"","□","□","□","□","□","□","□",null,{"$f":"IF($G$12=\"\",\"\",IF($BA154=\"\",\"\",HLOOKUP($G$12,別紙mast!$D$4:$K$7,3,FALSE)))","v":""},"",{"$f":"IF($G$12=\"\",\"\",IF($BA154=\"\",\"\",HLOOKUP($G$12,別紙mast!$D$9:$K$11,3,FALSE)))","v":""},"",null,{"$f":"IF($C154=\"\",\"\",IF($G$12=\"\",\"\",HLOOKUP($G$12,別紙mast!$D$4:$K$7,4,FALSE)))","v":""},null,"",null,null,null,null,null,null,"","","","","","","","",null,"","","","","―",null,null,null,null,null,"","","","","","","","","","","","",null,null,null,null,null,"",""]
[null,125,null,"",null,null,null,null,null,null,null,null,null,null,null,"□","□","□","□",null,null,null,"□","□","□","□",null,null,null,"□","□","□","□","□","□",null,"□",null,"□","□",null,null,null,null,"","□","□","□","□","□","□","□",null,{"$f":"IF($G$12=\"\",\"\",IF($BA155=\"\",\"\",HLOOKUP($G$12,別紙mast!$D$4:$K$7,3,FALSE)))","v":""},"",{"$f":"IF($G$12=\"\",\"\",IF($BA155=\"\",\"\",HLOOKUP($G$12,別紙mast!$D$9:$K$11,3,FALSE)))","v":""},"",null,{"$f":"IF($C155=\"\",\"\",IF($G$12=\"\",\"\",HLOOKUP($G$12,別紙mast!$D$4:$K$7,4,FALSE)))","v":""},null,"",null,null,null,null,null,null,"","","","","","","","",null,"","","","","―",null,null,null,null,null,"","","","","","","","","","","","",null,null,null,null,null,"",""]
[null,126,null,"",null,null,null,null,null,null,null,null,null,null,null,"□","□","□","□",null,null,null,"□","□","□","□",null,null,null,"□","□","□","□","□","□",null,"□",null,"□","□",null,null,null,null,"","□","□","□","□","□","□","□",null,{"$f":"IF($G$12=\"\",\"\",IF($BA156=\"\",\"\",HLOOKUP($G$12,別紙mast!$D$4:$K$7,3,FALSE)))","v":""},"",{"$f":"IF($G$12=\"\",\"\",IF($BA156=\"\",\"\",HLOOKUP($G$12,別紙mast!$D$9:$K$11,3,FALSE)))","v":""},"",null,{"$f":"IF($C156=\"\",\"\",IF($G$12=\"\",\"\",HLOOKUP($G$12,別紙mast!$D$4:$K$7,4,FALSE)))","v":""},null,"",null,null,null,null,null,null,"","","","","","","","",null,"","","","","―",null,null,null,null,null,"","","","","","","","","","","","",null,null,null,null,null,"",""]
[null,127,null,"",null,null,null,null,null,null,null,null,null,null,null,"□","□","□","□",null,null,null,"□","□","□","□",null,null,null,"□","□","□","□","□","□",null,"□",null,"□","□",null,null,null,null,"","□","□","□","□","□","□","□",null,{"$f":"IF($G$12=\"\",\"\",IF($BA157=\"\",\"\",HLOOKUP($G$12,別紙mast!$D$4:$K$7,3,FALSE)))","v":""},"",{"$f":"IF($G$12=\"\",\"\",IF($BA157=\"\",\"\",HLOOKUP($G$12,別紙mast!$D$9:$K$11,3,FALSE)))","v":""},"",null,{"$f":"IF($C157=\"\",\"\",IF($G$12=\"\",\"\",HLOOKUP($G$12,別紙mast!$D$4:$K$7,4,FALSE)))","v":""},null,"",null,null,null,null,null,null,"","","","","","","","",null,"","","","","―",null,null,null,null,null,"","","","","","","","","","","","",null,null,null,null,null,"",""]
[null,128,null,"",null,null,null,null,null,null,null,null,null,null,null,"□","□","□","□",null,null,null,"□","□","□","□",null,null,null,"□","□","□","□","□","□",null,"□",null,"□","□",null,null,null,null,"","□","□","□","□","□","□","□",null,{"$f":"IF($G$12=\"\",\"\",IF($BA158=\"\",\"\",HLOOKUP($G$12,別紙mast!$D$4:$K$7,3,FALSE)))","v":""},"",{"$f":"IF($G$12=\"\",\"\",IF($BA158=\"\",\"\",HLOOKUP($G$12,別紙mast!$D$9:$K$11,3,FALSE)))","v":""},"",null,{"$f":"IF($C158=\"\",\"\",IF($G$12=\"\",\"\",HLOOKUP($G$12,別紙mast!$D$4:$K$7,4,FALSE)))","v":""},null,"",null,null,null,null,null,null,"","","","","","","","",null,"","","","","―",null,null,null,null,null,"","","","","","","","","","","","",null,null,null,null,null,"",""]
[null,129,null,"",null,null,null,null,null,null,null,null,null,null,null,"□","□","□","□",null,null,null,"□","□","□","□",null,null,null,"□","□","□","□","□","□",null,"□",null,"□","□",null,null,null,null,{"$f":"IF(AND($AP$28=\"■\",$AO$31<>\"\"),HLOOKUP($AO$31,$BY$30:$CC$230,ROW()-29,1),IF($AO159<>\"\",HLOOKUP($AO159,$BY$30:$CC$230,ROW()-29,1),\"\"))","v":""},"□","□","□","□","□","□","□",null,{"$f":"IF($G$12=\"\",\"\",IF($BA159=\"\",\"\",HLOOKUP($G$12,別紙mast!$D$4:$K$7,3,FALSE)))","v":""},"",{"$f":"IF($G$12=\"\",\"\",IF($BA159=\"\",\"\",HLOOKUP($G$12,別紙mast!$D$9:$K$11,3,FALSE)))","v":""},"",null,{"$f":"IF($C159=\"\",\"\",IF($G$12=\"\",\"\",HLOOKUP($G$12,別紙mast!$D$4:$K$7,4,FALSE)))","v":""},null,"",null,null,null,null,null,null,{"$f":"IF($C159=\"\",\"\",TRUNC(($CS159/$CW159)*100))","v":""},"","","","","","","",null,{"$f":"IF(OR(BP159=\"\",BT159=\"\"),\"\",IF(AND($BP159>=20,$BT159>=100,$BC159=\"○\",$BE159=\"○\"),\"○\",\"×\"))","v":""},{"$f":"IF(OR(BP159=\"\",BT159=\"\"),\"\",IF(AND($BP159>=20,$BT159>=100,$BC159=\"適\"),\"×\",IF(AND($BP159>=20,$BT159>=75,$BT159<100,$BC159=\"○\",$BE159=\"○\"),\"○\",\"×\")))","v":""},{"$f":"IF(OR(BP159=\"\",BT159=\"\"),\"\",IF(AND($BP159>=20,$BC159=\"○\",$BE159=\"○\"),\"○\",\"×\"))","v":""},{"$f":"IF(OR(BP159=\"\",BT159=\"\"),\"\",IF(AND($BP159>=20,$BT159>=50,$BT159<75,$BC159=\"○\",$BE159=\"○\"),\"○\",\"×\"))","v":""},"―",null,null,null,null,null,{"$f":"IF(OR($CE159=\"\",$BJ159=\"\"),\"\",$CE159*$J159)","v":""},{"$f":"IF(OR($CF159=\"\",$BJ159=\"\"),\"\",$CF159*$J159)","v":""},{"$f":"IF(OR($CG159=\"\",$BJ159=\"\"),\"\",$CG159*$J159)","v":""},{"$f":"IF(OR($CH159=\"\",$BJ159=\"\"),\"\",$CH159*$J159)","v":""},"","","","",{"$f":"IF($BJ159=\"\",\"\",IF($O$5=\"■\",0,SUM($BN159*$J159)))","v":""},{"$f":"IF($BJ159=\"\",\"\",IF($O$5=\"■\",0,SUM($BO159*$J159)))","v":""},"",{"$f":"IF($CW159=\"\",\"\",IF($O$5=\"■\",SUM($CW159-$DA159),SUM($CW159-$CZ159)))","v":""},null,null,null,null,null,{"$f":"IF($BJ159=\"\",\"\",IF(($BL159-$BJ159-$BN159)*0.001>=0,ROUNDUP(($BL159-$BJ159-$BN159)*0.001,1),ROUNDDOWN(($BL159-$BJ159-$BN159)*0.001,1)))&\"\"","v":""},{"$f":"IF($BJ159=\"\",\"\",IF(($BK159-$BJ159-$BN159)*0.001>=0,ROUNDUP(($BK159-$BJ159-$BN159)*0.001,1),ROUNDDOWN(($BK159-$BJ159-$BN159)*0.001,1)))&\"\"","v":""}]
[null,130,null,"",null,null,null,null,null,null,null,null,null,null,null,"□","□","□","□",null,null,null,"□","□","□","□",null,null,null,"□","□","□","□","□","□",null,"□",null,"□","□",null,null,null,null,"","□","□","□","□","□","□","□",null,{"$f":"IF($G$12=\"\",\"\",IF($BA160=\"\",\"\",HLOOKUP($G$12,別紙mast!$D$4:$K$7,3,FALSE)))","v":""},{"$f":"IF(OR(AND($C160<>\"\",$Q$28=\"■\"),AND($C160<>\"\",$R$28=\"■\")),\"○\",IF(AND($BA160=\"\"),\"\",IF($BA160<=$BB160,\"○\",\"×\")))","v":""},{"$f":"IF($G$12=\"\",\"\",IF($BA160=\"\",\"\",HLOOKUP($G$12,別紙mast!$D$9:$K$11,3,FALSE)))","v":""},{"$f":"IF(AND($C160<>\"\",$R$28=\"■\"),\"○\",IF(AND($BD160=\"\"),\"\",IF($BA160<=$BD160,\"○\",\"×\")))","v":""},null,{"$f":"IF($C160=\"\",\"\",IF($G$12=\"\",\"\",HLOOKUP($G$12,別紙mast!$D$4:$K$7,4,FALSE)))","v":""},null,{"$f":"IF(OR(AND($C160<>\"\",$Q$28=\"■\"),AND($C160<>\"\",$R$28=\"■\")),\"○\",IF(AND(BG160=\"\"),\"\",IF(BF160<=BG160,\"○\",\"×\")))","v":""},null,null,null,null,null,null,"",{"$f":"IF($C160=\"\",\"\",$CY160)","v":""},{"$f":"IF($C160=\"\",\"\",IF(OR($O$5=\"■\",$AD$28=\"■\",$AD160=\"■\"),\"ー\",SUM(1-$BS160)))","v":""},{"$f":"IF($C160=\"\",\"\",IF(OR($O$5=\"■\",$AD$28=\"■\",$AD160=\"■\"),\"ー\",CX160))","v":""},{"$f":"IF($C160=\"\",\"\",TRUNC(($CT160/$CW160)*100))","v":""},{"$f":"IF($C160=\"\",\"\",IF(OR($O$5=\"■\",$AD$28=\"■\",$AD160=\"■\"),\"ー\",SUM((100-$BT160)/100)))","v":""},{"$f":"IF($D160=\"\",\"\",$D160)","v":""},{"$f":"IF($G160=\"\",\"\",$G160)","v":""},null,"","","","","―",null,null,null,null,null,"","","","",{"$f":"IF($C160=\"\",\"\",SUM($BJ160*$J160))","v":""},{"$f":"IF($C160=\"\",\"\",SUM($BK160*$J160))","v":""},{"$f":"IF($C160=\"\",\"\",IF($O$5=\"■\",SUM($BK160*$J160),SUM($BL160*$J160)))","v":""},{"$f":"IF($C160=\"\",\"\",SUM($BM160*$J160))","v":""},"","",{"$f":"IF($CV160=\"\",\"\",($CW160-$CV160))","v":""},"",null,null,null,null,null,"",""]
[null,131,null,"",null,null,null,null,null,null,null,null,null,null,null,"□","□","□","□",null,null,null,"□","□","□","□",null,null,null,"□","□","□","□","□","□",null,"□",null,"□","□",null,null,null,null,"","□","□","□","□","□","□","□",null,{"$f":"IF($G$12=\"\",\"\",IF($BA161=\"\",\"\",HLOOKUP($G$12,別紙mast!$D$4:$K$7,3,FALSE)))","v":""},"",{"$f":"IF($G$12=\"\",\"\",IF($BA161=\"\",\"\",HLOOKUP($G$12,別紙mast!$D$9:$K$11,3,FALSE)))","v":""},"",null,{"$f":"IF($C161=\"\",\"\",IF($G$12=\"\",\"\",HLOOKUP($G$12,別紙mast!$D$4:$K$7,4,FALSE)))","v":""},null,"",null,null,null,null,null,null,"","","","","","","","",null,"","","","","―",null,null,null,null,null,"","","","","","","","","","","","",null,null,null,null,null,"",""]
[null,132,null,"",null,null,null,null,null,null,null,null,null,null,null,"□","□","□","□",null,null,null,"□","□","□","□",null,null,null,"□","□","□","□","□","□",null,"□",null,"□","□",null,null,null,null,"","□","□","□","□","□","□","□",null,{"$f":"IF($G$12=\"\",\"\",IF($BA162=\"\",\"\",HLOOKUP($G$12,別紙mast!$D$4:$K$7,3,FALSE)))","v":""},"",{"$f":"IF($G$12=\"\",\"\",IF($BA162=\"\",\"\",HLOOKUP($G$12,別紙mast!$D$9:$K$11,3,FALSE)))","v":""},"",null,{"$f":"IF($C162=\"\",\"\",IF($G$12=\"\",\"\",HLOOKUP($G$12,別紙mast!$D$4:$K$7,4,FALSE)))","v":""},null,"",null,null,null,null,null,null,"","","","","","","","",null,"","","","","―",null,null,null,null,null,"","","","","","","","","","","","",null,null,null,null,null,"",""]
[null,133,null,"",null,null,null,null,null,null,null,null,null,null,null,"□","□","□","□",null,null,null,"□","□","□","□",null,null,null,"□","□","□","□","□","□",null,"□",null,"□","□",null,null,null,null,"","□","□","□","□","□","□","□",null,{"$f":"IF($G$12=\"\",\"\",IF($BA163=\"\",\"\",HLOOKUP($G$12,別紙mast!$D$4:$K$7,3,FALSE)))","v":""},"",{"$f":"IF($G$12=\"\",\"\",IF($BA163=\"\",\"\",HLOOKUP($G$12,別紙mast!$D$9:$K$11,3,FALSE)))","v":""},"",null,{"$f":"IF($C163=\"\",\"\",IF($G$12=\"\",\"\",HLOOKUP($G$12,別紙mast!$D$4:$K$7,4,FALSE)))","v":""},null,"",null,null,null,null,null,null,"","","","","","","","",null,"","","","","―",null,null,null,null,null,"","","","","","","","","","","","",null,null,null,null,null,"",""]
[null,134,null,"",null,null,null,null,null,null,null,null,null,null,null,"□","□","□","□",null,null,null,"□","□","□","□",null,null,null,"□","□","□","□","□","□",null,"□",null,"□","□",null,null,null,null,"","□","□","□","□","□","□","□",null,{"$f":"IF($G$12=\"\",\"\",IF($BA164=\"\",\"\",HLOOKUP($G$12,別紙mast!$D$4:$K$7,3,FALSE)))","v":""},"",{"$f":"IF($G$12=\"\",\"\",IF($BA164=\"\",\"\",HLOOKUP($G$12,別紙mast!$D$9:$K$11,3,FALSE)))","v":""},"",null,{"$f":"IF($C164=\"\",\"\",IF($G$12=\"\",\"\",HLOOKUP($G$12,別紙mast!$D$4:$K$7,4,FALSE)))","v":""},null,"",null,null,null,null,null,null,"","","","","","","","",null,"","","","","―",null,null,null,null,null,"","","","","","","","","","","","",null,null,null,null,null,"",""]
[null,135,null,"",null,null,null,null,null,null,null,null,null,null,null,"□","□","□","□",null,null,null,"□","□","□","□",null,null,null,"□","□","□","□","□","□",null,"□",null,"□","□",null,null,null,null,"","□","□","□","□","□","□","□",null,{"$f":"IF($G$12=\"\",\"\",IF($BA165=\"\",\"\",HLOOKUP($G$12,別紙mast!$D$4:$K$7,3,FALSE)))","v":""},"",{"$f":"IF($G$12=\"\",\"\",IF($BA165=\"\",\"\",HLOOKUP($G$12,別紙mast!$D$9:$K$11,3,FALSE)))","v":""},"",null,{"$f":"IF($C165=\"\",\"\",IF($G$12=\"\",\"\",HLOOKUP($G$12,別紙mast!$D$4:$K$7,4,FALSE)))","v":""},null,"",null,null,null,null,null,null,"","","","","","","","",null,"","","","","―",null,null,null,null,null,"","","","","","","","","","","","",null,null,null,null,null,"",""]
[null,136,null,"",null,null,null,null,null,null,null,null,null,null,null,"□","□","□","□",null,null,null,"□","□","□","□",null,null,null,"□","□","□","□","□","□",null,"□",null,"□","□",null,null,null,null,"","□","□","□","□","□","□","□",null,{"$f":"IF($G$12=\"\",\"\",IF($BA166=\"\",\"\",HLOOKUP($G$12,別紙mast!$D$4:$K$7,3,FALSE)))","v":""},"",{"$f":"IF($G$12=\"\",\"\",IF($BA166=\"\",\"\",HLOOKUP($G$12,別紙mast!$D$9:$K$11,3,FALSE)))","v":""},"",null,{"$f":"IF($C166=\"\",\"\",IF($G$12=\"\",\"\",HLOOKUP($G$12,別紙mast!$D$4:$K$7,4,FALSE)))","v":""},null,"",null,null,null,null,null,null,"","","","","","","","",null,"","","","","―",null,null,null,null,null,"","","","","","","","","","","","",null,null,null,null,null,"",""]
[null,137,null,"",null,null,null,null,null,null,null,null,null,null,null,"□","□","□","□",null,null,null,"□","□","□","□",null,null,null,"□","□","□","□","□","□",null,"□",null,"□","□",null,null,null,null,"","□","□","□","□","□","□","□",null,{"$f":"IF($G$12=\"\",\"\",IF($BA167=\"\",\"\",HLOOKUP($G$12,別紙mast!$D$4:$K$7,3,FALSE)))","v":""},"",{"$f":"IF($G$12=\"\",\"\",IF($BA167=\"\",\"\",HLOOKUP($G$12,別紙mast!$D$9:$K$11,3,FALSE)))","v":""},"",null,{"$f":"IF($C167=\"\",\"\",IF($G$12=\"\",\"\",HLOOKUP($G$12,別紙mast!$D$4:$K$7,4,FALSE)))","v":""},null,"",null,null,null,null,null,null,"","","","","","","","",null,"","","","","―",null,null,null,null,null,"","","","","","","","","","","","",null,null,null,null,null,"",""]
[null,138,null,"",null,null,null,null,null,null,null,null,null,null,null,"□","□","□","□",null,null,null,"□","□","□","□",null,null,null,"□","□","□","□","□","□",null,"□",null,"□","□",null,null,null,null,"","□","□","□","□","□","□","□",null,{"$f":"IF($G$12=\"\",\"\",IF($BA168=\"\",\"\",HLOOKUP($G$12,別紙mast!$D$4:$K$7,3,FALSE)))","v":""},"",{"$f":"IF($G$12=\"\",\"\",IF($BA168=\"\",\"\",HLOOKUP($G$12,別紙mast!$D$9:$K$11,3,FALSE)))","v":""},"",null,{"$f":"IF($C168=\"\",\"\",IF($G$12=\"\",\"\",HLOOKUP($G$12,別紙mast!$D$4:$K$7,4,FALSE)))","v":""},null,"",null,null,null,null,null,null,"","","","","","","","",null,"","","","","―",null,null,null,null,null,"","","","","","","","","","","","",null,null,null,null,null,"",""]
[null,139,null,"",null,null,null,null,null,null,null,null,null,null,null,"□","□","□","□",null,null,null,"□","□","□","□",null,null,null,"□","□","□","□","□","□",null,"□",null,"□","□",null,null,null,null,"","□","□","□","□","□","□","□",null,{"$f":"IF($G$12=\"\",\"\",IF($BA169=\"\",\"\",HLOOKUP($G$12,別紙mast!$D$4:$K$7,3,FALSE)))","v":""},"",{"$f":"IF($G$12=\"\",\"\",IF($BA169=\"\",\"\",HLOOKUP($G$12,別紙mast!$D$9:$K$11,3,FALSE)))","v":""},"",null,{"$f":"IF($C169=\"\",\"\",IF($G$12=\"\",\"\",HLOOKUP($G$12,別紙mast!$D$4:$K$7,4,FALSE)))","v":""},null,"",null,null,null,null,null,null,"","","","","","","","",null,"","","","","―",null,null,null,null,null,"","","","","","","","","","","","",null,null,null,null,null,"",""]
[null,140,null,"",null,null,null,null,null,null,null,null,null,null,null,"□","□","□","□",null,null,null,"□","□","□","□",null,null,null,"□","□","□","□","□","□",null,"□",null,"□","□",null,null,null,null,"","□","□","□","□","□","□","□",null,{"$f":"IF($G$12=\"\",\"\",IF($BA170=\"\",\"\",HLOOKUP($G$12,別紙mast!$D$4:$K$7,3,FALSE)))","v":""},"",{"$f":"IF($G$12=\"\",\"\",IF($BA170=\"\",\"\",HLOOKUP($G$12,別紙mast!$D$9:$K$11,3,FALSE)))","v":""},"",null,{"$f":"IF($C170=\"\",\"\",IF($G$12=\"\",\"\",HLOOKUP($G$12,別紙mast!$D$4:$K$7,4,FALSE)))","v":""},null,"",null,null,null,null,null,null,"","","","","","","","",null,"","","","","―",null,null,null,null,null,"","","","","","","","","","","","",null,null,null,null,null,"",""]
[null,141,null,"",null,null,null,null,null,null,null,null,null,null,null,"□","□","□","□",null,null,null,"□","□","□","□",null,null,null,"□","□","□","□","□","□",null,"□",null,"□","□",null,null,null,null,"","□","□","□","□","□","□","□",null,{"$f":"IF($G$12=\"\",\"\",IF($BA171=\"\",\"\",HLOOKUP($G$12,別紙mast!$D$4:$K$7,3,FALSE)))","v":""},"",{"$f":"IF($G$12=\"\",\"\",IF($BA171=\"\",\"\",HLOOKUP($G$12,別紙mast!$D$9:$K$11,3,FALSE)))","v":""},"",null,{"$f":"IF($C171=\"\",\"\",IF($G$12=\"\",\"\",HLOOKUP($G$12,別紙mast!$D$4:$K$7,4,FALSE)))","v":""},null,"",null,null,null,null,null,null,"","","","","","","","",null,"","","","","―",null,null,null,null,null,"","","","","","","","","","","","",null,null,null,null,null,"",""]
[null,142,null,"",null,null,null,null,null,null,null,null,null,null,null,"□","□","□","□",null,null,null,"□","□","□","□",null,null,null,"□","□","□","□","□","□",null,"□",null,"□","□",null,null,null,null,"","□","□","□","□","□","□","□",null,{"$f":"IF($G$12=\"\",\"\",IF($BA172=\"\",\"\",HLOOKUP($G$12,別紙mast!$D$4:$K$7,3,FALSE)))","v":""},"",{"$f":"IF($G$12=\"\",\"\",IF($BA172=\"\",\"\",HLOOKUP($G$12,別紙mast!$D$9:$K$11,3,FALSE)))","v":""},"",null,{"$f":"IF($C172=\"\",\"\",IF($G$12=\"\",\"\",HLOOKUP($G$12,別紙mast!$D$4:$K$7,4,FALSE)))","v":""},null,"",null,null,null,null,null,null,"","","","","","","","",null,"","","","","―",null,null,null,null,null,"","","","","","","","","","","","",null,null,null,null,null,"",""]
[null,143,null,"",null,null,null,null,null,null,null,null,null,null,null,"□","□","□","□",null,null,null,"□","□","□","□",null,null,null,"□","□","□","□","□","□",null,"□",null,"□","□",null,null,null,null,"","□","□","□","□","□","□","□",null,{"$f":"IF($G$12=\"\",\"\",IF($BA173=\"\",\"\",HLOOKUP($G$12,別紙mast!$D$4:$K$7,3,FALSE)))","v":""},"",{"$f":"IF($G$12=\"\",\"\",IF($BA173=\"\",\"\",HLOOKUP($G$12,別紙mast!$D$9:$K$11,3,FALSE)))","v":""},"",null,{"$f":"IF($C173=\"\",\"\",IF($G$12=\"\",\"\",HLOOKUP($G$12,別紙mast!$D$4:$K$7,4,FALSE)))","v":""},null,"",null,null,null,null,null,null,"","","","","","","","",null,"","","","","―",null,null,null,null,null,"","","","","","","","","","","","",null,null,null,null,null,"",""]
[null,144,null,"",null,null,null,null,null,null,null,null,null,null,null,"□","□","□","□",null,null,null,"□","□","□","□",null,null,null,"□","□","□","□","□","□",null,"□",null,"□","□",null,null,null,null,"","□","□","□","□","□","□","□",null,{"$f":"IF($G$12=\"\",\"\",IF($BA174=\"\",\"\",HLOOKUP($G$12,別紙mast!$D$4:$K$7,3,FALSE)))","v":""},"",{"$f":"IF($G$12=\"\",\"\",IF($BA174=\"\",\"\",HLOOKUP($G$12,別紙mast!$D$9:$K$11,3,FALSE)))","v":""},"",null,{"$f":"IF($C174=\"\",\"\",IF($G$12=\"\",\"\",HLOOKUP($G$12,別紙mast!$D$4:$K$7,4,FALSE)))","v":""},null,"",null,null,null,null,null,null,"","","","","","","","",null,"","","","","―",null,null,null,null,null,"","","","","","","","","","","","",null,null,null,null,null,"",""]
[null,145,null,"",null,null,null,null,null,null,null,null,null,null,null,"□","□","□","□",null,null,null,"□","□","□","□",null,null,null,"□","□","□","□","□","□",null,"□",null,"□","□",null,null,null,null,"","□","□","□","□","□","□","□",null,{"$f":"IF($G$12=\"\",\"\",IF($BA175=\"\",\"\",HLOOKUP($G$12,別紙mast!$D$4:$K$7,3,FALSE)))","v":""},"",{"$f":"IF($G$12=\"\",\"\",IF($BA175=\"\",\"\",HLOOKUP($G$12,別紙mast!$D$9:$K$11,3,FALSE)))","v":""},"",null,{"$f":"IF($C175=\"\",\"\",IF($G$12=\"\",\"\",HLOOKUP($G$12,別紙mast!$D$4:$K$7,4,FALSE)))","v":""},null,"",null,null,null,null,null,null,"","","","","","","","",null,"","","","","―",null,null,null,null,null,"","","","","","","","","","","","",null,null,null,null,null,"",""]
[null,146,null,"",null,null,null,null,null,null,null,null,null,null,null,"□","□","□","□",null,null,null,"□","□","□","□",null,null,null,"□","□","□","□","□","□",null,"□",null,"□","□",null,null,null,null,"","□","□","□","□","□","□","□",null,{"$f":"IF($G$12=\"\",\"\",IF($BA176=\"\",\"\",HLOOKUP($G$12,別紙mast!$D$4:$K$7,3,FALSE)))","v":""},"",{"$f":"IF($G$12=\"\",\"\",IF($BA176=\"\",\"\",HLOOKUP($G$12,別紙mast!$D$9:$K$11,3,FALSE)))","v":""},"",null,{"$f":"IF($C176=\"\",\"\",IF($G$12=\"\",\"\",HLOOKUP($G$12,別紙mast!$D$4:$K$7,4,FALSE)))","v":""},null,"",null,null,null,null,null,null,"","","","","","","","",null,"","","","","―",null,null,null,null,null,"","","","","","","","","","","","",null,null,null,null,null,"",""]
[null,147,null,"",null,null,null,null,null,null,null,null,null,null,null,"□","□","□","□",null,null,null,"□","□","□","□",null,null,null,"□","□","□","□","□","□",null,"□",null,"□","□",null,null,null,null,"","□","□","□","□","□","□","□",null,{"$f":"IF($G$12=\"\",\"\",IF($BA177=\"\",\"\",HLOOKUP($G$12,別紙mast!$D$4:$K$7,3,FALSE)))","v":""},"",{"$f":"IF($G$12=\"\",\"\",IF($BA177=\"\",\"\",HLOOKUP($G$12,別紙mast!$D$9:$K$11,3,FALSE)))","v":""},"",null,{"$f":"IF($C177=\"\",\"\",IF($G$12=\"\",\"\",HLOOKUP($G$12,別紙mast!$D$4:$K$7,4,FALSE)))","v":""},null,"",null,null,null,null,null,null,"","","","","","","","",null,"","","","","―",null,null,null,null,null,"","","","","","","","","","","","",null,null,null,null,null,"",""]
[null,148,null,"",null,null,null,null,null,null,null,null,null,null,null,"□","□","□","□",null,null,null,"□","□","□","□",null,null,null,"□","□","□","□","□","□",null,"□",null,"□","□",null,null,null,null,"","□","□","□","□","□","□","□",null,{"$f":"IF($G$12=\"\",\"\",IF($BA178=\"\",\"\",HLOOKUP($G$12,別紙mast!$D$4:$K$7,3,FALSE)))","v":""},"",{"$f":"IF($G$12=\"\",\"\",IF($BA178=\"\",\"\",HLOOKUP($G$12,別紙mast!$D$9:$K$11,3,FALSE)))","v":""},"",null,{"$f":"IF($C178=\"\",\"\",IF($G$12=\"\",\"\",HLOOKUP($G$12,別紙mast!$D$4:$K$7,4,FALSE)))","v":""},null,"",null,null,null,null,null,null,"","","","","","","","",null,"","","","","―",null,null,null,null,null,"","","","","","","","","","","","",null,null,null,null,null,"",""]
[null,149,null,"",null,null,null,null,null,null,null,null,null,null,null,"□","□","□","□",null,null,null,"□","□","□","□",null,null,null,"□","□","□","□","□","□",null,"□",null,"□","□",null,null,null,null,"","□","□","□","□","□","□","□",null,{"$f":"IF($G$12=\"\",\"\",IF($BA179=\"\",\"\",HLOOKUP($G$12,別紙mast!$D$4:$K$7,3,FALSE)))","v":""},"",{"$f":"IF($G$12=\"\",\"\",IF($BA179=\"\",\"\",HLOOKUP($G$12,別紙mast!$D$9:$K$11,3,FALSE)))","v":""},"",null,{"$f":"IF($C179=\"\",\"\",IF($G$12=\"\",\"\",HLOOKUP($G$12,別紙mast!$D$4:$K$7,4,FALSE)))","v":""},null,"",null,null,null,null,null,null,"","","","","","","","",null,"","","","","―",null,null,null,null,null,"","","","","","","","","","","","",null,null,null,null,null,"",""]
[null,150,null,"",null,null,null,null,null,null,null,null,null,null,null,"□","□","□","□",null,null,null,"□","□","□","□",null,null,null,"□","□","□","□","□","□",null,"□",null,"□","□",null,null,null,null,"","□","□","□","□","□","□","□",null,{"$f":"IF($G$12=\"\",\"\",IF($BA180=\"\",\"\",HLOOKUP($G$12,別紙mast!$D$4:$K$7,3,FALSE)))","v":""},"",{"$f":"IF($G$12=\"\",\"\",IF($BA180=\"\",\"\",HLOOKUP($G$12,別紙mast!$D$9:$K$11,3,FALSE)))","v":""},"",null,{"$f":"IF($C180=\"\",\"\",IF($G$12=\"\",\"\",HLOOKUP($G$12,別紙mast!$D$4:$K$7,4,FALSE)))","v":""},null,"",null,null,null,null,null,null,"","","","","","","","",null,"","","","","―",null,null,null,null,null,"","","","","","","","","","","","",null,null,null,null,null,"",""]
[null,151,null,"",null,null,null,null,null,null,null,null,null,null,null,"□","□","□","□",null,null,null,"□","□","□","□",null,null,null,"□","□","□","□","□","□",null,"□",null,"□","□",null,null,null,null,"","□","□","□","□","□","□","□",null,{"$f":"IF($G$12=\"\",\"\",IF($BA181=\"\",\"\",HLOOKUP($G$12,別紙mast!$D$4:$K$7,3,FALSE)))","v":""},"",{"$f":"IF($G$12=\"\",\"\",IF($BA181=\"\",\"\",HLOOKUP($G$12,別紙mast!$D$9:$K$11,3,FALSE)))","v":""},"",null,{"$f":"IF($C181=\"\",\"\",IF($G$12=\"\",\"\",HLOOKUP($G$12,別紙mast!$D$4:$K$7,4,FALSE)))","v":""},null,"",null,null,null,null,null,null,"","","","","","","","",null,"","","","","―",null,null,null,null,null,"","","","","","","","","","","","",null,null,null,null,null,"",""]
[null,152,null,"",null,null,null,null,null,null,null,null,null,null,null,"□","□","□","□",null,null,null,"□","□","□","□",null,null,null,"□","□","□","□","□","□",null,"□",null,"□","□",null,null,null,null,"","□","□","□","□","□","□","□",null,{"$f":"IF($G$12=\"\",\"\",IF($BA182=\"\",\"\",HLOOKUP($G$12,別紙mast!$D$4:$K$7,3,FALSE)))","v":""},"",{"$f":"IF($G$12=\"\",\"\",IF($BA182=\"\",\"\",HLOOKUP($G$12,別紙mast!$D$9:$K$11,3,FALSE)))","v":""},"",null,{"$f":"IF($C182=\"\",\"\",IF($G$12=\"\",\"\",HLOOKUP($G$12,別紙mast!$D$4:$K$7,4,FALSE)))","v":""},null,"",null,null,null,null,null,null,"","","","","","","","",null,"","","","","―",null,null,null,null,null,"","","","","","","","","","","","",null,null,null,null,null,"",""]
[null,153,null,"",null,null,null,null,null,null,null,null,null,null,null,"□","□","□","□",null,null,null,"□","□","□","□",null,null,null,"□","□","□","□","□","□",null,"□",null,"□","□",null,null,null,null,"","□","□","□","□","□","□","□",null,{"$f":"IF($G$12=\"\",\"\",IF($BA183=\"\",\"\",HLOOKUP($G$12,別紙mast!$D$4:$K$7,3,FALSE)))","v":""},"",{"$f":"IF($G$12=\"\",\"\",IF($BA183=\"\",\"\",HLOOKUP($G$12,別紙mast!$D$9:$K$11,3,FALSE)))","v":""},"",null,{"$f":"IF($C183=\"\",\"\",IF($G$12=\"\",\"\",HLOOKUP($G$12,別紙mast!$D$4:$K$7,4,FALSE)))","v":""},null,"",null,null,null,null,null,null,"","","","","","","","",null,"","","","","―",null,null,null,null,null,"","","","","","","","","","","","",null,null,null,null,null,"",""]
[null,154,null,"",null,null,null,null,null,null,null,null,null,null,null,"□","□","□","□",null,null,null,"□","□","□","□",null,null,null,"□","□","□","□","□","□",null,"□",null,"□","□",null,null,null,null,"","□","□","□","□","□","□","□",null,{"$f":"IF($G$12=\"\",\"\",IF($BA184=\"\",\"\",HLOOKUP($G$12,別紙mast!$D$4:$K$7,3,FALSE)))","v":""},"",{"$f":"IF($G$12=\"\",\"\",IF($BA184=\"\",\"\",HLOOKUP($G$12,別紙mast!$D$9:$K$11,3,FALSE)))","v":""},"",null,{"$f":"IF($C184=\"\",\"\",IF($G$12=\"\",\"\",HLOOKUP($G$12,別紙mast!$D$4:$K$7,4,FALSE)))","v":""},null,"",null,null,null,null,null,null,"","","","","","","","",null,"","","","","―",null,null,null,null,null,"","","","","","","","","","","","",null,null,null,null,null,"",""]
[null,155,null,"",null,null,null,null,null,null,null,null,null,null,null,"□","□","□","□",null,null,null,"□","□","□","□",null,null,null,"□","□","□","□","□","□",null,"□",null,"□","□",null,null,null,null,"","□","□","□","□","□","□","□",null,{"$f":"IF($G$12=\"\",\"\",IF($BA185=\"\",\"\",HLOOKUP($G$12,別紙mast!$D$4:$K$7,3,FALSE)))","v":""},"",{"$f":"IF($G$12=\"\",\"\",IF($BA185=\"\",\"\",HLOOKUP($G$12,別紙mast!$D$9:$K$11,3,FALSE)))","v":""},"",null,{"$f":"IF($C185=\"\",\"\",IF($G$12=\"\",\"\",HLOOKUP($G$12,別紙mast!$D$4:$K$7,4,FALSE)))","v":""},null,"",null,null,null,null,null,null,"","","","","","","","",null,"","","","","―",null,null,null,null,null,"","","","","","","","","","","","",null,null,null,null,null,"",""]
[null,156,null,"",null,null,null,null,null,null,null,null,null,null,null,"□","□","□","□",null,null,null,"□","□","□","□",null,null,null,"□","□","□","□","□","□",null,"□",null,"□","□",null,null,null,null,"","□","□","□","□","□","□","□",null,{"$f":"IF($G$12=\"\",\"\",IF($BA186=\"\",\"\",HLOOKUP($G$12,別紙mast!$D$4:$K$7,3,FALSE)))","v":""},"",{"$f":"IF($G$12=\"\",\"\",IF($BA186=\"\",\"\",HLOOKUP($G$12,別紙mast!$D$9:$K$11,3,FALSE)))","v":""},"",null,{"$f":"IF($C186=\"\",\"\",IF($G$12=\"\",\"\",HLOOKUP($G$12,別紙mast!$D$4:$K$7,4,FALSE)))","v":""},null,"",null,null,null,null,null,null,"","","","","","","","",null,"","","","","―",null,null,null,null,null,"","","","","","","","","","","","",null,null,null,null,null,"",""]
[null,157,null,"",null,null,null,null,null,null,null,null,null,null,null,"□","□","□","□",null,null,null,"□","□","□","□",null,null,null,"□","□","□","□","□","□",null,"□",null,"□","□",null,null,null,null,"","□","□","□","□","□","□","□",null,{"$f":"IF($G$12=\"\",\"\",IF($BA187=\"\",\"\",HLOOKUP($G$12,別紙mast!$D$4:$K$7,3,FALSE)))","v":""},"",{"$f":"IF($G$12=\"\",\"\",IF($BA187=\"\",\"\",HLOOKUP($G$12,別紙mast!$D$9:$K$11,3,FALSE)))","v":""},"",null,{"$f":"IF($C187=\"\",\"\",IF($G$12=\"\",\"\",HLOOKUP($G$12,別紙mast!$D$4:$K$7,4,FALSE)))","v":""},null,"",null,null,null,null,null,null,"","","","","","","","",null,"","","","","―",null,null,null,null,null,"","","","","","","","","","","","",null,null,null,null,null,"",""]
[null,158,null,"",null,null,null,null,null,null,null,null,null,null,null,"□","□","□","□",null,null,null,"□","□","□","□",null,null,null,"□","□","□","□","□","□",null,"□",null,"□","□",null,null,null,null,"","□","□","□","□","□","□","□",null,{"$f":"IF($G$12=\"\",\"\",IF($BA188=\"\",\"\",HLOOKUP($G$12,別紙mast!$D$4:$K$7,3,FALSE)))","v":""},"",{"$f":"IF($G$12=\"\",\"\",IF($BA188=\"\",\"\",HLOOKUP($G$12,別紙mast!$D$9:$K$11,3,FALSE)))","v":""},"",null,{"$f":"IF($C188=\"\",\"\",IF($G$12=\"\",\"\",HLOOKUP($G$12,別紙mast!$D$4:$K$7,4,FALSE)))","v":""},null,"",null,null,null,null,null,null,"","","","","","","","",null,"","","","","―",null,null,null,null,null,"","","","","","","","","","","","",null,null,null,null,null,"",""]
[null,159,null,"",null,null,null,null,null,null,null,null,null,null,null,"□","□","□","□",null,null,null,"□","□","□","□",null,null,null,"□","□","□","□","□","□",null,"□",null,"□","□",null,null,null,null,"","□","□","□","□","□","□","□",null,{"$f":"IF($G$12=\"\",\"\",IF($BA189=\"\",\"\",HLOOKUP($G$12,別紙mast!$D$4:$K$7,3,FALSE)))","v":""},"",{"$f":"IF($G$12=\"\",\"\",IF($BA189=\"\",\"\",HLOOKUP($G$12,別紙mast!$D$9:$K$11,3,FALSE)))","v":""},"",null,{"$f":"IF($C189=\"\",\"\",IF($G$12=\"\",\"\",HLOOKUP($G$12,別紙mast!$D$4:$K$7,4,FALSE)))","v":""},null,"",null,null,null,null,null,null,"","","","","","","","",null,"","","","","―",null,null,null,null,null,"","","","","","","","","","","","",null,null,null,null,null,"",""]
[null,160,null,"",null,null,null,null,null,null,null,null,null,null,null,"□","□","□","□",null,null,null,"□","□","□","□",null,null,null,"□","□","□","□","□","□",null,"□",null,"□","□",null,null,null,null,"","□","□","□","□","□","□","□",null,{"$f":"IF($G$12=\"\",\"\",IF($BA190=\"\",\"\",HLOOKUP($G$12,別紙mast!$D$4:$K$7,3,FALSE)))","v":""},"",{"$f":"IF($G$12=\"\",\"\",IF($BA190=\"\",\"\",HLOOKUP($G$12,別紙mast!$D$9:$K$11,3,FALSE)))","v":""},"",null,{"$f":"IF($C190=\"\",\"\",IF($G$12=\"\",\"\",HLOOKUP($G$12,別紙mast!$D$4:$K$7,4,FALSE)))","v":""},null,"",null,null,null,null,null,null,"","","","","","","","",null,"","","","","―",null,null,null,null,null,"","","","","","","","","","","","",null,null,null,null,null,"",""]
[null,161,null,"",null,null,null,null,null,null,null,null,null,null,null,"□","□","□","□",null,null,null,"□","□","□","□",null,null,null,"□","□","□","□","□","□",null,"□",null,"□","□",null,null,null,null,{"$f":"IF(AND($AP$28=\"■\",$AO$31<>\"\"),HLOOKUP($AO$31,$BY$30:$CC$230,ROW()-29,1),IF($AO191<>\"\",HLOOKUP($AO191,$BY$30:$CC$230,ROW()-29,1),\"\"))","v":""},"□","□","□","□","□","□","□",null,{"$f":"IF($G$12=\"\",\"\",IF($BA191=\"\",\"\",HLOOKUP($G$12,別紙mast!$D$4:$K$7,3,FALSE)))","v":""},"",{"$f":"IF($G$12=\"\",\"\",IF($BA191=\"\",\"\",HLOOKUP($G$12,別紙mast!$D$9:$K$11,3,FALSE)))","v":""},"",null,{"$f":"IF($C191=\"\",\"\",IF($G$12=\"\",\"\",HLOOKUP($G$12,別紙mast!$D$4:$K$7,4,FALSE)))","v":""},null,"",null,null,null,null,null,null,"","","","","","","","",null,{"$f":"IF(OR(BP191=\"\",BT191=\"\"),\"\",IF(AND($BP191>=20,$BT191>=100,$BC191=\"○\",$BE191=\"○\"),\"○\",\"×\"))","v":""},{"$f":"IF(OR(BP191=\"\",BT191=\"\"),\"\",IF(AND($BP191>=20,$BT191>=100,$BC191=\"適\"),\"×\",IF(AND($BP191>=20,$BT191>=75,$BT191<100,$BC191=\"○\",$BE191=\"○\"),\"○\",\"×\")))","v":""},{"$f":"IF(OR(BP191=\"\",BT191=\"\"),\"\",IF(AND($BP191>=20,$BC191=\"○\",$BE191=\"○\"),\"○\",\"×\"))","v":""},{"$f":"IF(OR(BP191=\"\",BT191=\"\"),\"\",IF(AND($BP191>=20,$BT191>=50,$BT191<75,$BC191=\"○\",$BE191=\"○\"),\"○\",\"×\"))","v":""},"―",null,null,null,null,null,{"$f":"IF(OR($CE191=\"\",$BJ191=\"\"),\"\",$CE191*$J191)","v":""},{"$f":"IF(OR($CF191=\"\",$BJ191=\"\"),\"\",$CF191*$J191)","v":""},{"$f":"IF(OR($CG191=\"\",$BJ191=\"\"),\"\",$CG191*$J191)","v":""},{"$f":"IF(OR($CH191=\"\",$BJ191=\"\"),\"\",$CH191*$J191)","v":""},"","","","",{"$f":"IF($BJ191=\"\",\"\",IF($O$5=\"■\",0,SUM($BN191*$J191)))","v":""},{"$f":"IF($BJ191=\"\",\"\",IF($O$5=\"■\",0,SUM($BO191*$J191)))","v":""},"",{"$f":"IF($CW191=\"\",\"\",IF($O$5=\"■\",SUM($CW191-$DA191),SUM($CW191-$CZ191)))","v":""},null,null,null,null,null,{"$f":"IF($BJ191=\"\",\"\",IF(($BL191-$BJ191-$BN191)*0.001>=0,ROUNDUP(($BL191-$BJ191-$BN191)*0.001,1),ROUNDDOWN(($BL191-$BJ191-$BN191)*0.001,1)))&\"\"","v":""},{"$f":"IF($BJ191=\"\",\"\",IF(($BK191-$BJ191-$BN191)*0.001>=0,ROUNDUP(($BK191-$BJ191-$BN191)*0.001,1),ROUNDDOWN(($BK191-$BJ191-$BN191)*0.001,1)))&\"\"","v":""}]
[null,162,null,"",null,null,null,null,null,null,null,null,null,null,null,"□","□","□","□",null,null,null,"□","□","□","□",null,null,null,"□","□","□","□","□","□",null,"□",null,"□","□",null,null,null,null,"","□","□","□","□","□","□","□",null,{"$f":"IF($G$12=\"\",\"\",IF($BA192=\"\",\"\",HLOOKUP($G$12,別紙mast!$D$4:$K$7,3,FALSE)))","v":""},"",{"$f":"IF($G$12=\"\",\"\",IF($BA192=\"\",\"\",HLOOKUP($G$12,別紙mast!$D$9:$K$11,3,FALSE)))","v":""},"",null,{"$f":"IF($C192=\"\",\"\",IF($G$12=\"\",\"\",HLOOKUP($G$12,別紙mast!$D$4:$K$7,4,FALSE)))","v":""},null,"",null,null,null,null,null,null,"","","","","","","","",null,"","","","","―",null,null,null,null,null,"","","","","","","","","","","","",null,null,null,null,null,"",""]
[null,163,null,"",null,null,null,null,null,null,null,null,null,null,null,"□","□","□","□",null,null,null,"□","□","□","□",null,null,null,"□","□","□","□","□","□",null,"□",null,"□","□",null,null,null,null,"","□","□","□","□","□","□","□",null,{"$f":"IF($G$12=\"\",\"\",IF($BA193=\"\",\"\",HLOOKUP($G$12,別紙mast!$D$4:$K$7,3,FALSE)))","v":""},"",{"$f":"IF($G$12=\"\",\"\",IF($BA193=\"\",\"\",HLOOKUP($G$12,別紙mast!$D$9:$K$11,3,FALSE)))","v":""},"",null,{"$f":"IF($C193=\"\",\"\",IF($G$12=\"\",\"\",HLOOKUP($G$12,別紙mast!$D$4:$K$7,4,FALSE)))","v":""},null,"",null,null,null,null,null,null,"","","","","","","","",null,"","","","","―",null,null,null,null,null,"","","","","","","","","","","","",null,null,null,null,null,"",""]
[null,164,null,"",null,null,null,null,null,null,null,null,null,null,null,"□","□","□","□",null,null,null,"□","□","□","□",null,null,null,"□","□","□","□","□","□",null,"□",null,"□","□",null,null,null,null,"","□","□","□","□","□","□","□",null,{"$f":"IF($G$12=\"\",\"\",IF($BA194=\"\",\"\",HLOOKUP($G$12,別紙mast!$D$4:$K$7,3,FALSE)))","v":""},"",{"$f":"IF($G$12=\"\",\"\",IF($BA194=\"\",\"\",HLOOKUP($G$12,別紙mast!$D$9:$K$11,3,FALSE)))","v":""},"",null,{"$f":"IF($C194=\"\",\"\",IF($G$12=\"\",\"\",HLOOKUP($G$12,別紙mast!$D$4:$K$7,4,FALSE)))","v":""},null,"",null,null,null,null,null,null,"","","","","","","","",null,"","","","","―",null,null,null,null,null,"","","","","","","","","","","","",null,null,null,null,null,"",""]
[null,165,null,"",null,null,null,null,null,null,null,null,null,null,null,"□","□","□","□",null,null,null,"□","□","□","□",null,null,null,"□","□","□","□","□","□",null,"□",null,"□","□",null,null,null,null,"","□","□","□","□","□","□","□",null,{"$f":"IF($G$12=\"\",\"\",IF($BA195=\"\",\"\",HLOOKUP($G$12,別紙mast!$D$4:$K$7,3,FALSE)))","v":""},"",{"$f":"IF($G$12=\"\",\"\",IF($BA195=\"\",\"\",HLOOKUP($G$12,別紙mast!$D$9:$K$11,3,FALSE)))","v":""},"",null,{"$f":"IF($C195=\"\",\"\",IF($G$12=\"\",\"\",HLOOKUP($G$12,別紙mast!$D$4:$K$7,4,FALSE)))","v":""},null,"",null,null,null,null,null,null,"","","","","","","","",null,"","","","","―",null,null,null,null,null,"","","","","","","","","","","","",null,null,null,null,null,"",""]
[null,166,null,"",null,null,null,null,null,null,null,null,null,null,null,"□","□","□","□",null,null,null,"□","□","□","□",null,null,null,"□","□","□","□","□","□",null,"□",null,"□","□",null,null,null,null,"","□","□","□","□","□","□","□",null,{"$f":"IF($G$12=\"\",\"\",IF($BA196=\"\",\"\",HLOOKUP($G$12,別紙mast!$D$4:$K$7,3,FALSE)))","v":""},"",{"$f":"IF($G$12=\"\",\"\",IF($BA196=\"\",\"\",HLOOKUP($G$12,別紙mast!$D$9:$K$11,3,FALSE)))","v":""},"",null,{"$f":"IF($C196=\"\",\"\",IF($G$12=\"\",\"\",HLOOKUP($G$12,別紙mast!$D$4:$K$7,4,FALSE)))","v":""},null,"",null,null,null,null,null,null,"","","","","","","","",null,"","","","","―",null,null,null,null,null,"","","","","","","","","","","","",null,null,null,null,null,"",""]
[null,167,null,"",null,null,null,null,null,null,null,null,null,null,null,"□","□","□","□",null,null,null,"□","□","□","□",null,null,null,"□","□","□","□","□","□",null,"□",null,"□","□",null,null,null,null,"","□","□","□","□","□","□","□",null,{"$f":"IF($G$12=\"\",\"\",IF($BA197=\"\",\"\",HLOOKUP($G$12,別紙mast!$D$4:$K$7,3,FALSE)))","v":""},"",{"$f":"IF($G$12=\"\",\"\",IF($BA197=\"\",\"\",HLOOKUP($G$12,別紙mast!$D$9:$K$11,3,FALSE)))","v":""},"",null,{"$f":"IF($C197=\"\",\"\",IF($G$12=\"\",\"\",HLOOKUP($G$12,別紙mast!$D$4:$K$7,4,FALSE)))","v":""},null,"",null,null,null,null,null,null,"","","","","","","","",null,"","","","","―",null,null,null,null,null,"","","","","","","","","","","","",null,null,null,null,null,"",""]
[null,168,null,"",null,null,null,null,null,null,null,null,null,null,null,"□","□","□","□",null,null,null,"□","□","□","□",null,null,null,"□","□","□","□","□","□",null,"□",null,"□","□",null,null,null,null,"","□","□","□","□","□","□","□",null,{"$f":"IF($G$12=\"\",\"\",IF($BA198=\"\",\"\",HLOOKUP($G$12,別紙mast!$D$4:$K$7,3,FALSE)))","v":""},"",{"$f":"IF($G$12=\"\",\"\",IF($BA198=\"\",\"\",HLOOKUP($G$12,別紙mast!$D$9:$K$11,3,FALSE)))","v":""},"",null,{"$f":"IF($C198=\"\",\"\",IF($G$12=\"\",\"\",HLOOKUP($G$12,別紙mast!$D$4:$K$7,4,FALSE)))","v":""},null,"",null,null,null,null,null,null,"","","","","","","","",null,"","","","","―",null,null,null,null,null,"","","","","","","","","","","","",null,null,null,null,null,"",""]
[null,169,null,"",null,null,null,null,null,null,null,null,null,null,null,"□","□","□","□",null,null,null,"□","□","□","□",null,null,null,"□","□","□","□","□","□",null,"□",null,"□","□",null,null,null,null,"","□","□","□","□","□","□","□",null,{"$f":"IF($G$12=\"\",\"\",IF($BA199=\"\",\"\",HLOOKUP($G$12,別紙mast!$D$4:$K$7,3,FALSE)))","v":""},"",{"$f":"IF($G$12=\"\",\"\",IF($BA199=\"\",\"\",HLOOKUP($G$12,別紙mast!$D$9:$K$11,3,FALSE)))","v":""},"",null,{"$f":"IF($C199=\"\",\"\",IF($G$12=\"\",\"\",HLOOKUP($G$12,別紙mast!$D$4:$K$7,4,FALSE)))","v":""},null,"",null,null,null,null,null,null,"","","","","","","","",null,"","","","","―",null,null,null,null,null,"","","","","","","","","","","","",null,null,null,null,null,"",""]
[null,170,null,"",null,null,null,null,null,null,null,null,null,null,null,"□","□","□","□",null,null,null,"□","□","□","□",null,null,null,"□","□","□","□","□","□",null,"□",null,"□","□",null,null,null,null,"","□","□","□","□","□","□","□",null,{"$f":"IF($G$12=\"\",\"\",IF($BA200=\"\",\"\",HLOOKUP($G$12,別紙mast!$D$4:$K$7,3,FALSE)))","v":""},"",{"$f":"IF($G$12=\"\",\"\",IF($BA200=\"\",\"\",HLOOKUP($G$12,別紙mast!$D$9:$K$11,3,FALSE)))","v":""},"",null,{"$f":"IF($C200=\"\",\"\",IF($G$12=\"\",\"\",HLOOKUP($G$12,別紙mast!$D$4:$K$7,4,FALSE)))","v":""},null,"",null,null,null,null,null,null,"","","","","","","","",null,"","","","","―",null,null,null,null,null,"","","","","","","","","","","","",null,null,null,null,null,"",""]
[null,171,null,"",null,null,null,null,null,null,null,null,null,null,null,"□","□","□","□",null,null,null,"□","□","□","□",null,null,null,"□","□","□","□","□","□",null,"□",null,"□","□",null,null,null,null,"","□","□","□","□","□","□","□",null,{"$f":"IF($G$12=\"\",\"\",IF($BA201=\"\",\"\",HLOOKUP($G$12,別紙mast!$D$4:$K$7,3,FALSE)))","v":""},"",{"$f":"IF($G$12=\"\",\"\",IF($BA201=\"\",\"\",HLOOKUP($G$12,別紙mast!$D$9:$K$11,3,FALSE)))","v":""},"",null,{"$f":"IF($C201=\"\",\"\",IF($G$12=\"\",\"\",HLOOKUP($G$12,別紙mast!$D$4:$K$7,4,FALSE)))","v":""},null,"",null,null,null,null,null,null,"","","","","","","","",null,"","","","","―",null,null,null,null,null,"","","","","","","","","","","","",null,null,null,null,null,"",""]
[null,172,null,"",null,null,null,null,null,null,null,null,null,null,null,"□","□","□","□",null,null,null,"□","□","□","□",null,null,null,"□","□","□","□","□","□",null,"□",null,"□","□",null,null,null,null,"","□","□","□","□","□","□","□",null,{"$f":"IF($G$12=\"\",\"\",IF($BA202=\"\",\"\",HLOOKUP($G$12,別紙mast!$D$4:$K$7,3,FALSE)))","v":""},"",{"$f":"IF($G$12=\"\",\"\",IF($BA202=\"\",\"\",HLOOKUP($G$12,別紙mast!$D$9:$K$11,3,FALSE)))","v":""},"",null,{"$f":"IF($C202=\"\",\"\",IF($G$12=\"\",\"\",HLOOKUP($G$12,別紙mast!$D$4:$K$7,4,FALSE)))","v":""},null,"",null,null,null,null,null,null,"","","","","","","","",null,"","","","","―",null,null,null,null,null,"","","","","","","","","","","","",null,null,null,null,null,"",""]
[null,173,null,"",null,null,null,null,null,null,null,null,null,null,null,"□","□","□","□",null,null,null,"□","□","□","□",null,null,null,"□","□","□","□","□","□",null,"□",null,"□","□",null,null,null,null,"","□","□","□","□","□","□","□",null,{"$f":"IF($G$12=\"\",\"\",IF($BA203=\"\",\"\",HLOOKUP($G$12,別紙mast!$D$4:$K$7,3,FALSE)))","v":""},"",{"$f":"IF($G$12=\"\",\"\",IF($BA203=\"\",\"\",HLOOKUP($G$12,別紙mast!$D$9:$K$11,3,FALSE)))","v":""},"",null,{"$f":"IF($C203=\"\",\"\",IF($G$12=\"\",\"\",HLOOKUP($G$12,別紙mast!$D$4:$K$7,4,FALSE)))","v":""},null,"",null,null,null,null,null,null,"","","","","","","","",null,"","","","","―",null,null,null,null,null,"","","","","","","","","","","","",null,null,null,null,null,"",""]
[null,174,null,"",null,null,null,null,null,null,null,null,null,null,null,"□","□","□","□",null,null,null,"□","□","□","□",null,null,null,"□","□","□","□","□","□",null,"□",null,"□","□",null,null,null,null,"","□","□","□","□","□","□","□",null,{"$f":"IF($G$12=\"\",\"\",IF($BA204=\"\",\"\",HLOOKUP($G$12,別紙mast!$D$4:$K$7,3,FALSE)))","v":""},"",{"$f":"IF($G$12=\"\",\"\",IF($BA204=\"\",\"\",HLOOKUP($G$12,別紙mast!$D$9:$K$11,3,FALSE)))","v":""},"",null,{"$f":"IF($C204=\"\",\"\",IF($G$12=\"\",\"\",HLOOKUP($G$12,別紙mast!$D$4:$K$7,4,FALSE)))","v":""},null,"",null,null,null,null,null,null,"","","","","","","","",null,"","","","","―",null,null,null,null,null,"","","","","","","","","","","","",null,null,null,null,null,"",""]
[null,175,null,"",null,null,null,null,null,null,null,null,null,null,null,"□","□","□","□",null,null,null,"□","□","□","□",null,null,null,"□","□","□","□","□","□",null,"□",null,"□","□",null,null,null,null,"","□","□","□","□","□","□","□",null,{"$f":"IF($G$12=\"\",\"\",IF($BA205=\"\",\"\",HLOOKUP($G$12,別紙mast!$D$4:$K$7,3,FALSE)))","v":""},"",{"$f":"IF($G$12=\"\",\"\",IF($BA205=\"\",\"\",HLOOKUP($G$12,別紙mast!$D$9:$K$11,3,FALSE)))","v":""},"",null,{"$f":"IF($C205=\"\",\"\",IF($G$12=\"\",\"\",HLOOKUP($G$12,別紙mast!$D$4:$K$7,4,FALSE)))","v":""},null,"",null,null,null,null,null,null,"","","","","","","","",null,"","","","","―",null,null,null,null,null,"","","","","","","","","","","","",null,null,null,null,null,"",""]
[null,176,null,"",null,null,null,null,null,null,null,null,null,null,null,"□","□","□","□",null,null,null,"□","□","□","□",null,null,null,"□","□","□","□","□","□",null,"□",null,"□","□",null,null,null,null,"","□","□","□","□","□","□","□",null,{"$f":"IF($G$12=\"\",\"\",IF($BA206=\"\",\"\",HLOOKUP($G$12,別紙mast!$D$4:$K$7,3,FALSE)))","v":""},"",{"$f":"IF($G$12=\"\",\"\",IF($BA206=\"\",\"\",HLOOKUP($G$12,別紙mast!$D$9:$K$11,3,FALSE)))","v":""},"",null,{"$f":"IF($C206=\"\",\"\",IF($G$12=\"\",\"\",HLOOKUP($G$12,別紙mast!$D$4:$K$7,4,FALSE)))","v":""},null,"",null,null,null,null,null,null,"","","","","","","","",null,"","","","","―",null,null,null,null,null,"","","","","","","","","","","","",null,null,null,null,null,"",""]
[null,177,null,"",null,null,null,null,null,null,null,null,null,null,null,"□","□","□","□",null,null,null,"□","□","□","□",null,null,null,"□","□","□","□","□","□",null,"□",null,"□","□",null,null,null,null,"","□","□","□","□","□","□","□",null,{"$f":"IF($G$12=\"\",\"\",IF($BA207=\"\",\"\",HLOOKUP($G$12,別紙mast!$D$4:$K$7,3,FALSE)))","v":""},"",{"$f":"IF($G$12=\"\",\"\",IF($BA207=\"\",\"\",HLOOKUP($G$12,別紙mast!$D$9:$K$11,3,FALSE)))","v":""},"",null,{"$f":"IF($C207=\"\",\"\",IF($G$12=\"\",\"\",HLOOKUP($G$12,別紙mast!$D$4:$K$7,4,FALSE)))","v":""},null,"",null,null,null,null,null,null,"","","","","","","","",null,"","","","","―",null,null,null,null,null,"","","","","","","","","","","","",null,null,null,null,null,"",""]
[null,178,null,"",null,null,null,null,null,null,null,null,null,null,null,"□","□","□","□",null,null,null,"□","□","□","□",null,null,null,"□","□","□","□","□","□",null,"□",null,"□","□",null,null,null,null,"","□","□","□","□","□","□","□",null,{"$f":"IF($G$12=\"\",\"\",IF($BA208=\"\",\"\",HLOOKUP($G$12,別紙mast!$D$4:$K$7,3,FALSE)))","v":""},"",{"$f":"IF($G$12=\"\",\"\",IF($BA208=\"\",\"\",HLOOKUP($G$12,別紙mast!$D$9:$K$11,3,FALSE)))","v":""},"",null,{"$f":"IF($C208=\"\",\"\",IF($G$12=\"\",\"\",HLOOKUP($G$12,別紙mast!$D$4:$K$7,4,FALSE)))","v":""},null,"",null,null,null,null,null,null,"","","","","","","","",null,"","","","","―",null,null,null,null,null,"","","","","","","","","","","","",null,null,null,null,null,"",""]
[null,179,null,"",null,null,null,null,null,null,null,null,null,null,null,"□","□","□","□",null,null,null,"□","□","□","□",null,null,null,"□","□","□","□","□","□",null,"□",null,"□","□",null,null,null,null,"","□","□","□","□","□","□","□",null,{"$f":"IF($G$12=\"\",\"\",IF($BA209=\"\",\"\",HLOOKUP($G$12,別紙mast!$D$4:$K$7,3,FALSE)))","v":""},"",{"$f":"IF($G$12=\"\",\"\",IF($BA209=\"\",\"\",HLOOKUP($G$12,別紙mast!$D$9:$K$11,3,FALSE)))","v":""},"",null,{"$f":"IF($C209=\"\",\"\",IF($G$12=\"\",\"\",HLOOKUP($G$12,別紙mast!$D$4:$K$7,4,FALSE)))","v":""},null,"",null,null,null,null,null,null,"","","","","","","","",null,"","","","","―",null,null,null,null,null,"","","","","","","","","","","","",null,null,null,null,null,"",""]
[null,180,null,"",null,null,null,null,null,null,null,null,null,null,null,"□","□","□","□",null,null,null,"□","□","□","□",null,null,null,"□","□","□","□","□","□",null,"□",null,"□","□",null,null,null,null,"","□","□","□","□","□","□","□",null,{"$f":"IF($G$12=\"\",\"\",IF($BA210=\"\",\"\",HLOOKUP($G$12,別紙mast!$D$4:$K$7,3,FALSE)))","v":""},"",{"$f":"IF($G$12=\"\",\"\",IF($BA210=\"\",\"\",HLOOKUP($G$12,別紙mast!$D$9:$K$11,3,FALSE)))","v":""},"",null,{"$f":"IF($C210=\"\",\"\",IF($G$12=\"\",\"\",HLOOKUP($G$12,別紙mast!$D$4:$K$7,4,FALSE)))","v":""},null,"",null,null,null,null,null,null,"","","","","","","","",null,"","","","","―",null,null,null,null,null,"","","","","","","","","","","","",null,null,null,null,null,"",""]
[null,181,null,"",null,null,null,null,null,null,null,null,null,null,null,"□","□","□","□",null,null,null,"□","□","□","□",null,null,null,"□","□","□","□","□","□",null,"□",null,"□","□",null,null,null,null,"","□","□","□","□","□","□","□",null,{"$f":"IF($G$12=\"\",\"\",IF($BA211=\"\",\"\",HLOOKUP($G$12,別紙mast!$D$4:$K$7,3,FALSE)))","v":""},"",{"$f":"IF($G$12=\"\",\"\",IF($BA211=\"\",\"\",HLOOKUP($G$12,別紙mast!$D$9:$K$11,3,FALSE)))","v":""},"",null,{"$f":"IF($C211=\"\",\"\",IF($G$12=\"\",\"\",HLOOKUP($G$12,別紙mast!$D$4:$K$7,4,FALSE)))","v":""},null,"",null,null,null,null,null,null,"","","","","","","","",null,"","","","","―",null,null,null,null,null,"","","","","","","","","","","","",null,null,null,null,null,"",""]
[null,182,null,"",null,null,null,null,null,null,null,null,null,null,null,"□","□","□","□",null,null,null,"□","□","□","□",null,null,null,"□","□","□","□","□","□",null,"□",null,"□","□",null,null,null,null,"","□","□","□","□","□","□","□",null,{"$f":"IF($G$12=\"\",\"\",IF($BA212=\"\",\"\",HLOOKUP($G$12,別紙mast!$D$4:$K$7,3,FALSE)))","v":""},"",{"$f":"IF($G$12=\"\",\"\",IF($BA212=\"\",\"\",HLOOKUP($G$12,別紙mast!$D$9:$K$11,3,FALSE)))","v":""},"",null,{"$f":"IF($C212=\"\",\"\",IF($G$12=\"\",\"\",HLOOKUP($G$12,別紙mast!$D$4:$K$7,4,FALSE)))","v":""},null,"",null,null,null,null,null,null,"","","","","","","","",null,"","","","","―",null,null,null,null,null,"","","","","","","","","","","","",null,null,null,null,null,"",""]
[null,183,null,"",null,null,null,null,null,null,null,null,null,null,null,"□","□","□","□",null,null,null,"□","□","□","□",null,null,null,"□","□","□","□","□","□",null,"□",null,"□","□",null,null,null,null,"","□","□","□","□","□","□","□",null,{"$f":"IF($G$12=\"\",\"\",IF($BA213=\"\",\"\",HLOOKUP($G$12,別紙mast!$D$4:$K$7,3,FALSE)))","v":""},"",{"$f":"IF($G$12=\"\",\"\",IF($BA213=\"\",\"\",HLOOKUP($G$12,別紙mast!$D$9:$K$11,3,FALSE)))","v":""},"",null,{"$f":"IF($C213=\"\",\"\",IF($G$12=\"\",\"\",HLOOKUP($G$12,別紙mast!$D$4:$K$7,4,FALSE)))","v":""},null,"",null,null,null,null,null,null,"","","","","","","","",null,"","","","","―",null,null,null,null,null,"","","","","","","","","","","","",null,null,null,null,null,"",""]
[null,184,null,"",null,null,null,null,null,null,null,null,null,null,null,"□","□","□","□",null,null,null,"□","□","□","□",null,null,null,"□","□","□","□","□","□",null,"□",null,"□","□",null,null,null,null,"","□","□","□","□","□","□","□",null,{"$f":"IF($G$12=\"\",\"\",IF($BA214=\"\",\"\",HLOOKUP($G$12,別紙mast!$D$4:$K$7,3,FALSE)))","v":""},"",{"$f":"IF($G$12=\"\",\"\",IF($BA214=\"\",\"\",HLOOKUP($G$12,別紙mast!$D$9:$K$11,3,FALSE)))","v":""},"",null,{"$f":"IF($C214=\"\",\"\",IF($G$12=\"\",\"\",HLOOKUP($G$12,別紙mast!$D$4:$K$7,4,FALSE)))","v":""},null,"",null,null,null,null,null,null,"","","","","","","","",null,"","","","","―",null,null,null,null,null,"","","","","","","","","","","","",null,null,null,null,null,"",""]
[null,185,null,"",null,null,null,null,null,null,null,null,null,null,null,"□","□","□","□",null,null,null,"□","□","□","□",null,null,null,"□","□","□","□","□","□",null,"□",null,"□","□",null,null,null,null,"","□","□","□","□","□","□","□",null,{"$f":"IF($G$12=\"\",\"\",IF($BA215=\"\",\"\",HLOOKUP($G$12,別紙mast!$D$4:$K$7,3,FALSE)))","v":""},"",{"$f":"IF($G$12=\"\",\"\",IF($BA215=\"\",\"\",HLOOKUP($G$12,別紙mast!$D$9:$K$11,3,FALSE)))","v":""},"",null,{"$f":"IF($C215=\"\",\"\",IF($G$12=\"\",\"\",HLOOKUP($G$12,別紙mast!$D$4:$K$7,4,FALSE)))","v":""},null,"",null,null,null,null,null,null,"","","","","","","","",null,"","","","","―",null,null,null,null,null,"","","","","","","","","","","","",null,null,null,null,null,"",""]
[null,186,null,"",null,null,null,null,null,null,null,null,null,null,null,"□","□","□","□",null,null,null,"□","□","□","□",null,null,null,"□","□","□","□","□","□",null,"□",null,"□","□",null,null,null,null,"","□","□","□","□","□","□","□",null,{"$f":"IF($G$12=\"\",\"\",IF($BA216=\"\",\"\",HLOOKUP($G$12,別紙mast!$D$4:$K$7,3,FALSE)))","v":""},"",{"$f":"IF($G$12=\"\",\"\",IF($BA216=\"\",\"\",HLOOKUP($G$12,別紙mast!$D$9:$K$11,3,FALSE)))","v":""},"",null,{"$f":"IF($C216=\"\",\"\",IF($G$12=\"\",\"\",HLOOKUP($G$12,別紙mast!$D$4:$K$7,4,FALSE)))","v":""},null,"",null,null,null,null,null,null,"","","","","","","","",null,"","","","","―",null,null,null,null,null,"","","","","","","","","","","","",null,null,null,null,null,"",""]
[null,187,null,"",null,null,null,null,null,null,null,null,null,null,null,"□","□","□","□",null,null,null,"□","□","□","□",null,null,null,"□","□","□","□","□","□",null,"□",null,"□","□",null,null,null,null,"","□","□","□","□","□","□","□",null,{"$f":"IF($G$12=\"\",\"\",IF($BA217=\"\",\"\",HLOOKUP($G$12,別紙mast!$D$4:$K$7,3,FALSE)))","v":""},"",{"$f":"IF($G$12=\"\",\"\",IF($BA217=\"\",\"\",HLOOKUP($G$12,別紙mast!$D$9:$K$11,3,FALSE)))","v":""},"",null,{"$f":"IF($C217=\"\",\"\",IF($G$12=\"\",\"\",HLOOKUP($G$12,別紙mast!$D$4:$K$7,4,FALSE)))","v":""},null,"",null,null,null,null,null,null,"","","","","","","","",null,"","","","","―",null,null,null,null,null,"","","","","","","","","","","","",null,null,null,null,null,"",""]
[null,188,null,"",null,null,null,null,null,null,null,null,null,null,null,"□","□","□","□",null,null,null,"□","□","□","□",null,null,null,"□","□","□","□","□","□",null,"□",null,"□","□",null,null,null,null,"","□","□","□","□","□","□","□",null,{"$f":"IF($G$12=\"\",\"\",IF($BA218=\"\",\"\",HLOOKUP($G$12,別紙mast!$D$4:$K$7,3,FALSE)))","v":""},"",{"$f":"IF($G$12=\"\",\"\",IF($BA218=\"\",\"\",HLOOKUP($G$12,別紙mast!$D$9:$K$11,3,FALSE)))","v":""},"",null,{"$f":"IF($C218=\"\",\"\",IF($G$12=\"\",\"\",HLOOKUP($G$12,別紙mast!$D$4:$K$7,4,FALSE)))","v":""},null,"",null,null,null,null,null,null,"","","","","","","","",null,"","","","","―",null,null,null,null,null,"","","","","","","","","","","","",null,null,null,null,null,"",""]
[null,189,null,"",null,null,null,null,null,null,null,null,null,null,null,"□","□","□","□",null,null,null,"□","□","□","□",null,null,null,"□","□","□","□","□","□",null,"□",null,"□","□",null,null,null,null,"","□","□","□","□","□","□","□",null,{"$f":"IF($G$12=\"\",\"\",IF($BA219=\"\",\"\",HLOOKUP($G$12,別紙mast!$D$4:$K$7,3,FALSE)))","v":""},"",{"$f":"IF($G$12=\"\",\"\",IF($BA219=\"\",\"\",HLOOKUP($G$12,別紙mast!$D$9:$K$11,3,FALSE)))","v":""},"",null,{"$f":"IF($C219=\"\",\"\",IF($G$12=\"\",\"\",HLOOKUP($G$12,別紙mast!$D$4:$K$7,4,FALSE)))","v":""},null,"",null,null,null,null,null,null,"","","","","","","","",null,"","","","","―",null,null,null,null,null,"","","","","","","","","","","","",null,null,null,null,null,"",""]
[null,190,null,"",null,null,null,null,null,null,null,null,null,null,null,"□","□","□","□",null,null,null,"□","□","□","□",null,null,null,"□","□","□","□","□","□",null,"□",null,"□","□",null,null,null,null,"","□","□","□","□","□","□","□",null,{"$f":"IF($G$12=\"\",\"\",IF($BA220=\"\",\"\",HLOOKUP($G$12,別紙mast!$D$4:$K$7,3,FALSE)))","v":""},"",{"$f":"IF($G$12=\"\",\"\",IF($BA220=\"\",\"\",HLOOKUP($G$12,別紙mast!$D$9:$K$11,3,FALSE)))","v":""},"",null,{"$f":"IF($C220=\"\",\"\",IF($G$12=\"\",\"\",HLOOKUP($G$12,別紙mast!$D$4:$K$7,4,FALSE)))","v":""},null,"",null,null,null,null,null,null,"","","","","","","","",null,"","","","","―",null,null,null,null,null,"","","","","","","","","","","","",null,null,null,null,null,"",""]
[null,191,null,"",null,null,null,null,null,null,null,null,null,null,null,"□","□","□","□",null,null,null,"□","□","□","□",null,null,null,"□","□","□","□","□","□",null,"□",null,"□","□",null,null,null,null,"","□","□","□","□","□","□","□",null,{"$f":"IF($G$12=\"\",\"\",IF($BA221=\"\",\"\",HLOOKUP($G$12,別紙mast!$D$4:$K$7,3,FALSE)))","v":""},"",{"$f":"IF($G$12=\"\",\"\",IF($BA221=\"\",\"\",HLOOKUP($G$12,別紙mast!$D$9:$K$11,3,FALSE)))","v":""},"",null,{"$f":"IF($C221=\"\",\"\",IF($G$12=\"\",\"\",HLOOKUP($G$12,別紙mast!$D$4:$K$7,4,FALSE)))","v":""},null,"",null,null,null,null,null,null,"","","","","","","","",null,"","","","","―",null,null,null,null,null,"","","","","","","","","","","","",null,null,null,null,null,"",""]
[null,192,null,"",null,null,null,null,null,null,null,null,null,null,null,"□","□","□","□",null,null,null,"□","□","□","□",null,null,null,"□","□","□","□","□","□",null,"□",null,"□","□",null,null,null,null,"","□","□","□","□","□","□","□",null,{"$f":"IF($G$12=\"\",\"\",IF($BA222=\"\",\"\",HLOOKUP($G$12,別紙mast!$D$4:$K$7,3,FALSE)))","v":""},"",{"$f":"IF($G$12=\"\",\"\",IF($BA222=\"\",\"\",HLOOKUP($G$12,別紙mast!$D$9:$K$11,3,FALSE)))","v":""},"",null,{"$f":"IF($C222=\"\",\"\",IF($G$12=\"\",\"\",HLOOKUP($G$12,別紙mast!$D$4:$K$7,4,FALSE)))","v":""},null,"",null,null,null,null,null,null,"","","","","","","","",null,"","","","","―",null,null,null,null,null,"","","","","","","","","","","","",null,null,null,null,null,"",""]
[null,193,null,"",null,null,null,null,null,null,null,null,null,null,null,"□","□","□","□",null,null,null,"□","□","□","□",null,null,null,"□","□","□","□","□","□",null,"□",null,"□","□",null,null,null,null,{"$f":"IF(AND($AP$28=\"■\",$AO$31<>\"\"),HLOOKUP($AO$31,$BY$30:$CC$230,ROW()-29,1),IF($AO223<>\"\",HLOOKUP($AO223,$BY$30:$CC$230,ROW()-29,1),\"\"))","v":""},"□","□","□","□","□","□","□",null,{"$f":"IF($G$12=\"\",\"\",IF($BA223=\"\",\"\",HLOOKUP($G$12,別紙mast!$D$4:$K$7,3,FALSE)))","v":""},"",{"$f":"IF($G$12=\"\",\"\",IF($BA223=\"\",\"\",HLOOKUP($G$12,別紙mast!$D$9:$K$11,3,FALSE)))","v":""},"",null,{"$f":"IF($C223=\"\",\"\",IF($G$12=\"\",\"\",HLOOKUP($G$12,別紙mast!$D$4:$K$7,4,FALSE)))","v":""},null,"",null,null,null,null,null,null,{"$f":"IF($C223=\"\",\"\",TRUNC(($CS223/$CW223)*100))","v":""},"","","","","","","",null,{"$f":"IF(OR(BP223=\"\",BT223=\"\"),\"\",IF(AND($BP223>=20,$BT223>=100,$BC223=\"○\",$BE223=\"○\"),\"○\",\"×\"))","v":""},{"$f":"IF(OR(BP223=\"\",BT223=\"\"),\"\",IF(AND($BP223>=20,$BT223>=100,$BC223=\"適\"),\"×\",IF(AND($BP223>=20,$BT223>=75,$BT223<100,$BC223=\"○\",$BE223=\"○\"),\"○\",\"×\")))","v":""},{"$f":"IF(OR(BP223=\"\",BT223=\"\"),\"\",IF(AND($BP223>=20,$BC223=\"○\",$BE223=\"○\"),\"○\",\"×\"))","v":""},{"$f":"IF(OR(BP223=\"\",BT223=\"\"),\"\",IF(AND($BP223>=20,$BT223>=50,$BT223<75,$BC223=\"○\",$BE223=\"○\"),\"○\",\"×\"))","v":""},"―",null,null,null,null,null,{"$f":"IF(OR($CE223=\"\",$BJ223=\"\"),\"\",$CE223*$J223)","v":""},{"$f":"IF(OR($CF223=\"\",$BJ223=\"\"),\"\",$CF223*$J223)","v":""},{"$f":"IF(OR($CG223=\"\",$BJ223=\"\"),\"\",$CG223*$J223)","v":""},{"$f":"IF(OR($CH223=\"\",$BJ223=\"\"),\"\",$CH223*$J223)","v":""},"","","","",{"$f":"IF($BJ223=\"\",\"\",IF($O$5=\"■\",0,SUM($BN223*$J223)))","v":""},{"$f":"IF($BJ223=\"\",\"\",IF($O$5=\"■\",0,SUM($BO223*$J223)))","v":""},"",{"$f":"IF($CW223=\"\",\"\",IF($O$5=\"■\",SUM($CW223-$DA223),SUM($CW223-$CZ223)))","v":""},null,null,null,null,null,{"$f":"IF($BJ223=\"\",\"\",IF(($BL223-$BJ223-$BN223)*0.001>=0,ROUNDUP(($BL223-$BJ223-$BN223)*0.001,1),ROUNDDOWN(($BL223-$BJ223-$BN223)*0.001,1)))&\"\"","v":""},{"$f":"IF($BJ223=\"\",\"\",IF(($BK223-$BJ223-$BN223)*0.001>=0,ROUNDUP(($BK223-$BJ223-$BN223)*0.001,1),ROUNDDOWN(($BK223-$BJ223-$BN223)*0.001,1)))&\"\"","v":""}]
[null,194,null,"",null,null,null,null,null,null,null,null,null,null,null,"□","□","□","□",null,null,null,"□","□","□","□",null,null,null,"□","□","□","□","□","□",null,"□",null,"□","□",null,null,null,null,"","□","□","□","□","□","□","□",null,{"$f":"IF($G$12=\"\",\"\",IF($BA224=\"\",\"\",HLOOKUP($G$12,別紙mast!$D$4:$K$7,3,FALSE)))","v":""},{"$f":"IF(OR(AND($C224<>\"\",$Q$28=\"■\"),AND($C224<>\"\",$R$28=\"■\")),\"○\",IF(AND($BA224=\"\"),\"\",IF($BA224<=$BB224,\"○\",\"×\")))","v":""},{"$f":"IF($G$12=\"\",\"\",IF($BA224=\"\",\"\",HLOOKUP($G$12,別紙mast!$D$9:$K$11,3,FALSE)))","v":""},{"$f":"IF(AND($C224<>\"\",$R$28=\"■\"),\"○\",IF(AND($BD224=\"\"),\"\",IF($BA224<=$BD224,\"○\",\"×\")))","v":""},null,{"$f":"IF($C224=\"\",\"\",IF($G$12=\"\",\"\",HLOOKUP($G$12,別紙mast!$D$4:$K$7,4,FALSE)))","v":""},null,{"$f":"IF(OR(AND($C224<>\"\",$Q$28=\"■\"),AND($C224<>\"\",$R$28=\"■\")),\"○\",IF(AND(BG224=\"\"),\"\",IF(BF224<=BG224,\"○\",\"×\")))","v":""},null,null,null,null,null,null,"",{"$f":"IF($C224=\"\",\"\",$CY224)","v":""},{"$f":"IF($C224=\"\",\"\",IF(OR($O$5=\"■\",$AD$28=\"■\",$AD224=\"■\"),\"ー\",SUM(1-$BS224)))","v":""},{"$f":"IF($C224=\"\",\"\",IF(OR($O$5=\"■\",$AD$28=\"■\",$AD224=\"■\"),\"ー\",CX224))","v":""},{"$f":"IF($C224=\"\",\"\",TRUNC(($CT224/$CW224)*100))","v":""},{"$f":"IF($C224=\"\",\"\",IF(OR($O$5=\"■\",$AD$28=\"■\",$AD224=\"■\"),\"ー\",SUM((100-$BT224)/100)))","v":""},{"$f":"IF($D224=\"\",\"\",$D224)","v":""},{"$f":"IF($G224=\"\",\"\",$G224)","v":""},null,"","","","","―",null,null,null,null,null,"","","","",{"$f":"IF($C224=\"\",\"\",SUM($BJ224*$J224))","v":""},{"$f":"IF($C224=\"\",\"\",SUM($BK224*$J224))","v":""},{"$f":"IF($C224=\"\",\"\",IF($O$5=\"■\",SUM($BK224*$J224),SUM($BL224*$J224)))","v":""},{"$f":"IF($C224=\"\",\"\",SUM($BM224*$J224))","v":""},"","",{"$f":"IF($CV224=\"\",\"\",($CW224-$CV224))","v":""},"",null,null,null,null,null,"",""]
[null,195,null,"",null,null,null,null,null,null,null,null,null,null,null,"□","□","□","□",null,null,null,"□","□","□","□",null,null,null,"□","□","□","□","□","□",null,"□",null,"□","□",null,null,null,null,"","□","□","□","□","□","□","□",null,{"$f":"IF($G$12=\"\",\"\",IF($BA225=\"\",\"\",HLOOKUP($G$12,別紙mast!$D$4:$K$7,3,FALSE)))","v":""},"",{"$f":"IF($G$12=\"\",\"\",IF($BA225=\"\",\"\",HLOOKUP($G$12,別紙mast!$D$9:$K$11,3,FALSE)))","v":""},"",null,{"$f":"IF($C225=\"\",\"\",IF($G$12=\"\",\"\",HLOOKUP($G$12,別紙mast!$D$4:$K$7,4,FALSE)))","v":""},null,"",null,null,null,null,null,null,"","","","","","","","",null,"","","","","―",null,null,null,null,null,"","","","","","","","","","","","",null,null,null,null,null,"",""]
[null,196,null,"",null,null,null,null,null,null,null,null,null,null,null,"□","□","□","□",null,null,null,"□","□","□","□",null,null,null,"□","□","□","□","□","□",null,"□",null,"□","□",null,null,null,null,"","□","□","□","□","□","□","□",null,{"$f":"IF($G$12=\"\",\"\",IF($BA226=\"\",\"\",HLOOKUP($G$12,別紙mast!$D$4:$K$7,3,FALSE)))","v":""},"",{"$f":"IF($G$12=\"\",\"\",IF($BA226=\"\",\"\",HLOOKUP($G$12,別紙mast!$D$9:$K$11,3,FALSE)))","v":""},"",null,{"$f":"IF($C226=\"\",\"\",IF($G$12=\"\",\"\",HLOOKUP($G$12,別紙mast!$D$4:$K$7,4,FALSE)))","v":""},null,"",null,null,null,null,null,null,"","","","","","","","",null,"","","","","―",null,null,null,null,null,"","","","","","","","","","","","",null,null,null,null,null,"",""]
[null,197,null,"",null,null,null,null,null,null,null,null,null,null,null,"□","□","□","□",null,null,null,"□","□","□","□",null,null,null,"□","□","□","□","□","□",null,"□",null,"□","□",null,null,null,null,"","□","□","□","□","□","□","□",null,{"$f":"IF($G$12=\"\",\"\",IF($BA227=\"\",\"\",HLOOKUP($G$12,別紙mast!$D$4:$K$7,3,FALSE)))","v":""},"",{"$f":"IF($G$12=\"\",\"\",IF($BA227=\"\",\"\",HLOOKUP($G$12,別紙mast!$D$9:$K$11,3,FALSE)))","v":""},"",null,{"$f":"IF($C227=\"\",\"\",IF($G$12=\"\",\"\",HLOOKUP($G$12,別紙mast!$D$4:$K$7,4,FALSE)))","v":""},null,"",null,null,null,null,null,null,"","","","","","","","",null,"","","","","―",null,null,null,null,null,"","","","","","","","","","","","",null,null,null,null,null,"",""]
[null,198,null,"",null,null,null,null,null,null,null,null,null,null,null,"□","□","□","□",null,null,null,"□","□","□","□",null,null,null,"□","□","□","□","□","□",null,"□",null,"□","□",null,null,null,null,"","□","□","□","□","□","□","□",null,{"$f":"IF($G$12=\"\",\"\",IF($BA228=\"\",\"\",HLOOKUP($G$12,別紙mast!$D$4:$K$7,3,FALSE)))","v":""},"",{"$f":"IF($G$12=\"\",\"\",IF($BA228=\"\",\"\",HLOOKUP($G$12,別紙mast!$D$9:$K$11,3,FALSE)))","v":""},"",null,{"$f":"IF($C228=\"\",\"\",IF($G$12=\"\",\"\",HLOOKUP($G$12,別紙mast!$D$4:$K$7,4,FALSE)))","v":""},null,"",null,null,null,null,null,null,"","","","","","","","",null,"","","","","―",null,null,null,null,null,"","","","","","","","","","","","",null,null,null,null,null,"",""]
[null,199,null,"",null,null,null,null,null,null,null,null,null,null,null,"□","□","□","□",null,null,null,"□","□","□","□",null,null,null,"□","□","□","□","□","□",null,"□",null,"□","□",null,null,null,null,"","□","□","□","□","□","□","□",null,{"$f":"IF($G$12=\"\",\"\",IF($BA229=\"\",\"\",HLOOKUP($G$12,別紙mast!$D$4:$K$7,3,FALSE)))","v":""},"",{"$f":"IF($G$12=\"\",\"\",IF($BA229=\"\",\"\",HLOOKUP($G$12,別紙mast!$D$9:$K$11,3,FALSE)))","v":""},"",null,{"$f":"IF($C229=\"\",\"\",IF($G$12=\"\",\"\",HLOOKUP($G$12,別紙mast!$D$4:$K$7,4,FALSE)))","v":""},null,"",null,null,null,null,null,null,"","","","","","","","",null,"","","","","―",null,null,null,null,null,"","","","","","","","","","","","",null,null,null,null,null,"",""]
[null,200,null,"",null,null,null,null,null,null,null,null,null,null,null,"□","□","□","□",null,null,null,"□","□","□","□",null,null,null,"□","□","□","□","□","□",null,"□",null,"□","□",null,null,null,null,"","□","□","□","□","□","□","□",null,{"$f":"IF($G$12=\"\",\"\",IF($BA230=\"\",\"\",HLOOKUP($G$12,別紙mast!$D$4:$K$7,3,FALSE)))","v":""},"",{"$f":"IF($G$12=\"\",\"\",IF($BA230=\"\",\"\",HLOOKUP($G$12,別紙mast!$D$9:$K$11,3,FALSE)))","v":""},"",null,{"$f":"IF($C230=\"\",\"\",IF($G$12=\"\",\"\",HLOOKUP($G$12,別紙mast!$D$4:$K$7,4,FALSE)))","v":""},null,"",null,null,null,null,null,null,"","","","","","","","",null,"","","","","―",null,null,null,null,null,"","","","","","","","","","","","",null,null,null,null,null,"",""]
[null,null,null,null,null,null,null,null,null,null,null,null,null,null,null,null,null,null,null,null,null,null,null,null,null,null,null,null,null,null,null,null,null,null,null,null,null,null,null,null,null,null,null,null,null,null,null,null,null,null,null,null,null,null,null,null,null,null,null,null,null,null,null,null,null,null,null,null,null,null,null,null,null,null,null,null,null,null,null,null,null,null,null,null,null,null,null,null,null,null,null,null,null,null,null,null,"",{"$f":"IF($CW231=\"\",\"\",SUM($CW231-$CZ231))","v":""},null,{"$f":"IF($CM231=\"\",\"\",(($CO231-$CM231)/1000))","v":""},{"$f":"IF($CP231=\"\",\"\",(($CP231-$CM231))/1000)","v":""}]
[null,null,null,null,null,null,null,null,null,null,null,null,null,null,null,null,null,null,null,null,null,null,null,null,null,null,null,null,null,null,null,null,null,null,null,null,null,null,null,null,null,null,null,null,null,null,null,null,null,null,null,null,null,null,null,null,null,null,null,null,null,null,null,null,null,null,null,null,null,null,null,null,null,null,null,null,null,null,null,null,null,null,null,null,null,null,null,null,null,null,null,null,null,null,null,null,"",{"$f":"IF($CW232=\"\",\"\",SUM($CW232-$CZ232))","v":""},null,"",""]

{"sheet":"別紙解説","index":3,"n_rows":1,"n_cols":1,"rows_kept":1,"cut":false,"hidden":false,"merged":[[0,0,2,8]]}
["　別紙の入力方法について"]

{"sheet":"ZEH等チェック（戸建てのみ）","index":4,"n_rows":21,"n_cols":48,"rows_kept":21,"cut":false,"hidden":false,"merged":[[21,2,21,12],[13,2,13,14],[10,2,10,3],[11,2,11,3],[8,2,8,3],[9,2,9,3],[15,2,15,10],[16,2,16,10],[17,2,17,10],[18,2,18,10],[19,2,19,10],[6,4,6,18],[7,4,7,18],[1,2,1,12],[1,13,1,35],[6,2,6,3],[7,2,7,3],[5,19,5,25],[6,19,6,25],[7,19,7,25],[5,2,5,18],[2,2,3,25],[8,19,8,25],[9,19,9,25],[10,19,10,25],[11,19,11,25],[8,4,8,18],[9,4,9,18],[10,4,10,18],[11,4,11,18],[14,19,14,25],[15,19,17,25],[18,19,19,25],[18,11,18,18],[19,11,19,18],[14,15,14,18],[14,11,14,14],[15,15,15,18],[15,11,15,14],[16,11,16,14],[16,15,16,18],[17,11,17,14],[17,15,17,18]]}
[]
[null,null,"【参考｜BELS評価書表示チェック】",null,null,null,null,null,null,null,null,null,null,"※提出用図書ではありません。"]
[null,null,"ZEH等計算シート(評価協会公開)にて算出される数値とBELS評価書に表記される数値に誤差が生じることがあるため、ZEH等計算シートの削減率の数値と基準値とが一致する場合等は参考までにご確認ください。"]
[]
[null,null,"１．数値の入力",null,null,null,null,null,null,null,null,null,"□","再エネ設置なし",null,null,null,"□","ZEH等の表示を希望しない"]
[null,null,null,null,null,null,null,null,null,null,null,null,null,null,null,null,null,null,null,"入力欄"]
[null,null,"①",null,"その他の設備［MJ／年］",null,null,null,null,null,null,null,null,null,null,null,null,null,null,null,null,null,null,null,null,null,null,null,null,null,null,null,null,null,null,null,null,null,null,null,null,null,null,null,null,null,"削減量（再エネ除き）",{"$f":"IF(T9=\"\",\"\",(AV11-AV10))","v":""}]
[null,null,"②",null,"【再エネ含み】 設計一次エネルギー消費量［MJ／年］",null,null,null,null,null,null,null,null,null,null,null,null,null,null,null,null,null,null,null,null,null,null,null,null,null,null,null,null,null,null,null,null,null,null,null,null,null,null,null,null,null,"削減量（再エネ含み）",{"$f":"IF(T8=\"\",\"\",IF(M5=\"■\",SUM(AV11-AV14),SUM(AV11-AV12)))","v":""}]
[null,null,"③",null,"【再エネ除き】 設計一次エネルギー消費量［MJ／年］",null,null,null,null,null,null,null,null,null,null,null,null,null,null,null,null,null,null,null,null,null,null,null,null,null,null,null,null,null,null,null,null,null,null,null,null,null,null,null,null,null,"設計一次エネ（PV+CGS） [GJ/年]　換算",{"$f":"IF(T8=\"\",\"\",ROUNDUP(((T8-T7)/1000),1))","v":""}]
[null,null,"④",null," 基準一次エネルギー消費量［MJ／年］",null,null,null,null,null,null,null,null,null,null,null,null,null,null,null,null,null,null,null,null,null,null,null,null,null,null,null,null,null,null,null,null,null,null,null,null,null,null,null,null,null,"設計一次エネ（CGS） [GJ/年]　換算",{"$f":"IF(T8=\"\",\"\",IF(M5=\"■\",(ROUNDUP((T8-T7)/1000,1)),ROUNDUP((T9-T7)/1000,1))&\"\")","v":""}]
[null,null,"⑤",null,"太陽光発電設備（発電量）［MJ］",null,null,null,null,null,null,null,null,null,null,null,null,null,null,null,null,null,null,null,null,null,null,null,null,null,null,null,null,null,null,null,null,null,null,null,null,null,null,null,null,null,"基準一次エネ [GJ/年]換算",{"$f":"IF(T10=\"\",\"\",(ROUNDUP((T10-T7)/1000,1)))","v":""}]
[null,null,"⑥",null,"太陽光発電設備（売電量）［MJ］",null,null,null,null,null,null,null,null,null,null,null,null,null,null,null,null,null,null,null,null,null,null,null,null,null,null,null,null,null,null,null,null,null,null,null,null,null,null,null,null,null,"設計一次エネ（自家消費+売電） [GJ/年]　換算_再エネあり",{"$f":"IF(T9=\"\",\"\",IF((T9-T7-T11)*0.001>=0,ROUNDUP((T9-T7-T11)*0.001,1),ROUNDDOWN((T9-T7-T11)*0.001,1)))&\"\"","v":""}]
[]
[null,null,"２．結果※",null,null,null,null,null,null,null,null,null,null,null,null,null,null,null,null,null,null,null,null,null,null,null,null,null,null,null,null,null,null,null,null,null,null,null,null,null,null,null,null,null,null,null,"設計一次エネ（自家消費+売電） [GJ/年]　換算＿再エネなし",{"$f":"IF(T8=\"\",\"\",IF((T8-T7-T11)*0.001>=0,ROUNDUP((T8-T7-T11)*0.001,1),ROUNDDOWN((T8-T7-T11)*0.001,1)))&\"\"","v":""}]
[null,null,null,null,null,null,null,null,null,null,null,"削減率",null,null,null,"BEI値",null,null,null,null,null,null,null,null,null,null,null,null,null,null,null,null,null,null,null,null,null,null,null,null,null,null,null,null,null,null,"設計一次エネ（PV +CGS） [GJ/年]　（その他除き）",{"$f":"IF(T8=\"\",\"\",ROUNDUP((T8-T7)/1000,2))","v":""}]
[null,null,"再エネなし",null,null,null,null,null,null,null,null,{"$f":"IF(AV7=\"\",\"\",TRUNC((AV7/AV11)*100))","v":""},null,null,null,{"$f":"IF(T7=\"\",\"\",ROUNDUP((AV10/AV11),2))","v":""},null,null,null,"評価書 表面 に表示",null,null,null,null,null,null,null,null,null,null,null,null,null,null,null,null,null,null,null,null,null,null,null,null,null,null,"設計一次エネ（CGS） [GJ/年]　（その他除き）",{"$f":"IF(T9=\"\",\"\",ROUNDUP((T9-T7)/1000,2))","v":""}]
[null,null,"再エネあり（自家消費分）",null,null,null,null,null,null,null,null,{"$f":"IF(T7=\"\",\"\",IF(OR(M5=\"■\"),\"ー\",SUM(1-P17)))","v":""},null,null,null,{"$f":"IF(T7=\"\",\"\",IF(OR(M5=\"■\"),\"ー\",(ROUNDUP(AV9/AV11,2))))","v":""},null,null,null,null,null,null,null,null,null,null,null,null,null,null,null,null,null,null,null,null,null,null,null,null,null,null,null,null,null,null,"基準一次エネ [GJ/年]　（その他除き）",{"$f":"IF(T10=\"\",\"\",ROUNDUP(((T10-T7)/1000),2))","v":""}]
[null,null,"再エネあり（自家消費分+売電）",null,null,null,null,null,null,null,null,{"$f":"IF(T7=\"\",\"\",IF(OR(M5=\"■\"),\"ー\",TRUNC((AV8/AV11)*100)))","v":""},null,null,null,{"$f":"IF(T7=\"\",\"\",IF(OR(M5=\"■\"),\"ー\",SUM((100-L18)/100)))","v":""}]
[null,null,"　再エネ除く 削減率",null,null,null,null,null,null,null,null,{"$f":"IF(AV7=\"\",\"\",IF(R5=\"■\",\"ー\",TRUNC((AV7/AV11)*100)))","v":""},null,null,null,null,null,null,null,"評価書 裏面 に表示"]
[null,null,"　再エネ含む 削減率",null,null,null,null,null,null,null,null,{"$f":"IF(AV8=\"\",\"\",IF(R5=\"■\",\"ー\",TRUNC((AV8/AV11)*100)))","v":""}]
[null,null,"※結果に表示される数値を保証するものではございません。予めご了承ください。"]

{"sheet":"更新履歴","index":5,"n_rows":46,"n_cols":4,"rows_kept":46,"cut":false,"hidden":false,"merged":[]}
[]
[null,"●変更履歴"]
[null,"版","日付","内容"]
[null,"HPJ-555-1","2016-03-25","・新規作成"]
[null,"HPJ-555-2","2016-03-27","・第１面　ルームコンディショナー　⇒　ルームエアコンディショナーに修正"]
[null,null,null,"・別紙１、別紙２、別紙３を作成"]
[null,"HPJ-555-3","2018-05-15","・別紙３　8.参考情報　「二次エネルギー消費量に関する項目以外の情報」を追記"]
[null,"HPJ-555-4","2018-07-09","・第１面　住宅の種類　「店舗等併用住宅の住戸」、　「複合建築物（住宅部分全体）」の追加"]
[null,null,"（改定2018/6/15）","・別紙１、別紙２、別紙３　数値の注意事項　「小数点」⇒「小数」"]
[null,null,null,"・別紙１　住宅の種類　「店舗等併用住宅の住戸」の追加"]
[null,null,null,"・別紙１　3.　「ZEHマーク」、「ゼロエネ相当」等に関する事項　に修正"]
[null,null,null,"・別紙２　住宅の種類　「複合建築物（住宅部分全体）」の追加"]
[null,null,null,"・別紙２　3.　「ZEH-Mマーク」に関する事項　に修正"]
[null,null,null,"・別紙３シート　申請書第六面改定に伴う第六面部分全面修正、第６面・別紙３の印刷分離"]
[null,null,null,"・別紙３　住宅の種類　「複合建築物 住宅部分全体のみ」の追加"]
[null,"HPJ-555-5","2019-12-18","・第１面用　開口部の断熱性能等のプルダウン（2020/4/1以降の８地域変更分）を追加"]
[null,null,null,"同上プルダウン　2020/4/1以降利用ができないものにはその旨を追加"]
[null,null,null,"・別紙２"]
[null,null,null,"1．（１）外皮基準を住戸評価、住棟評価により数値が表示されるように修正"]
[null,null,null,"1．（１）８地域のηAC値の基準値を追加（2020/4/1以降の【 】内の数値を基準値とする旨追記）"]
[null,null,null,"2.　（１）共同住宅等の住戸部分を別紙3-2より引用されるように修正"]
[null,null,null,"2.　（２）共用部分の評価　対象・除外の追加"]
[null,null,null,"・別紙３について全面改訂（別紙３－１、３－２へ分割）"]
[null,null,null,"　　　住棟又は住宅部分の全体を評価する場合は、MJによる合計値での算定を行う必要がある"]
[null,null,null,"　　　ZEH-M用の各合計値等の欄の作成"]
[null,null,null,"・別紙１　3.　「ZEHマーク」、「ゼロエネ相当」等に関する事項"]
[null,null,null,"・別紙２　3.　「ZEH-Mマーク」に関する事項"]
[null,null,null,"・別紙３　３－１　3.　「ZEHマーク」、「ゼロエネ相当」等に関する事項、３－２内"]
[null,null,null,"　　　「再生可能エネルギー」　⇒　「再生可能エネルギー等」に修正"]
[]
[null,"HPJ-555-6","2022-11-07","・第一面　２．外皮に関する事項 及び ３．一次エネルギー消費量に関する事項 の適用基準に「誘導仕様基準」を追加"]
[null,null,null,"・別紙1　　１．　外壁、窓等を通しての熱の損失の防止に関する事項　及び　2.　一次エネルギー消費量に関する事項に\n　　　　　　　「誘導仕様基準」を追加"]
[]
[null,"HPJ-555-7","2023-03-15","・第一面　２．外皮に関する事項に「住戸間の温度差係数」に関する申告欄を追加"]
[]
[null,"HPJ-920-１","2023-04-25","・新規作成（戸建て用と分離）"]
[null,null,null,"・別紙２への転記を別紙３からの自動計算ではなく、手入力に変更（別紙３以外の集計表使用要望ありのため）"]
[null,"HPJ-920-２","2023-12-01","・UA値及びηAC値の最も性能が悪い値を表示するように変更"]
[]
[null,"HPJ-920-3","2024-04-01","・告示新設に伴う改訂"]
[]
[null,"HPJ-920-4","2024-10-10","・住戸のZEH判定を追加"]
[]
[null,"HPJ-920-5","2025-04-01","・戸建て版と共同版を統合"]
[null,"HPJ-920-5","2025-04-01","・（別紙）の入力省力化に伴う改訂"]
[null,"HPJ-920-7","2025-11-04","・（別紙）一次エネルギー消費量計算書の自動転記機能の追加"]

{"sheet":"master","index":6,"n_rows":100,"n_cols":19,"rows_kept":100,"cut":false,"hidden":true,"merged":[]}
[]
[null,"BELS（住宅用）/　設計内容説明書マスタ"]
[]
[null,"断熱材",null,"開口部の熱貫流率",null,"開口部の日射遮蔽仕様",null,"建築物の用途",null,"S造\n外装材の熱抵抗",null,null,"構造",null,"一部●●造",null,"共同集計表","太陽光発電設備の共有に関して","主たる廊下の形状"]
[]
[null,null,null,null,null,null,null,null,null,null,null,null,"（構造種別を選択）",null,"一部木造",null,"設計内容説明書(別紙)による","共有なし","大部分が屋外"]
[null,null,null,"---▼仕様基準",null,"---▼地域の区分が８地域の場合",null,"長屋",null,"---▼仕様基準",null,null,"木造（軸組構法）",null,"一部鉄骨造",null,null,"住戸、共用部で共有","大部分が屋内"]
[null,"該当箇所なし",null,"2.3以下",null,"開口部の日射熱取得率が0.52以下",null,"共同住宅",null,"0.5以上",null,null,"木造（枠組構法）",null,"一部鉄筋コンクリート造"]
[null,"グラスウール断熱材　10K相当",null,"3.5以下",null,"開口部の日射熱取得率が0.65以下",null,"■ 選択なし（自由記述）",null,"0.1以上0.5未満",null,null,"鉄骨造",null,"一部その他"]
[null,"グラスウール断熱材　16K相当",null,"4.7以下",null,"付属部材を設ける",null,null,null,"0.1未満",null,null,"鉄筋コンクリート造"]
[null,"グラスウール断熱材　20K相当",null,"---▼誘導仕様基準",null,"付属部材を設ける",null,null,null,"---▼誘導仕様基準",null,null,"その他"]
[null,"グラスウール断熱材　24K相当",null,"1.9以下",null,null,null,null,null,"0.5以上"]
[null,"グラスウール断熱材　32K相当",null,"2.3以下",null,null,null,null,null,"0.1以上0.5未満"]
[null,"高性能グラスウール断熱材　16K相当",null,"2.9以下",null,null,null,null,null,"0.1未満"]
[null,"高性能グラスウール断熱材　24K相当"]
[null,"高性能グラスウール断熱材　32K相当"]
[null,"高性能グラスウール断熱材　40K相当"]
[null,"高性能グラスウール断熱材　48K相当"]
[null,"吹込み用グラスウール　13K相当"]
[null,"吹込み用グラスウール　18K相当"]
[null,"吹込み用グラスウール　30K相当"]
[null,"吹込み用グラスウール　35K相当"]
[null,"吹付けロックウール"]
[null,"ロックウール断熱材（マット）"]
[null,"ロックウール断熱材（フェルト）"]
[null,"ロックウール断熱材（ボード）"]
[null,"吹込み用ロックウール　25K相当"]
[null,"吹込み用ロックウール　65K相当"]
[null,"吹込み用セルローズファイバー　25K"]
[null,"吹込み用セルローズファイバー　45K"]
[null,"吹込み用セルローズファイバー　55K"]
[null,"押出法ポリスチレンフォーム　保温板　1種"]
[null,"押出法ポリスチレンフォーム　保温板　2種"]
[null,"押出法ポリスチレンフォーム　保温板　3種"]
[null,"A種ポリエチレンフォーム　保温板　1種2号"]
[null,"A種ポリエチレンフォーム　保温板　2種"]
[null,"ビーズ法ポリスチレンフォーム　保温板　特号"]
[null,"ビーズ法ポリスチレンフォーム　保温板　1号"]
[null,"ビーズ法ポリスチレンフォーム　保温板　2号"]
[null,"ビーズ法ポリスチレンフォーム　保温板　3号"]
[null,"ビーズ法ポリスチレンフォーム　保温板　4号"]
[null,"硬質ウレタンフォーム　保温板　2種1号"]
[null,"硬質ウレタンフォーム　保温板　2種2号"]
[null,"吹付け硬質ウレタンフォームA種1"]
[null,"吹付け硬質ウレタンフォームA種1H"]
[null,"吹付け硬質ウレタンフォームA種3"]
[null,"フェノールフォーム　保温板　1種1号"]
[null,"フェノールフォーム　保温板　1種2号"]
[null,"---▼JIS A9521：2014 建築用断熱材"]
[null,"JIS値 ビーズ法ポリスチレンフォーム断熱材 1号"]
[null,"JIS値 ビーズ法ポリスチレンフォーム断熱材 2号"]
[null,"JIS値 ビーズ法ポリスチレンフォーム断熱材 3号"]
[null,"JIS値 ビーズ法ポリスチレンフォーム断熱材 4号"]
[null,"JIS値 押出法ポリスチレンフォーム断熱材 1種 bA"]
[null,"JIS値 押出法ポリスチレンフォーム断熱材 1種 bB"]
[null,"JIS値 押出法ポリスチレンフォーム断熱材 1種 bC"]
[null,"JIS値 押出法ポリスチレンフォーム断熱材 2種 bA"]
[null,"JIS値 押出法ポリスチレンフォーム断熱材 2種 bB"]
[null,"JIS値 押出法ポリスチレンフォーム断熱材 2種 bC"]
[null,"JIS値 押出法ポリスチレンフォーム断熱材 3種 aA"]
[null,"JIS値 押出法ポリスチレンフォーム断熱材 3種 aB"]
[null,"JIS値 押出法ポリスチレンフォーム断熱材 3種 aC"]
[null,"JIS値 押出法ポリスチレンフォーム断熱材 3種 aD"]
[null,"JIS値 押出法ポリスチレンフォーム断熱材 3種 bA"]
[null,"JIS値 押出法ポリスチレンフォーム断熱材 3種 bB"]
[null,"JIS値 押出法ポリスチレンフォーム断熱材 3種 bC"]
[null,"JIS値 押出法ポリスチレンフォーム断熱材 3種 bD"]
[null,"JIS値 硬質ウレタンフォーム断熱材 1種"]
[null,"JIS値 硬質ウレタンフォーム断熱材 2種 1号"]
[null,"JIS値 硬質ウレタンフォーム断熱材 2種 2号"]
[null,"JIS値 硬質ウレタンフォーム断熱材 2種 3号"]
[null,"JIS値 硬質ウレタンフォーム断熱材 2種 4号"]
[null,"JIS値 ポリエチレンフォーム断熱材 1種 1号"]
[null,"JIS値 ポリエチレンフォーム断熱材 1種 2号"]
[null,"JIS値 ポリエチレンフォーム断熱材 2種"]
[null,"JIS値 ポリエチレンフォーム断熱材 3種"]
[null,"JIS値 フェノールフォーム断熱材 1種 1号　AⅠ､AⅡ"]
[null,"JIS値 フェノールフォーム断熱材 1種 1号　BⅠ､BⅡ"]
[null,"JIS値 フェノールフォーム断熱材 1種 1号　CⅠ､CⅡ"]
[null,"JIS値 フェノールフォーム断熱材 1種 1号　DⅠ､DⅡ"]
[null,"JIS値 フェノールフォーム断熱材 1種 1号　EⅠ､EⅡ"]
[null,"JIS値 フェノールフォーム断熱材 1種 2号　AⅠ､AⅡ"]
[null,"JIS値 フェノールフォーム断熱材 1種 2号　BⅠ､BⅡ"]
[null,"JIS値 フェノールフォーム断熱材 1種 2号　CⅠ､CⅡ"]
[null,"JIS値 フェノールフォーム断熱材 1種 2号　DⅠ､DⅡ"]
[null,"JIS値 フェノールフォーム断熱材 1種 2号　EⅠ､EⅡ"]
[null,"JIS値 フェノールフォーム断熱材 1種 3号　AⅠ､AⅡ"]
[null,"JIS値 フェノールフォーム断熱材 1種 3号　BⅠ､BⅡ"]
[null,"JIS値 フェノールフォーム断熱材 1種 3号　CⅠ､CⅡ"]
[null,"JIS値 フェノールフォーム断熱材 1種 3号　DⅠ､DⅡ"]
[null,"JIS値 フェノールフォーム断熱材 1種 3号　EⅠ､EⅡ"]
[null,"JIS値 フェノールフォーム断熱材 2種 1号　AⅠ､AⅡ"]
[null,"JIS値 フェノールフォーム断熱材 2種 2号　AⅠ､AⅡ"]
[null,"JIS値 フェノールフォーム断熱材 2種 3号　AⅠ､AⅡ"]
[null,"JIS値 フェノールフォーム断熱材 3種 1号　AⅠ､AⅡ"]
[null,"---▼JIS A9526：2013 建築物断熱用吹付け硬質ウレタンフォーム"]
[null,"JIS値 建築物断熱用吹付け硬質ウレタンフォームA種1"]
[null,"JIS値 建築物断熱用吹付け硬質ウレタンフォームA種2"]
[null,"JIS値 建築物断熱用吹付け硬質ウレタンフォームA種3"]
[null,"JIS値 建築物断熱用吹付け硬質ウレタンフォームB種"]

{"sheet":"別紙mast","index":7,"n_rows":14,"n_cols":15,"rows_kept":14,"cut":false,"hidden":true,"merged":[]}
[null,null,null,null,null,null,null,null,null,null,null,null,null,null," ５．「ZEH」に関する事項"]
[null,"外皮性能の基準値",null,"地域区分"]
[null,null,null,1,2,3,4,5,6,7,8,null,null,null,"記載なし"]
[null,null,null,"１地域","２地域","３地域","４地域","５地域","６地域","７地域","８地域",null,null,null,"『ZEH』"]
[null,"住戸評価",null,1,2,3,4,5,6,7,8,null,null,null,"NearlｙZEH"]
[null,"外皮平均熱貫流率","UA",0.46,0.46,0.56000000000000005,0.75,0.87,0.87,0.87,"－",null,null,null,"ZEH Oriented"]
[null,"外皮平均日射熱取得率","ηAC","－","－","－","－",3,2.8,2.7,6.7,null,null,null,"ZEH Ready"]
[null,null,null,1,2,3,4,5,6,7,8]
[null,null,null,"１地域","２地域","３地域","４地域","５地域","６地域","７地域","８地域"]
[null,"住戸評価",null,1,2,3,4,5,6,7,8]
[null,"ZEH外皮基準","UA",0.4,0.4,0.5,0.6,0.6,0.6,0.6,"－"]
[null,"住棟評価"]
[null,"外皮平均熱貫流率","UA"]
[null,"外皮平均日射熱取得率","ηAC"]